| Back to Multiple platform build/check report for BioC 3.13 |
|
This page was generated on 2021-10-15 15:06:04 -0400 (Fri, 15 Oct 2021).
|
To the developers/maintainers of the FGNet package: - Please allow up to 24 hours (and sometimes 48 hours) for your latest push to git@git.bioconductor.org:packages/FGNet.git to reflect on this report. See How and When does the builder pull? When will my changes propagate? here for more information. - Make sure to use the following settings in order to reproduce any error or warning you see on this page. |
| Package 631/2041 | Hostname | OS / Arch | INSTALL | BUILD | CHECK | BUILD BIN | ||||||||
| FGNet 3.26.0 (landing page) Sara Aibar
| nebbiolo1 | Linux (Ubuntu 20.04.2 LTS) / x86_64 | OK | OK | OK | |||||||||
| tokay2 | Windows Server 2012 R2 Standard / x64 | OK | OK | OK | OK | |||||||||
| machv2 | macOS 10.14.6 Mojave / x86_64 | OK | OK | OK | OK | |||||||||
| Package: FGNet |
| Version: 3.26.0 |
| Command: C:\cygwin\bin\curl.exe -O http://155.52.207.165/BBS/3.13/bioc/src/contrib/FGNet_3.26.0.tar.gz && rm -rf FGNet.buildbin-libdir && mkdir FGNet.buildbin-libdir && C:\Users\biocbuild\bbs-3.13-bioc\R\bin\R.exe CMD INSTALL --merge-multiarch --build --library=FGNet.buildbin-libdir FGNet_3.26.0.tar.gz && C:\Users\biocbuild\bbs-3.13-bioc\R\bin\R.exe CMD INSTALL FGNet_3.26.0.zip && rm FGNet_3.26.0.tar.gz FGNet_3.26.0.zip |
| StartedAt: 2021-10-14 08:14:58 -0400 (Thu, 14 Oct 2021) |
| EndedAt: 2021-10-14 08:16:14 -0400 (Thu, 14 Oct 2021) |
| EllapsedTime: 76.0 seconds |
| RetCode: 0 |
| Status: OK |
##############################################################################
##############################################################################
###
### Running command:
###
### C:\cygwin\bin\curl.exe -O http://155.52.207.165/BBS/3.13/bioc/src/contrib/FGNet_3.26.0.tar.gz && rm -rf FGNet.buildbin-libdir && mkdir FGNet.buildbin-libdir && C:\Users\biocbuild\bbs-3.13-bioc\R\bin\R.exe CMD INSTALL --merge-multiarch --build --library=FGNet.buildbin-libdir FGNet_3.26.0.tar.gz && C:\Users\biocbuild\bbs-3.13-bioc\R\bin\R.exe CMD INSTALL FGNet_3.26.0.zip && rm FGNet_3.26.0.tar.gz FGNet_3.26.0.zip
###
##############################################################################
##############################################################################
% Total % Received % Xferd Average Speed Time Time Time Current
Dload Upload Total Spent Left Speed
0 0 0 0 0 0 0 0 --:--:-- --:--:-- --:--:-- 0
76 1458k 76 1111k 0 0 1799k 0 --:--:-- --:--:-- --:--:-- 1798k
100 1458k 100 1458k 0 0 1998k 0 --:--:-- --:--:-- --:--:-- 1998k
install for i386
* installing *source* package 'FGNet' ...
** using staged installation
** R
** data
** inst
** byte-compile and prepare package for lazy loading
** help
*** installing help indices
converting help for package 'FGNet'
finding HTML links ... done
FGNet-package html
FGNet_GUI html
FGNet_report html
analyzeNetwork html
clustersDistance html
data html
fea2incidMat html
fea_gage html
fea_gtLinker html
fea_topGO html
format_david html
format_results html
functionalNetwork html
getTerms html
keywordsTerm html
plotGoAncestors html
readGeneTermSets html
** building package indices
** installing vignettes
** testing if installed package can be loaded from temporary location
** testing if installed package can be loaded from final location
** testing if installed package keeps a record of temporary installation path
install for x64
* installing *source* package 'FGNet' ...
** testing if installed package can be loaded
* MD5 sums
packaged installation of 'FGNet' as FGNet_3.26.0.zip
* DONE (FGNet)
* installing to library 'C:/Users/biocbuild/bbs-3.13-bioc/R/library'
package 'FGNet' successfully unpacked and MD5 sums checked