| Back to Multiple platform build/check report for BioC 3.13 |
|
This page was generated on 2021-10-15 15:06:04 -0400 (Fri, 15 Oct 2021).
|
To the developers/maintainers of the ExiMiR package: - Please allow up to 24 hours (and sometimes 48 hours) for your latest push to git@git.bioconductor.org:packages/ExiMiR.git to reflect on this report. See How and When does the builder pull? When will my changes propagate? here for more information. - Make sure to use the following settings in order to reproduce any error or warning you see on this page. |
| Package 603/2041 | Hostname | OS / Arch | INSTALL | BUILD | CHECK | BUILD BIN | ||||||||
| ExiMiR 2.34.0 (landing page) Sylvain Gubian
| nebbiolo1 | Linux (Ubuntu 20.04.2 LTS) / x86_64 | OK | OK | OK | |||||||||
| tokay2 | Windows Server 2012 R2 Standard / x64 | OK | OK | OK | OK | |||||||||
| machv2 | macOS 10.14.6 Mojave / x86_64 | OK | OK | OK | OK | |||||||||
| Package: ExiMiR |
| Version: 2.34.0 |
| Command: rm -rf ExiMiR.buildbin-libdir && mkdir ExiMiR.buildbin-libdir && C:\Users\biocbuild\bbs-3.13-bioc\R\bin\R.exe CMD INSTALL --merge-multiarch --build --library=ExiMiR.buildbin-libdir ExiMiR_2.34.0.tar.gz |
| StartedAt: 2021-10-15 09:13:12 -0400 (Fri, 15 Oct 2021) |
| EndedAt: 2021-10-15 09:14:11 -0400 (Fri, 15 Oct 2021) |
| EllapsedTime: 59.1 seconds |
| RetCode: 0 |
| Status: OK |
| PackageFile: ExiMiR_2.34.0.zip |
| PackageFileSize: 1.184 MiB |
##############################################################################
##############################################################################
###
### Running command:
###
### rm -rf ExiMiR.buildbin-libdir && mkdir ExiMiR.buildbin-libdir && C:\Users\biocbuild\bbs-3.13-bioc\R\bin\R.exe CMD INSTALL --merge-multiarch --build --library=ExiMiR.buildbin-libdir ExiMiR_2.34.0.tar.gz
###
##############################################################################
##############################################################################
install for i386
* installing *source* package 'ExiMiR' ...
** using staged installation
** R
** data
** inst
** byte-compile and prepare package for lazy loading
** help
*** installing help indices
converting help for package 'ExiMiR'
finding HTML links ... done
ExiMiR-package html
GSE19183 html
GSE20122 html
NormiR html
NormiR.methods html
ReadExi html
bg.correct.miR html
createAB html
galenv html
make.gal.env html
norm.miR html
summarize.miR html
** building package indices
** installing vignettes
** testing if installed package can be loaded from temporary location
** testing if installed package can be loaded from final location
** testing if installed package keeps a record of temporary installation path
install for x64
* installing *source* package 'ExiMiR' ...
** testing if installed package can be loaded
* MD5 sums
packaged installation of 'ExiMiR' as ExiMiR_2.34.0.zip
* DONE (ExiMiR)