| Back to Multiple platform build/check report for BioC 3.13 |
|
This page was generated on 2021-10-15 15:06:04 -0400 (Fri, 15 Oct 2021).
|
To the developers/maintainers of the ENmix package: - Please allow up to 24 hours (and sometimes 48 hours) for your latest push to git@git.bioconductor.org:packages/ENmix.git to reflect on this report. See How and When does the builder pull? When will my changes propagate? here for more information. - Make sure to use the following settings in order to reproduce any error or warning you see on this page. |
| Package 571/2041 | Hostname | OS / Arch | INSTALL | BUILD | CHECK | BUILD BIN | ||||||||
| ENmix 1.28.8 (landing page) Zongli Xu
| nebbiolo1 | Linux (Ubuntu 20.04.2 LTS) / x86_64 | OK | OK | OK | |||||||||
| tokay2 | Windows Server 2012 R2 Standard / x64 | OK | OK | OK | OK | |||||||||
| machv2 | macOS 10.14.6 Mojave / x86_64 | OK | OK | OK | OK | |||||||||
| Package: ENmix |
| Version: 1.28.8 |
| Command: rm -rf ENmix.buildbin-libdir && mkdir ENmix.buildbin-libdir && C:\Users\biocbuild\bbs-3.13-bioc\R\bin\R.exe CMD INSTALL --merge-multiarch --build --library=ENmix.buildbin-libdir ENmix_1.28.8.tar.gz |
| StartedAt: 2021-10-15 09:08:53 -0400 (Fri, 15 Oct 2021) |
| EndedAt: 2021-10-15 09:10:25 -0400 (Fri, 15 Oct 2021) |
| EllapsedTime: 91.1 seconds |
| RetCode: 0 |
| Status: OK |
| PackageFile: ENmix_1.28.8.zip |
| PackageFileSize: 1.565 MiB |
##############################################################################
##############################################################################
###
### Running command:
###
### rm -rf ENmix.buildbin-libdir && mkdir ENmix.buildbin-libdir && C:\Users\biocbuild\bbs-3.13-bioc\R\bin\R.exe CMD INSTALL --merge-multiarch --build --library=ENmix.buildbin-libdir ENmix_1.28.8.tar.gz
###
##############################################################################
##############################################################################
install for i386
* installing *source* package 'ENmix' ...
** using staged installation
** R
** inst
** byte-compile and prepare package for lazy loading
** help
*** installing help indices
converting help for package 'ENmix'
finding HTML links ... done
B2M html
M2B html
QCinfo html
calcdetP html
combp html
ctrlsva html
dupicc html
estimateCellProp html
freqpoly html
getB html
getCGinfo html
getmeth html
ipdmr html
methDataSet-class html
methyAge html
mhtplot html
mpreprocess html
finding level-2 HTML links ... done
multifreqpoly html
nmode html
norm.quantile html
oxBS.MLE html
p.qqplot html
pcrplot html
plotCtrl html
predSex html
preprocessENmix html
qcfilter html
rcp html
readidat html
readmanifest html
relic html
rgDataSet-class html
simubed html
** building package indices
** installing vignettes
** testing if installed package can be loaded from temporary location
** testing if installed package can be loaded from final location
** testing if installed package keeps a record of temporary installation path
install for x64
* installing *source* package 'ENmix' ...
** testing if installed package can be loaded
* MD5 sums
packaged installation of 'ENmix' as ENmix_1.28.8.zip
* DONE (ENmix)