| Back to Multiple platform build/check report for BioC 3.13 |
|
This page was generated on 2021-10-15 15:06:34 -0400 (Fri, 15 Oct 2021).
|
To the developers/maintainers of the EDDA package: - Please allow up to 24 hours (and sometimes 48 hours) for your latest push to git@git.bioconductor.org:packages/EDDA.git to reflect on this report. See How and When does the builder pull? When will my changes propagate? here for more information. - Make sure to use the following settings in order to reproduce any error or warning you see on this page. |
| Package 555/2041 | Hostname | OS / Arch | INSTALL | BUILD | CHECK | BUILD BIN | ||||||||
Chia Kuan Hui Burton
| nebbiolo1 | Linux (Ubuntu 20.04.2 LTS) / x86_64 | ERROR | ERROR | skipped | |||||||||
| tokay2 | Windows Server 2012 R2 Standard / x64 | ERROR | ERROR | skipped | skipped | |||||||||
| machv2 | macOS 10.14.6 Mojave / x86_64 | ERROR | ERROR | skipped | skipped | |||||||||
| Package: EDDA |
| Version: 1.30.0 |
| Command: /Library/Frameworks/R.framework/Versions/Current/Resources/bin/R CMD build --keep-empty-dirs --no-resave-data EDDA |
| StartedAt: 2021-10-14 11:51:25 -0400 (Thu, 14 Oct 2021) |
| EndedAt: 2021-10-14 11:52:01 -0400 (Thu, 14 Oct 2021) |
| EllapsedTime: 36.4 seconds |
| RetCode: 1 |
| Status: ERROR |
| PackageFile: None |
| PackageFileSize: NA |
##############################################################################
##############################################################################
###
### Running command:
###
### /Library/Frameworks/R.framework/Versions/Current/Resources/bin/R CMD build --keep-empty-dirs --no-resave-data EDDA
###
##############################################################################
##############################################################################
* checking for file ‘EDDA/DESCRIPTION’ ... OK
* preparing ‘EDDA’:
* checking DESCRIPTION meta-information ... OK
* cleaning src
* installing the package to build vignettes
-----------------------------------
ERROR: dependency ‘DESeq’ is not available for package ‘EDDA’
* removing ‘/private/tmp/Rtmp8pnFl9/Rinst459342efaa7b/EDDA’
-----------------------------------
ERROR: package installation failed