| Back to Multiple platform build/check report for BioC 3.13 |
|
This page was generated on 2021-10-15 15:06:03 -0400 (Fri, 15 Oct 2021).
|
To the developers/maintainers of the EBSeqHMM package: - Please allow up to 24 hours (and sometimes 48 hours) for your latest push to git@git.bioconductor.org:packages/EBSeqHMM.git to reflect on this report. See How and When does the builder pull? When will my changes propagate? here for more information. - Make sure to use the following settings in order to reproduce any error or warning you see on this page. |
| Package 552/2041 | Hostname | OS / Arch | INSTALL | BUILD | CHECK | BUILD BIN | ||||||||
| EBSeqHMM 1.26.0 (landing page) Ning Leng
| nebbiolo1 | Linux (Ubuntu 20.04.2 LTS) / x86_64 | OK | OK | OK | |||||||||
| tokay2 | Windows Server 2012 R2 Standard / x64 | OK | OK | OK | OK | |||||||||
| machv2 | macOS 10.14.6 Mojave / x86_64 | OK | OK | OK | OK | |||||||||
| Package: EBSeqHMM |
| Version: 1.26.0 |
| Command: rm -rf EBSeqHMM.buildbin-libdir && mkdir EBSeqHMM.buildbin-libdir && C:\Users\biocbuild\bbs-3.13-bioc\R\bin\R.exe CMD INSTALL --merge-multiarch --build --library=EBSeqHMM.buildbin-libdir EBSeqHMM_1.26.0.tar.gz |
| StartedAt: 2021-10-15 09:06:16 -0400 (Fri, 15 Oct 2021) |
| EndedAt: 2021-10-15 09:07:52 -0400 (Fri, 15 Oct 2021) |
| EllapsedTime: 96.6 seconds |
| RetCode: 0 |
| Status: OK |
| PackageFile: EBSeqHMM_1.26.0.zip |
| PackageFileSize: 1.075 MiB |
##############################################################################
##############################################################################
###
### Running command:
###
### rm -rf EBSeqHMM.buildbin-libdir && mkdir EBSeqHMM.buildbin-libdir && C:\Users\biocbuild\bbs-3.13-bioc\R\bin\R.exe CMD INSTALL --merge-multiarch --build --library=EBSeqHMM.buildbin-libdir EBSeqHMM_1.26.0.tar.gz
###
##############################################################################
##############################################################################
install for i386
* installing *source* package 'EBSeqHMM' ...
** using staged installation
** R
** data
** demo
** inst
** byte-compile and prepare package for lazy loading
** help
*** installing help indices
converting help for package 'EBSeqHMM'
finding HTML links ... done
EBHMMNBMultiEM_2chain html
EBHMMNBfun html
EBHMMNBfunForMulti html
EBSeqHMM-package html
EBSeqHMMTest html
EBTest_ext html
finding level-2 HTML links ... done
GeneExampleData html
GetAllPaths html
GetConfidentCalls html
GetDECalls html
IsoExampleList html
LikefunNBHMM html
PlotExp html
beta.mom html
f0 html
** building package indices
** installing vignettes
** testing if installed package can be loaded from temporary location
** testing if installed package can be loaded from final location
** testing if installed package keeps a record of temporary installation path
install for x64
* installing *source* package 'EBSeqHMM' ...
** testing if installed package can be loaded
* MD5 sums
packaged installation of 'EBSeqHMM' as EBSeqHMM_1.26.0.zip
* DONE (EBSeqHMM)