| Back to Multiple platform build/check report for BioC 3.13 |
|
This page was generated on 2021-10-15 15:06:03 -0400 (Fri, 15 Oct 2021).
|
To the developers/maintainers of the EBSeq package: - Please allow up to 24 hours (and sometimes 48 hours) for your latest push to git@git.bioconductor.org:packages/EBSeq.git to reflect on this report. See How and When does the builder pull? When will my changes propagate? here for more information. - Make sure to use the following settings in order to reproduce any error or warning you see on this page. |
| Package 551/2041 | Hostname | OS / Arch | INSTALL | BUILD | CHECK | BUILD BIN | ||||||||
| EBSeq 1.32.0 (landing page) Ning Leng
| nebbiolo1 | Linux (Ubuntu 20.04.2 LTS) / x86_64 | OK | OK | OK | |||||||||
| tokay2 | Windows Server 2012 R2 Standard / x64 | OK | OK | OK | OK | |||||||||
| machv2 | macOS 10.14.6 Mojave / x86_64 | OK | OK | OK | OK | |||||||||
| Package: EBSeq |
| Version: 1.32.0 |
| Command: rm -rf EBSeq.buildbin-libdir && mkdir EBSeq.buildbin-libdir && C:\Users\biocbuild\bbs-3.13-bioc\R\bin\R.exe CMD INSTALL --merge-multiarch --build --library=EBSeq.buildbin-libdir EBSeq_1.32.0.tar.gz |
| StartedAt: 2021-10-15 09:06:07 -0400 (Fri, 15 Oct 2021) |
| EndedAt: 2021-10-15 09:07:44 -0400 (Fri, 15 Oct 2021) |
| EllapsedTime: 96.6 seconds |
| RetCode: 0 |
| Status: OK |
| PackageFile: EBSeq_1.32.0.zip |
| PackageFileSize: 1.405 MiB |
##############################################################################
##############################################################################
###
### Running command:
###
### rm -rf EBSeq.buildbin-libdir && mkdir EBSeq.buildbin-libdir && C:\Users\biocbuild\bbs-3.13-bioc\R\bin\R.exe CMD INSTALL --merge-multiarch --build --library=EBSeq.buildbin-libdir EBSeq_1.32.0.tar.gz
###
##############################################################################
##############################################################################
install for i386
* installing *source* package 'EBSeq' ...
** using staged installation
** R
** data
** demo
** inst
** byte-compile and prepare package for lazy loading
** help
*** installing help indices
converting help for package 'EBSeq'
finding HTML links ... done
DenNHist html
EBMultiTest html
EBSeq_NingLeng-package html
EBTest html
GeneMat html
GetDEResults html
GetMultiFC html
GetMultiPP html
GetNg html
GetNormalizedMat html
GetPP html
GetPPMat html
GetPatterns html
IsoList html
IsoMultiList html
Likefun html
LikefunMulti html
LogN html
LogNMulti html
MedianNorm html
MultiGeneMat html
PlotPattern html
PlotPostVsRawFC html
PolyFitPlot html
PostFC html
QQP html
QuantileNorm html
RankNorm html
beta.mom html
crit_fun html
f0 html
f1 html
** building package indices
** installing vignettes
** testing if installed package can be loaded from temporary location
** testing if installed package can be loaded from final location
** testing if installed package keeps a record of temporary installation path
install for x64
* installing *source* package 'EBSeq' ...
** testing if installed package can be loaded
* MD5 sums
packaged installation of 'EBSeq' as EBSeq_1.32.0.zip
* DONE (EBSeq)