| Back to Multiple platform build/check report for BioC 3.13 |
|
This page was generated on 2021-10-15 15:06:03 -0400 (Fri, 15 Oct 2021).
|
To the developers/maintainers of the DriverNet package: - Please allow up to 24 hours (and sometimes 48 hours) for your latest push to git@git.bioconductor.org:packages/DriverNet.git to reflect on this report. See How and When does the builder pull? When will my changes propagate? here for more information. - Make sure to use the following settings in order to reproduce any error or warning you see on this page. |
| Package 533/2041 | Hostname | OS / Arch | INSTALL | BUILD | CHECK | BUILD BIN | ||||||||
| DriverNet 1.32.0 (landing page) Jiarui Ding
| nebbiolo1 | Linux (Ubuntu 20.04.2 LTS) / x86_64 | OK | OK | OK | |||||||||
| tokay2 | Windows Server 2012 R2 Standard / x64 | OK | OK | OK | OK | |||||||||
| machv2 | macOS 10.14.6 Mojave / x86_64 | OK | OK | OK | OK | |||||||||
| Package: DriverNet |
| Version: 1.32.0 |
| Command: rm -rf DriverNet.buildbin-libdir && mkdir DriverNet.buildbin-libdir && C:\Users\biocbuild\bbs-3.13-bioc\R\bin\R.exe CMD INSTALL --merge-multiarch --build --library=DriverNet.buildbin-libdir DriverNet_1.32.0.tar.gz |
| StartedAt: 2021-10-15 09:03:54 -0400 (Fri, 15 Oct 2021) |
| EndedAt: 2021-10-15 09:05:05 -0400 (Fri, 15 Oct 2021) |
| EllapsedTime: 71.4 seconds |
| RetCode: 0 |
| Status: OK |
| PackageFile: DriverNet_1.32.0.zip |
| PackageFileSize: 1.227 MiB |
##############################################################################
##############################################################################
###
### Running command:
###
### rm -rf DriverNet.buildbin-libdir && mkdir DriverNet.buildbin-libdir && C:\Users\biocbuild\bbs-3.13-bioc\R\bin\R.exe CMD INSTALL --merge-multiarch --build --library=DriverNet.buildbin-libdir DriverNet_1.32.0.tar.gz
###
##############################################################################
##############################################################################
install for i386
* installing *source* package 'DriverNet' ...
** using staged installation
** R
** data
** inst
** byte-compile and prepare package for lazy loading
** help
*** installing help indices
converting help for package 'DriverNet'
finding HTML links ... done
DriverNet-package html
DriverNetResult-class html
actualEvents html
computeDrivers html
computeRandomizedResult html
drivers html
getPatientOutlierMatrix html
preprocessMatrices html
resultSummary html
sampleDriversList html
sampleGeneNames html
sampleInfluenceGraph html
samplePatientExpressionMatrix html
samplePatientMutationMatrix html
samplePatientOutlierMatrix html
sampleRandomDriversResult html
totalEvents html
** building package indices
** installing vignettes
** testing if installed package can be loaded from temporary location
** testing if installed package can be loaded from final location
** testing if installed package keeps a record of temporary installation path
install for x64
* installing *source* package 'DriverNet' ...
** testing if installed package can be loaded
* MD5 sums
packaged installation of 'DriverNet' as DriverNet_1.32.0.zip
* DONE (DriverNet)