| Back to Multiple platform build/check report for BioC 3.13 |
|
This page was generated on 2021-10-15 15:06:03 -0400 (Fri, 15 Oct 2021).
|
To the developers/maintainers of the DominoEffect package: - Please allow up to 24 hours (and sometimes 48 hours) for your latest push to git@git.bioconductor.org:packages/DominoEffect.git to reflect on this report. See How and When does the builder pull? When will my changes propagate? here for more information. - Make sure to use the following settings in order to reproduce any error or warning you see on this page. |
| Package 525/2041 | Hostname | OS / Arch | INSTALL | BUILD | CHECK | BUILD BIN | ||||||||
| DominoEffect 1.12.0 (landing page) Marija Buljan
| nebbiolo1 | Linux (Ubuntu 20.04.2 LTS) / x86_64 | OK | OK | OK | |||||||||
| tokay2 | Windows Server 2012 R2 Standard / x64 | OK | OK | OK | OK | |||||||||
| machv2 | macOS 10.14.6 Mojave / x86_64 | OK | OK | OK | OK | |||||||||
| Package: DominoEffect |
| Version: 1.12.0 |
| Command: C:\Users\biocbuild\bbs-3.13-bioc\R\bin\R.exe CMD check --force-multiarch --install=check:DominoEffect.install-out.txt --library=C:\Users\biocbuild\bbs-3.13-bioc\R\library --no-vignettes --timings DominoEffect_1.12.0.tar.gz |
| StartedAt: 2021-10-14 22:28:57 -0400 (Thu, 14 Oct 2021) |
| EndedAt: 2021-10-14 22:37:06 -0400 (Thu, 14 Oct 2021) |
| EllapsedTime: 489.8 seconds |
| RetCode: 0 |
| Status: OK |
| CheckDir: DominoEffect.Rcheck |
| Warnings: 0 |
##############################################################################
##############################################################################
###
### Running command:
###
### C:\Users\biocbuild\bbs-3.13-bioc\R\bin\R.exe CMD check --force-multiarch --install=check:DominoEffect.install-out.txt --library=C:\Users\biocbuild\bbs-3.13-bioc\R\library --no-vignettes --timings DominoEffect_1.12.0.tar.gz
###
##############################################################################
##############################################################################
* using log directory 'C:/Users/biocbuild/bbs-3.13-bioc/meat/DominoEffect.Rcheck'
* using R version 4.1.1 (2021-08-10)
* using platform: x86_64-w64-mingw32 (64-bit)
* using session charset: ISO8859-1
* using option '--no-vignettes'
* checking for file 'DominoEffect/DESCRIPTION' ... OK
* checking extension type ... Package
* this is package 'DominoEffect' version '1.12.0'
* package encoding: UTF-8
* checking package namespace information ... OK
* checking package dependencies ... OK
* checking if this is a source package ... OK
* checking if there is a namespace ... OK
* checking for hidden files and directories ... OK
* checking for portable file names ... OK
* checking whether package 'DominoEffect' can be installed ... OK
* checking installed package size ... OK
* checking package directory ... OK
* checking 'build' directory ... OK
* checking DESCRIPTION meta-information ... OK
* checking top-level files ... OK
* checking for left-over files ... OK
* checking index information ... OK
* checking package subdirectories ... OK
* checking R files for non-ASCII characters ... OK
* checking R files for syntax errors ... OK
* loading checks for arch 'i386'
** checking whether the package can be loaded ... OK
** checking whether the package can be loaded with stated dependencies ... OK
** checking whether the package can be unloaded cleanly ... OK
** checking whether the namespace can be loaded with stated dependencies ... OK
** checking whether the namespace can be unloaded cleanly ... OK
* loading checks for arch 'x64'
** checking whether the package can be loaded ... OK
** checking whether the package can be loaded with stated dependencies ... OK
** checking whether the package can be unloaded cleanly ... OK
** checking whether the namespace can be loaded with stated dependencies ... OK
** checking whether the namespace can be unloaded cleanly ... OK
* checking dependencies in R code ... OK
* checking S3 generic/method consistency ... OK
* checking replacement functions ... OK
* checking foreign function calls ... OK
* checking R code for possible problems ... NOTE
import_txdb: no visible binding for global variable 'TXTYPE'
Undefined global functions or variables:
TXTYPE
* checking Rd files ... OK
* checking Rd metadata ... OK
* checking Rd cross-references ... OK
* checking for missing documentation entries ... OK
* checking for code/documentation mismatches ... OK
* checking Rd \usage sections ... OK
* checking Rd contents ... OK
* checking for unstated dependencies in examples ... OK
* checking contents of 'data' directory ... OK
* checking data for non-ASCII characters ... OK
* checking LazyData ... OK
* checking data for ASCII and uncompressed saves ... OK
* checking files in 'vignettes' ... OK
* checking examples ...
** running examples for arch 'i386' ... OK
Examples with CPU (user + system) or elapsed time > 5s
user system elapsed
DominoEffect 5.89 0.38 11.50
map_to_func_elem 5.58 0.10 9.89
GPo_of_hotspots 5.06 0.27 9.34
** running examples for arch 'x64' ... OK
Examples with CPU (user + system) or elapsed time > 5s
user system elapsed
DominoEffect 5.31 0.25 11.04
GPo_of_hotspots 3.92 0.15 8.60
map_to_func_elem 3.64 0.04 8.05
* checking for unstated dependencies in 'tests' ... OK
* checking tests ...
** running tests for arch 'i386' ...
Running 'test-all.R'
OK
** running tests for arch 'x64' ...
Running 'test-all.R'
OK
* checking for unstated dependencies in vignettes ... OK
* checking package vignettes in 'inst/doc' ... OK
* checking running R code from vignettes ... SKIPPED
* checking re-building of vignette outputs ... SKIPPED
* checking PDF version of manual ... OK
* DONE
Status: 1 NOTE
See
'C:/Users/biocbuild/bbs-3.13-bioc/meat/DominoEffect.Rcheck/00check.log'
for details.
DominoEffect.Rcheck/00install.out
##############################################################################
##############################################################################
###
### Running command:
###
### C:\cygwin\bin\curl.exe -O http://155.52.207.165/BBS/3.13/bioc/src/contrib/DominoEffect_1.12.0.tar.gz && rm -rf DominoEffect.buildbin-libdir && mkdir DominoEffect.buildbin-libdir && C:\Users\biocbuild\bbs-3.13-bioc\R\bin\R.exe CMD INSTALL --merge-multiarch --build --library=DominoEffect.buildbin-libdir DominoEffect_1.12.0.tar.gz && C:\Users\biocbuild\bbs-3.13-bioc\R\bin\R.exe CMD INSTALL DominoEffect_1.12.0.zip && rm DominoEffect_1.12.0.tar.gz DominoEffect_1.12.0.zip
###
##############################################################################
##############################################################################
% Total % Received % Xferd Average Speed Time Time Time Current
Dload Upload Total Spent Left Speed
0 0 0 0 0 0 0 0 --:--:-- --:--:-- --:--:-- 0
48 461k 48 225k 0 0 855k 0 --:--:-- --:--:-- --:--:-- 856k
100 461k 100 461k 0 0 1216k 0 --:--:-- --:--:-- --:--:-- 1217k
install for i386
* installing *source* package 'DominoEffect' ...
** using staged installation
** R
** data
*** moving datasets to lazyload DB
** inst
** byte-compile and prepare package for lazy loading
** help
*** installing help indices
converting help for package 'DominoEffect'
finding HTML links ... done
DominoEffect html
GPo_of_hotspots html
align_to_unip html
calculate_boundary html
data html
identify_hotspots html
import_txdb html
map_to_func_elem html
** building package indices
** installing vignettes
** testing if installed package can be loaded from temporary location
** testing if installed package can be loaded from final location
** testing if installed package keeps a record of temporary installation path
install for x64
* installing *source* package 'DominoEffect' ...
** testing if installed package can be loaded
* MD5 sums
packaged installation of 'DominoEffect' as DominoEffect_1.12.0.zip
* DONE (DominoEffect)
* installing to library 'C:/Users/biocbuild/bbs-3.13-bioc/R/library'
package 'DominoEffect' successfully unpacked and MD5 sums checked
|
DominoEffect.Rcheck/tests_i386/test-all.Rout
R version 4.1.1 (2021-08-10) -- "Kick Things"
Copyright (C) 2021 The R Foundation for Statistical Computing
Platform: i386-w64-mingw32/i386 (32-bit)
R is free software and comes with ABSOLUTELY NO WARRANTY.
You are welcome to redistribute it under certain conditions.
Type 'license()' or 'licence()' for distribution details.
R is a collaborative project with many contributors.
Type 'contributors()' for more information and
'citation()' on how to cite R or R packages in publications.
Type 'demo()' for some demos, 'help()' for on-line help, or
'help.start()' for an HTML browser interface to help.
Type 'q()' to quit R.
> library(testthat)
> test_check("DominoEffect")
Loading required package: DominoEffect
trying URL 'http://www.uniprot.org/uniprot/P50148.fasta'
Content type 'text/plain' length 483 bytes
==================================================
downloaded 483 bytes
trying URL 'http://www.uniprot.org/uniprot/P29992.fasta'
Content type 'text/plain' length 483 bytes
==================================================
downloaded 483 bytes
trying URL 'http://www.uniprot.org/uniprot/O75533.fasta'
Content type 'text/plain' length 1421 bytes
==================================================
downloaded 1421 bytes
trying URL 'http://www.uniprot.org/uniprot/Q9NR22.fasta'
Content type 'text/plain' length 505 bytes
==================================================
downloaded 505 bytes
trying URL 'http://www.uniprot.org/uniprot/O96017.fasta'
Content type 'text/plain' length 655 bytes
==================================================
downloaded 655 bytes
================================================================================
trying URL 'http://www.uniprot.org/uniprot/P50148.fasta'
Content type 'text/plain' length 483 bytes
==================================================
downloaded 483 bytes
trying URL 'http://www.uniprot.org/uniprot/P29992.fasta'
Content type 'text/plain' length 483 bytes
==================================================
downloaded 483 bytes
trying URL 'http://www.uniprot.org/uniprot/Q9NR22.fasta'
Content type 'text/plain' length 505 bytes
==================================================
downloaded 505 bytes
================================================================================
trying URL 'http://www.uniprot.org/uniprot/P50148.fasta'
Content type 'text/plain' length 483 bytes
==================================================
downloaded 483 bytes
trying URL 'http://www.uniprot.org/uniprot/P29992.fasta'
Content type 'text/plain' length 483 bytes
==================================================
downloaded 483 bytes
================================================================================
trying URL 'http://www.uniprot.org/uniprot/P50148.fasta'
Content type 'text/plain' length 483 bytes
==================================================
downloaded 483 bytes
trying URL 'http://www.uniprot.org/uniprot/P29992.fasta'
Content type 'text/plain' length 483 bytes
==================================================
downloaded 483 bytes
trying URL 'http://www.uniprot.org/uniprot/O75533.fasta'
Content type 'text/plain' length 1421 bytes
==================================================
downloaded 1421 bytes
trying URL 'http://www.uniprot.org/uniprot/Q9NR22.fasta'
Content type 'text/plain' length 505 bytes
==================================================
downloaded 505 bytes
trying URL 'http://www.uniprot.org/uniprot/O96017.fasta'
Content type 'text/plain' length 655 bytes
==================================================
downloaded 655 bytes
================================================================================
[ FAIL 0 | WARN 0 | SKIP 0 | PASS 15 ]
>
> proc.time()
user system elapsed
31.45 1.37 48.53
|
DominoEffect.Rcheck/tests_x64/test-all.Rout
R version 4.1.1 (2021-08-10) -- "Kick Things"
Copyright (C) 2021 The R Foundation for Statistical Computing
Platform: x86_64-w64-mingw32/x64 (64-bit)
R is free software and comes with ABSOLUTELY NO WARRANTY.
You are welcome to redistribute it under certain conditions.
Type 'license()' or 'licence()' for distribution details.
R is a collaborative project with many contributors.
Type 'contributors()' for more information and
'citation()' on how to cite R or R packages in publications.
Type 'demo()' for some demos, 'help()' for on-line help, or
'help.start()' for an HTML browser interface to help.
Type 'q()' to quit R.
> library(testthat)
> test_check("DominoEffect")
Loading required package: DominoEffect
trying URL 'http://www.uniprot.org/uniprot/P50148.fasta'
Content type 'text/plain' length 483 bytes
==================================================
downloaded 483 bytes
trying URL 'http://www.uniprot.org/uniprot/P29992.fasta'
Content type 'text/plain' length 483 bytes
==================================================
downloaded 483 bytes
trying URL 'http://www.uniprot.org/uniprot/O75533.fasta'
Content type 'text/plain' length 1421 bytes
==================================================
downloaded 1421 bytes
trying URL 'http://www.uniprot.org/uniprot/Q9NR22.fasta'
Content type 'text/plain' length 505 bytes
==================================================
downloaded 505 bytes
trying URL 'http://www.uniprot.org/uniprot/O96017.fasta'
Content type 'text/plain' length 655 bytes
==================================================
downloaded 655 bytes
================================================================================
trying URL 'http://www.uniprot.org/uniprot/P50148.fasta'
Content type 'text/plain' length 483 bytes
==================================================
downloaded 483 bytes
trying URL 'http://www.uniprot.org/uniprot/P29992.fasta'
Content type 'text/plain' length 483 bytes
==================================================
downloaded 483 bytes
trying URL 'http://www.uniprot.org/uniprot/Q9NR22.fasta'
Content type 'text/plain' length 505 bytes
==================================================
downloaded 505 bytes
================================================================================
trying URL 'http://www.uniprot.org/uniprot/P50148.fasta'
Content type 'text/plain' length 483 bytes
==================================================
downloaded 483 bytes
trying URL 'http://www.uniprot.org/uniprot/P29992.fasta'
Content type 'text/plain' length 483 bytes
==================================================
downloaded 483 bytes
================================================================================
trying URL 'http://www.uniprot.org/uniprot/P50148.fasta'
Content type 'text/plain' length 483 bytes
==================================================
downloaded 483 bytes
trying URL 'http://www.uniprot.org/uniprot/P29992.fasta'
Content type 'text/plain' length 483 bytes
==================================================
downloaded 483 bytes
trying URL 'http://www.uniprot.org/uniprot/O75533.fasta'
Content type 'text/plain' length 1421 bytes
==================================================
downloaded 1421 bytes
trying URL 'http://www.uniprot.org/uniprot/Q9NR22.fasta'
Content type 'text/plain' length 505 bytes
==================================================
downloaded 505 bytes
trying URL 'http://www.uniprot.org/uniprot/O96017.fasta'
Content type 'text/plain' length 655 bytes
==================================================
downloaded 655 bytes
================================================================================
[ FAIL 0 | WARN 0 | SKIP 0 | PASS 15 ]
>
> proc.time()
user system elapsed
29.03 0.93 45.90
|
|
DominoEffect.Rcheck/examples_i386/DominoEffect-Ex.timings
|
DominoEffect.Rcheck/examples_x64/DominoEffect-Ex.timings
|