| Back to Multiple platform build/check report for BioC 3.13 |
|
This page was generated on 2021-10-15 15:06:03 -0400 (Fri, 15 Oct 2021).
|
To the developers/maintainers of the DMRcaller package: - Please allow up to 24 hours (and sometimes 48 hours) for your latest push to git@git.bioconductor.org:packages/DMRcaller.git to reflect on this report. See How and When does the builder pull? When will my changes propagate? here for more information. - Make sure to use the following settings in order to reproduce any error or warning you see on this page. |
| Package 516/2041 | Hostname | OS / Arch | INSTALL | BUILD | CHECK | BUILD BIN | ||||||||
| DMRcaller 1.24.0 (landing page) Nicolae Radu Zabet
| nebbiolo1 | Linux (Ubuntu 20.04.2 LTS) / x86_64 | OK | OK | OK | |||||||||
| tokay2 | Windows Server 2012 R2 Standard / x64 | OK | OK | OK | OK | |||||||||
| machv2 | macOS 10.14.6 Mojave / x86_64 | OK | OK | OK | OK | |||||||||
| Package: DMRcaller |
| Version: 1.24.0 |
| Command: rm -rf DMRcaller.buildbin-libdir && mkdir DMRcaller.buildbin-libdir && C:\Users\biocbuild\bbs-3.13-bioc\R\bin\R.exe CMD INSTALL --merge-multiarch --build --library=DMRcaller.buildbin-libdir DMRcaller_1.24.0.tar.gz |
| StartedAt: 2021-10-15 09:01:23 -0400 (Fri, 15 Oct 2021) |
| EndedAt: 2021-10-15 09:02:30 -0400 (Fri, 15 Oct 2021) |
| EllapsedTime: 66.5 seconds |
| RetCode: 0 |
| Status: OK |
| PackageFile: DMRcaller_1.24.0.zip |
| PackageFileSize: 1.893 MiB |
##############################################################################
##############################################################################
###
### Running command:
###
### rm -rf DMRcaller.buildbin-libdir && mkdir DMRcaller.buildbin-libdir && C:\Users\biocbuild\bbs-3.13-bioc\R\bin\R.exe CMD INSTALL --merge-multiarch --build --library=DMRcaller.buildbin-libdir DMRcaller_1.24.0.tar.gz
###
##############################################################################
##############################################################################
install for i386
* installing *source* package 'DMRcaller' ...
** using staged installation
** R
** data
** inst
** byte-compile and prepare package for lazy loading
** help
*** installing help indices
converting help for package 'DMRcaller'
finding HTML links ... done
DMRcaller html
finding level-2 HTML links ... done
DMRsNoiseFilterCG html
GEs html
analyseReadsInsideRegionsForCondition html
computeDMRs html
computeDMRsReplicates html
computeMethylationDataCoverage html
computeMethylationDataSpatialCorrelation
html
computeMethylationProfile html
computeOverlapProfile html
extractGC html
filterDMRs html
getWholeChromosomes html
joinReplicates html
mergeDMRsIteratively html
methylationDataList html
plotLocalMethylationProfile html
plotMethylationDataCoverage html
plotMethylationDataSpatialCorrelation html
plotMethylationProfile html
plotMethylationProfileFromData html
plotOverlapProfile html
poolMethylationDatasets html
poolTwoMethylationDatasets html
readBismark html
readBismarkPool html
saveBismark html
syntheticDataReplicates html
** building package indices
** installing vignettes
** testing if installed package can be loaded from temporary location
** testing if installed package can be loaded from final location
** testing if installed package keeps a record of temporary installation path
install for x64
* installing *source* package 'DMRcaller' ...
** testing if installed package can be loaded
* MD5 sums
packaged installation of 'DMRcaller' as DMRcaller_1.24.0.zip
* DONE (DMRcaller)