| Back to Multiple platform build/check report for BioC 3.13 |
|
This page was generated on 2021-10-15 15:06:02 -0400 (Fri, 15 Oct 2021).
|
To the developers/maintainers of the CytoGLMM package: - Please allow up to 24 hours (and sometimes 48 hours) for your latest push to git@git.bioconductor.org:packages/CytoGLMM.git to reflect on this report. See How and When does the builder pull? When will my changes propagate? here for more information. - Make sure to use the following settings in order to reproduce any error or warning you see on this page. |
| Package 432/2041 | Hostname | OS / Arch | INSTALL | BUILD | CHECK | BUILD BIN | ||||||||
| CytoGLMM 1.0.0 (landing page) Christof Seiler
| nebbiolo1 | Linux (Ubuntu 20.04.2 LTS) / x86_64 | OK | OK | OK | |||||||||
| tokay2 | Windows Server 2012 R2 Standard / x64 | OK | OK | OK | OK | |||||||||
| machv2 | macOS 10.14.6 Mojave / x86_64 | OK | OK | OK | OK | |||||||||
| Package: CytoGLMM |
| Version: 1.0.0 |
| Command: rm -rf CytoGLMM.buildbin-libdir && mkdir CytoGLMM.buildbin-libdir && C:\Users\biocbuild\bbs-3.13-bioc\R\bin\R.exe CMD INSTALL --merge-multiarch --build --library=CytoGLMM.buildbin-libdir CytoGLMM_1.0.0.tar.gz |
| StartedAt: 2021-10-15 08:50:07 -0400 (Fri, 15 Oct 2021) |
| EndedAt: 2021-10-15 08:51:21 -0400 (Fri, 15 Oct 2021) |
| EllapsedTime: 74.1 seconds |
| RetCode: 0 |
| Status: OK |
| PackageFile: CytoGLMM_1.0.0.zip |
| PackageFileSize: 411.1 KiB |
##############################################################################
##############################################################################
###
### Running command:
###
### rm -rf CytoGLMM.buildbin-libdir && mkdir CytoGLMM.buildbin-libdir && C:\Users\biocbuild\bbs-3.13-bioc\R\bin\R.exe CMD INSTALL --merge-multiarch --build --library=CytoGLMM.buildbin-libdir CytoGLMM_1.0.0.tar.gz
###
##############################################################################
##############################################################################
install for i386
* installing *source* package 'CytoGLMM' ...
** using staged installation
** R
** inst
** byte-compile and prepare package for lazy loading
** help
*** installing help indices
converting help for package 'CytoGLMM'
finding HTML links ... done
cyto_check html
cytoflexmix html
cytoglm html
cytoglmm html
cytogroup html
cytostab html
generate_data html
glmm_moment html
is_unpaired html
plot.cytoflexmix html
plot.cytoglm html
plot.cytoglmm html
plot.cytogroup html
plot_coeff html
plot_heatmap html
plot_lda html
plot_mds html
plot_model_selection html
plot_prcomp html
print.cytoglm html
print.cytoglmm html
remove_samples html
summary.cytoglm html
summary.cytoglmm html
** building package indices
** installing vignettes
** testing if installed package can be loaded from temporary location
** testing if installed package can be loaded from final location
** testing if installed package keeps a record of temporary installation path
install for x64
* installing *source* package 'CytoGLMM' ...
** testing if installed package can be loaded
* MD5 sums
packaged installation of 'CytoGLMM' as CytoGLMM_1.0.0.zip
* DONE (CytoGLMM)