| Back to Multiple platform build/check report for BioC 3.13 |
|
This page was generated on 2021-10-15 15:06:01 -0400 (Fri, 15 Oct 2021).
|
To the developers/maintainers of the CrossICC package: - Please allow up to 24 hours (and sometimes 48 hours) for your latest push to git@git.bioconductor.org:packages/CrossICC.git to reflect on this report. See How and When does the builder pull? When will my changes propagate? here for more information. - Make sure to use the following settings in order to reproduce any error or warning you see on this page. |
| Package 413/2041 | Hostname | OS / Arch | INSTALL | BUILD | CHECK | BUILD BIN | ||||||||
Yu Sun
| nebbiolo1 | Linux (Ubuntu 20.04.2 LTS) / x86_64 | ERROR | ERROR | skipped | |||||||||
| tokay2 | Windows Server 2012 R2 Standard / x64 | ERROR | ERROR | skipped | skipped | |||||||||
| machv2 | macOS 10.14.6 Mojave / x86_64 | ERROR | ERROR | skipped | skipped | |||||||||
| Package: CrossICC |
| Version: 1.6.0 |
| Command: C:\cygwin\bin\curl.exe -O http://155.52.207.165/BBS/3.13/bioc/src/contrib/CrossICC_1.6.0.tar.gz && rm -rf CrossICC.buildbin-libdir && mkdir CrossICC.buildbin-libdir && C:\Users\biocbuild\bbs-3.13-bioc\R\bin\R.exe CMD INSTALL --merge-multiarch --build --library=CrossICC.buildbin-libdir CrossICC_1.6.0.tar.gz && C:\Users\biocbuild\bbs-3.13-bioc\R\bin\R.exe CMD INSTALL CrossICC_1.6.0.zip && rm CrossICC_1.6.0.tar.gz CrossICC_1.6.0.zip |
| StartedAt: 2021-10-14 11:28:48 -0400 (Thu, 14 Oct 2021) |
| EndedAt: 2021-10-14 11:28:50 -0400 (Thu, 14 Oct 2021) |
| EllapsedTime: 2.2 seconds |
| RetCode: 1 |
| Status: ERROR |
##############################################################################
##############################################################################
###
### Running command:
###
### C:\cygwin\bin\curl.exe -O http://155.52.207.165/BBS/3.13/bioc/src/contrib/CrossICC_1.6.0.tar.gz && rm -rf CrossICC.buildbin-libdir && mkdir CrossICC.buildbin-libdir && C:\Users\biocbuild\bbs-3.13-bioc\R\bin\R.exe CMD INSTALL --merge-multiarch --build --library=CrossICC.buildbin-libdir CrossICC_1.6.0.tar.gz && C:\Users\biocbuild\bbs-3.13-bioc\R\bin\R.exe CMD INSTALL CrossICC_1.6.0.zip && rm CrossICC_1.6.0.tar.gz CrossICC_1.6.0.zip
###
##############################################################################
##############################################################################
% Total % Received % Xferd Average Speed Time Time Time Current
Dload Upload Total Spent Left Speed
0 0 0 0 0 0 0 0 --:--:-- --:--:-- --:--:-- 0
63 2110k 63 1331k 0 0 2256k 0 --:--:-- --:--:-- --:--:-- 2256k
100 2110k 100 2110k 0 0 2706k 0 --:--:-- --:--:-- --:--:-- 2705k
install for i386
ERROR: dependency 'MergeMaid' is not available for package 'CrossICC'
* removing 'C:/Users/biocbuild/bbs-3.13-bioc/meat/CrossICC.buildbin-libdir/CrossICC'