| Back to Multiple platform build/check report for BioC 3.13 |
|
This page was generated on 2021-10-15 15:06:01 -0400 (Fri, 15 Oct 2021).
|
To the developers/maintainers of the ConsensusClusterPlus package: - Please allow up to 24 hours (and sometimes 48 hours) for your latest push to git@git.bioconductor.org:packages/ConsensusClusterPlus.git to reflect on this report. See How and When does the builder pull? When will my changes propagate? here for more information. - Make sure to use the following settings in order to reproduce any error or warning you see on this page. |
| Package 378/2041 | Hostname | OS / Arch | INSTALL | BUILD | CHECK | BUILD BIN | ||||||||
| ConsensusClusterPlus 1.56.0 (landing page) Matt Wilkerson
| nebbiolo1 | Linux (Ubuntu 20.04.2 LTS) / x86_64 | OK | OK | OK | |||||||||
| tokay2 | Windows Server 2012 R2 Standard / x64 | OK | OK | OK | OK | |||||||||
| machv2 | macOS 10.14.6 Mojave / x86_64 | OK | OK | OK | OK | |||||||||
| Package: ConsensusClusterPlus |
| Version: 1.56.0 |
| Command: rm -rf ConsensusClusterPlus.buildbin-libdir && mkdir ConsensusClusterPlus.buildbin-libdir && C:\Users\biocbuild\bbs-3.13-bioc\R\bin\R.exe CMD INSTALL --merge-multiarch --build --library=ConsensusClusterPlus.buildbin-libdir ConsensusClusterPlus_1.56.0.tar.gz |
| StartedAt: 2021-10-15 08:43:17 -0400 (Fri, 15 Oct 2021) |
| EndedAt: 2021-10-15 08:44:31 -0400 (Fri, 15 Oct 2021) |
| EllapsedTime: 73.2 seconds |
| RetCode: 0 |
| Status: OK |
| PackageFile: ConsensusClusterPlus_1.56.0.zip |
| PackageFileSize: 259.6 KiB |
##############################################################################
##############################################################################
###
### Running command:
###
### rm -rf ConsensusClusterPlus.buildbin-libdir && mkdir ConsensusClusterPlus.buildbin-libdir && C:\Users\biocbuild\bbs-3.13-bioc\R\bin\R.exe CMD INSTALL --merge-multiarch --build --library=ConsensusClusterPlus.buildbin-libdir ConsensusClusterPlus_1.56.0.tar.gz
###
##############################################################################
##############################################################################
install for i386
* installing *source* package 'ConsensusClusterPlus' ...
** using staged installation
** R
** inst
** byte-compile and prepare package for lazy loading
** help
*** installing help indices
converting help for package 'ConsensusClusterPlus'
finding HTML links ... done
ConsensusClusterPlus html
** building package indices
** installing vignettes
** testing if installed package can be loaded from temporary location
** testing if installed package can be loaded from final location
** testing if installed package keeps a record of temporary installation path
install for x64
* installing *source* package 'ConsensusClusterPlus' ...
** testing if installed package can be loaded
* MD5 sums
packaged installation of 'ConsensusClusterPlus' as ConsensusClusterPlus_1.56.0.zip
* DONE (ConsensusClusterPlus)