| Back to Multiple platform build/check report for BioC 3.13 |
|
This page was generated on 2021-10-15 15:06:01 -0400 (Fri, 15 Oct 2021).
|
To the developers/maintainers of the CoCiteStats package: - Please allow up to 24 hours (and sometimes 48 hours) for your latest push to git@git.bioconductor.org:packages/CoCiteStats.git to reflect on this report. See How and When does the builder pull? When will my changes propagate? here for more information. - Make sure to use the following settings in order to reproduce any error or warning you see on this page. |
| Package 355/2041 | Hostname | OS / Arch | INSTALL | BUILD | CHECK | BUILD BIN | ||||||||
| CoCiteStats 1.64.0 (landing page) Bioconductor Package Maintainer
| nebbiolo1 | Linux (Ubuntu 20.04.2 LTS) / x86_64 | OK | OK | OK | |||||||||
| tokay2 | Windows Server 2012 R2 Standard / x64 | OK | OK | OK | OK | |||||||||
| machv2 | macOS 10.14.6 Mojave / x86_64 | OK | OK | OK | OK | |||||||||
| Package: CoCiteStats |
| Version: 1.64.0 |
| Command: rm -rf CoCiteStats.buildbin-libdir && mkdir CoCiteStats.buildbin-libdir && C:\Users\biocbuild\bbs-3.13-bioc\R\bin\R.exe CMD INSTALL --merge-multiarch --build --library=CoCiteStats.buildbin-libdir CoCiteStats_1.64.0.tar.gz |
| StartedAt: 2021-10-15 08:40:01 -0400 (Fri, 15 Oct 2021) |
| EndedAt: 2021-10-15 08:41:32 -0400 (Fri, 15 Oct 2021) |
| EllapsedTime: 91.4 seconds |
| RetCode: 0 |
| Status: OK |
| PackageFile: CoCiteStats_1.64.0.zip |
| PackageFileSize: 45.86 KiB |
##############################################################################
##############################################################################
###
### Running command:
###
### rm -rf CoCiteStats.buildbin-libdir && mkdir CoCiteStats.buildbin-libdir && C:\Users\biocbuild\bbs-3.13-bioc\R\bin\R.exe CMD INSTALL --merge-multiarch --build --library=CoCiteStats.buildbin-libdir CoCiteStats_1.64.0.tar.gz
###
##############################################################################
##############################################################################
install for i386
* installing *source* package 'CoCiteStats' ...
** using staged installation
** R
** byte-compile and prepare package for lazy loading
** help
*** installing help indices
converting help for package 'CoCiteStats'
finding HTML links ... done
actorAdjTable html
gene.gene.statistic html
gene.geneslist.sig html
gene.geneslist.statistic html
paperLen html
twTStats html
twowayTable html
** building package indices
** testing if installed package can be loaded from temporary location
** testing if installed package can be loaded from final location
** testing if installed package keeps a record of temporary installation path
install for x64
* installing *source* package 'CoCiteStats' ...
** testing if installed package can be loaded
* MD5 sums
packaged installation of 'CoCiteStats' as CoCiteStats_1.64.0.zip
* DONE (CoCiteStats)