| Back to Multiple platform build/check report for BioC 3.13 |
|
This page was generated on 2021-10-15 15:05:37 -0400 (Fri, 15 Oct 2021).
|
To the developers/maintainers of the CluMSID package: - Please allow up to 24 hours (and sometimes 48 hours) for your latest push to git@git.bioconductor.org:packages/CluMSID.git to reflect on this report. See How and When does the builder pull? When will my changes propagate? here for more information. - Make sure to use the following settings in order to reproduce any error or warning you see on this page. |
| Package 328/2041 | Hostname | OS / Arch | INSTALL | BUILD | CHECK | BUILD BIN | ||||||||
| CluMSID 1.8.0 (landing page) Tobias Depke
| nebbiolo1 | Linux (Ubuntu 20.04.2 LTS) / x86_64 | OK | OK | OK | |||||||||
| tokay2 | Windows Server 2012 R2 Standard / x64 | OK | OK | OK | OK | |||||||||
| machv2 | macOS 10.14.6 Mojave / x86_64 | OK | OK | OK | OK | |||||||||
| Package: CluMSID |
| Version: 1.8.0 |
| Command: /home/biocbuild/bbs-3.13-bioc/R/bin/R CMD check --install=check:CluMSID.install-out.txt --library=/home/biocbuild/bbs-3.13-bioc/R/library --no-vignettes --timings CluMSID_1.8.0.tar.gz |
| StartedAt: 2021-10-14 09:17:07 -0400 (Thu, 14 Oct 2021) |
| EndedAt: 2021-10-14 09:19:26 -0400 (Thu, 14 Oct 2021) |
| EllapsedTime: 139.6 seconds |
| RetCode: 0 |
| Status: OK |
| CheckDir: CluMSID.Rcheck |
| Warnings: 0 |
##############################################################################
##############################################################################
###
### Running command:
###
### /home/biocbuild/bbs-3.13-bioc/R/bin/R CMD check --install=check:CluMSID.install-out.txt --library=/home/biocbuild/bbs-3.13-bioc/R/library --no-vignettes --timings CluMSID_1.8.0.tar.gz
###
##############################################################################
##############################################################################
* using log directory ‘/home/biocbuild/bbs-3.13-bioc/meat/CluMSID.Rcheck’
* using R version 4.1.1 (2021-08-10)
* using platform: x86_64-pc-linux-gnu (64-bit)
* using session charset: UTF-8
* using option ‘--no-vignettes’
* checking for file ‘CluMSID/DESCRIPTION’ ... OK
* checking extension type ... Package
* this is package ‘CluMSID’ version ‘1.8.0’
* package encoding: UTF-8
* checking package namespace information ... OK
* checking package dependencies ... OK
* checking if this is a source package ... OK
* checking if there is a namespace ... OK
* checking for hidden files and directories ... OK
* checking for portable file names ... OK
* checking for sufficient/correct file permissions ... OK
* checking whether package ‘CluMSID’ can be installed ... OK
* checking installed package size ... OK
* checking package directory ... OK
* checking ‘build’ directory ... OK
* checking DESCRIPTION meta-information ... OK
* checking top-level files ... OK
* checking for left-over files ... OK
* checking index information ... OK
* checking package subdirectories ... OK
* checking R files for non-ASCII characters ... OK
* checking R files for syntax errors ... OK
* checking whether the package can be loaded ... OK
* checking whether the package can be loaded with stated dependencies ... OK
* checking whether the package can be unloaded cleanly ... OK
* checking whether the namespace can be loaded with stated dependencies ... OK
* checking whether the namespace can be unloaded cleanly ... OK
* checking dependencies in R code ... OK
* checking S3 generic/method consistency ... OK
* checking replacement functions ... OK
* checking foreign function calls ... OK
* checking R code for possible problems ... OK
* checking Rd files ... OK
* checking Rd metadata ... OK
* checking Rd cross-references ... OK
* checking for missing documentation entries ... OK
* checking for code/documentation mismatches ... OK
* checking Rd \usage sections ... OK
* checking Rd contents ... OK
* checking for unstated dependencies in examples ... OK
* checking files in ‘vignettes’ ... OK
* checking examples ... OK
Examples with CPU (user + system) or elapsed time > 5s
user system elapsed
mergeMS2spectra 4.836 0.272 5.113
* checking for unstated dependencies in ‘tests’ ... OK
* checking tests ...
Running ‘testthat.R’
OK
* checking for unstated dependencies in vignettes ... OK
* checking package vignettes in ‘inst/doc’ ... OK
* checking running R code from vignettes ... SKIPPED
* checking re-building of vignette outputs ... SKIPPED
* checking PDF version of manual ... OK
* DONE
Status: OK
CluMSID.Rcheck/00install.out
############################################################################## ############################################################################## ### ### Running command: ### ### /home/biocbuild/bbs-3.13-bioc/R/bin/R CMD INSTALL CluMSID ### ############################################################################## ############################################################################## * installing to library ‘/home/biocbuild/bbs-3.13-bioc/R/library’ * installing *source* package ‘CluMSID’ ... ** using staged installation ** R ** byte-compile and prepare package for lazy loading ** help *** installing help indices ** building package indices ** installing vignettes ** testing if installed package can be loaded from temporary location ** testing if installed package can be loaded from final location ** testing if installed package keeps a record of temporary installation path * DONE (CluMSID)
CluMSID.Rcheck/tests/testthat.Rout
R version 4.1.1 (2021-08-10) -- "Kick Things"
Copyright (C) 2021 The R Foundation for Statistical Computing
Platform: x86_64-pc-linux-gnu (64-bit)
R is free software and comes with ABSOLUTELY NO WARRANTY.
You are welcome to redistribute it under certain conditions.
Type 'license()' or 'licence()' for distribution details.
R is a collaborative project with many contributors.
Type 'contributors()' for more information and
'citation()' on how to cite R or R packages in publications.
Type 'demo()' for some demos, 'help()' for on-line help, or
'help.start()' for an HTML browser interface to help.
Type 'q()' to quit R.
> library(testthat)
> library(CluMSID)
>
> test_check("CluMSID")
[ FAIL 0 | WARN 0 | SKIP 0 | PASS 16 ]
>
> proc.time()
user system elapsed
11.251 0.660 11.898
CluMSID.Rcheck/CluMSID-Ex.timings
| name | user | system | elapsed | |
| Featurelist | 0.006 | 0.004 | 0.012 | |
| HCplot | 0.298 | 0.007 | 0.308 | |
| HCtbl | 0.01 | 0.00 | 0.01 | |
| MDSplot | 0.746 | 0.012 | 0.757 | |
| OPTICSplot | 0.020 | 0.004 | 0.024 | |
| OPTICStbl | 0.013 | 0.000 | 0.012 | |
| accessors | 0.061 | 0.000 | 0.062 | |
| addAnnotations | 0.054 | 0.148 | 0.202 | |
| as.MS2spectrum | 0.135 | 0.016 | 0.150 | |
| cossim | 0.015 | 0.000 | 0.015 | |
| distanceMatrix | 0.422 | 0.044 | 0.465 | |
| extractMS2spectra | 0.779 | 0.048 | 0.840 | |
| extractPseudospectra | 2.822 | 1.880 | 4.220 | |
| findFragment | 0.023 | 0.013 | 0.036 | |
| findNL | 0.012 | 0.034 | 0.046 | |
| getSimilarities | 2.453 | 0.369 | 2.822 | |
| getSpectrum | 0.021 | 0.008 | 0.030 | |
| mergeMS2spectra | 4.836 | 0.272 | 5.113 | |
| networkplot | 0.165 | 0.007 | 0.172 | |
| specplot | 0.007 | 0.004 | 0.011 | |
| splitPolarities | 0.695 | 0.007 | 0.701 | |
| writeFeaturelist | 0.013 | 0.000 | 0.013 | |