| Back to Multiple platform build/check report for BioC 3.13 |
|
This page was generated on 2021-10-15 15:06:00 -0400 (Fri, 15 Oct 2021).
|
To the developers/maintainers of the Clonality package: - Please allow up to 24 hours (and sometimes 48 hours) for your latest push to git@git.bioconductor.org:packages/Clonality.git to reflect on this report. See How and When does the builder pull? When will my changes propagate? here for more information. - Make sure to use the following settings in order to reproduce any error or warning you see on this page. |
| Package 324/2041 | Hostname | OS / Arch | INSTALL | BUILD | CHECK | BUILD BIN | ||||||||
| Clonality 1.40.0 (landing page) Irina Ostrovnaya
| nebbiolo1 | Linux (Ubuntu 20.04.2 LTS) / x86_64 | OK | OK | OK | |||||||||
| tokay2 | Windows Server 2012 R2 Standard / x64 | OK | OK | OK | OK | |||||||||
| machv2 | macOS 10.14.6 Mojave / x86_64 | OK | OK | OK | OK | |||||||||
| Package: Clonality |
| Version: 1.40.0 |
| Command: C:\cygwin\bin\curl.exe -O http://155.52.207.165/BBS/3.13/bioc/src/contrib/Clonality_1.40.0.tar.gz && rm -rf Clonality.buildbin-libdir && mkdir Clonality.buildbin-libdir && C:\Users\biocbuild\bbs-3.13-bioc\R\bin\R.exe CMD INSTALL --merge-multiarch --build --library=Clonality.buildbin-libdir Clonality_1.40.0.tar.gz && C:\Users\biocbuild\bbs-3.13-bioc\R\bin\R.exe CMD INSTALL Clonality_1.40.0.zip && rm Clonality_1.40.0.tar.gz Clonality_1.40.0.zip |
| StartedAt: 2021-10-14 07:10:23 -0400 (Thu, 14 Oct 2021) |
| EndedAt: 2021-10-14 07:11:40 -0400 (Thu, 14 Oct 2021) |
| EllapsedTime: 76.9 seconds |
| RetCode: 0 |
| Status: OK |
##############################################################################
##############################################################################
###
### Running command:
###
### C:\cygwin\bin\curl.exe -O http://155.52.207.165/BBS/3.13/bioc/src/contrib/Clonality_1.40.0.tar.gz && rm -rf Clonality.buildbin-libdir && mkdir Clonality.buildbin-libdir && C:\Users\biocbuild\bbs-3.13-bioc\R\bin\R.exe CMD INSTALL --merge-multiarch --build --library=Clonality.buildbin-libdir Clonality_1.40.0.tar.gz && C:\Users\biocbuild\bbs-3.13-bioc\R\bin\R.exe CMD INSTALL Clonality_1.40.0.zip && rm Clonality_1.40.0.tar.gz Clonality_1.40.0.zip
###
##############################################################################
##############################################################################
% Total % Received % Xferd Average Speed Time Time Time Current
Dload Upload Total Spent Left Speed
0 0 0 0 0 0 0 0 --:--:-- --:--:-- --:--:-- 0
79 2434k 79 1944k 0 0 4328k 0 --:--:-- --:--:-- --:--:-- 4330k
100 2434k 100 2434k 0 0 4949k 0 --:--:-- --:--:-- --:--:-- 4947k
install for i386
* installing *source* package 'Clonality' ...
** using staged installation
** R
** data
** inst
** byte-compile and prepare package for lazy loading
** help
*** installing help indices
converting help for package 'Clonality'
finding HTML links ... done
Clonality-internal html
Clonality-package html
ECMtesting html
LOHclonality html
LRtesting3or4tumors html
SNVtest html
SNVtest2 html
ave.adj.probes html
chromosomePlots html
clonEM html
clonality.analysis html
create.mutation.matrix html
freqdata html
genomewidePlots html
get.mutation.frequencies html
grid.lik html
histogramPlot html
lcis html
model.lik html
mutation.proba html
mutation.rem html
print.mutation.proba html
print.mutation.rem html
splitChromosomes html
xidens html
** building package indices
** installing vignettes
'Clonality.Rnw'
** testing if installed package can be loaded from temporary location
** testing if installed package can be loaded from final location
** testing if installed package keeps a record of temporary installation path
install for x64
* installing *source* package 'Clonality' ...
** testing if installed package can be loaded
* MD5 sums
packaged installation of 'Clonality' as Clonality_1.40.0.zip
* DONE (Clonality)
* installing to library 'C:/Users/biocbuild/bbs-3.13-bioc/R/library'
package 'Clonality' successfully unpacked and MD5 sums checked