| Back to Multiple platform build/check report for BioC 3.13 | 
 | 
This page was generated on 2021-10-15 15:06:00 -0400 (Fri, 15 Oct 2021).
| To the developers/maintainers of the CiteFuse package: - Please allow up to 24 hours (and sometimes 48 hours) for your latest push to git@git.bioconductor.org:packages/CiteFuse.git to reflect on this report. See How and When does the builder pull? When will my changes propagate? here for more information. - Make sure to use the following settings in order to reproduce any error or warning you see on this page. | 
| Package 316/2041 | Hostname | OS / Arch | INSTALL | BUILD | CHECK | BUILD BIN | ||||||||
| CiteFuse 1.4.0  (landing page) Yingxin Lin 
 | nebbiolo1 | Linux (Ubuntu 20.04.2 LTS) / x86_64 | OK | OK | OK |  | ||||||||
| tokay2 | Windows Server 2012 R2 Standard / x64 | OK | OK | OK | OK |  | ||||||||
| machv2 | macOS 10.14.6 Mojave / x86_64 | OK | OK | OK | OK |  | ||||||||
| Package: CiteFuse | 
| Version: 1.4.0 | 
| Command: C:\Users\biocbuild\bbs-3.13-bioc\R\bin\R.exe CMD check --force-multiarch --install=check:CiteFuse.install-out.txt --library=C:\Users\biocbuild\bbs-3.13-bioc\R\library --no-vignettes --timings CiteFuse_1.4.0.tar.gz | 
| StartedAt: 2021-10-14 21:05:55 -0400 (Thu, 14 Oct 2021) | 
| EndedAt: 2021-10-14 21:12:32 -0400 (Thu, 14 Oct 2021) | 
| EllapsedTime: 397.1 seconds | 
| RetCode: 0 | 
| Status: OK | 
| CheckDir: CiteFuse.Rcheck | 
| Warnings: 0 | 
##############################################################################
##############################################################################
###
### Running command:
###
###   C:\Users\biocbuild\bbs-3.13-bioc\R\bin\R.exe CMD check --force-multiarch --install=check:CiteFuse.install-out.txt --library=C:\Users\biocbuild\bbs-3.13-bioc\R\library --no-vignettes --timings CiteFuse_1.4.0.tar.gz
###
##############################################################################
##############################################################################
* using log directory 'C:/Users/biocbuild/bbs-3.13-bioc/meat/CiteFuse.Rcheck'
* using R version 4.1.1 (2021-08-10)
* using platform: x86_64-w64-mingw32 (64-bit)
* using session charset: ISO8859-1
* using option '--no-vignettes'
* checking for file 'CiteFuse/DESCRIPTION' ... OK
* checking extension type ... Package
* this is package 'CiteFuse' version '1.4.0'
* package encoding: UTF-8
* checking package namespace information ... OK
* checking package dependencies ... OK
* checking if this is a source package ... OK
* checking if there is a namespace ... OK
* checking for hidden files and directories ... OK
* checking for portable file names ... OK
* checking whether package 'CiteFuse' can be installed ... OK
* checking installed package size ... OK
* checking package directory ... OK
* checking 'build' directory ... OK
* checking DESCRIPTION meta-information ... OK
* checking top-level files ... OK
* checking for left-over files ... OK
* checking index information ... OK
* checking package subdirectories ... OK
* checking R files for non-ASCII characters ... OK
* checking R files for syntax errors ... OK
* loading checks for arch 'i386'
** checking whether the package can be loaded ... OK
** checking whether the package can be loaded with stated dependencies ... OK
** checking whether the package can be unloaded cleanly ... OK
** checking whether the namespace can be loaded with stated dependencies ... OK
** checking whether the namespace can be unloaded cleanly ... OK
* loading checks for arch 'x64'
** checking whether the package can be loaded ... OK
** checking whether the package can be loaded with stated dependencies ... OK
** checking whether the package can be unloaded cleanly ... OK
** checking whether the namespace can be loaded with stated dependencies ... OK
** checking whether the namespace can be unloaded cleanly ... OK
* checking dependencies in R code ... OK
* checking S3 generic/method consistency ... OK
* checking replacement functions ... OK
* checking foreign function calls ... OK
* checking R code for possible problems ... OK
* checking Rd files ... OK
* checking Rd metadata ... OK
* checking Rd cross-references ... OK
* checking for missing documentation entries ... OK
* checking for code/documentation mismatches ... OK
* checking Rd \usage sections ... OK
* checking Rd contents ... OK
* checking for unstated dependencies in examples ... OK
* checking contents of 'data' directory ... OK
* checking data for non-ASCII characters ... OK
* checking data for ASCII and uncompressed saves ... OK
* checking files in 'vignettes' ... OK
* checking examples ...
** running examples for arch 'i386' ... OK
Examples with CPU (user + system) or elapsed time > 5s
             user system elapsed
DEgenesCross 5.47   0.09    5.56
** running examples for arch 'x64' ... OK
Examples with CPU (user + system) or elapsed time > 5s
             user system elapsed
DEgenesCross 6.89   0.00    6.89
plotHTO      5.03   0.04    5.06
* checking for unstated dependencies in vignettes ... OK
* checking package vignettes in 'inst/doc' ... OK
* checking running R code from vignettes ... SKIPPED
* checking re-building of vignette outputs ... SKIPPED
* checking PDF version of manual ... OK
* DONE
Status: OK
CiteFuse.Rcheck/00install.out
##############################################################################
##############################################################################
###
### Running command:
###
###   C:\cygwin\bin\curl.exe -O http://155.52.207.165/BBS/3.13/bioc/src/contrib/CiteFuse_1.4.0.tar.gz && rm -rf CiteFuse.buildbin-libdir && mkdir CiteFuse.buildbin-libdir && C:\Users\biocbuild\bbs-3.13-bioc\R\bin\R.exe CMD INSTALL --merge-multiarch --build --library=CiteFuse.buildbin-libdir CiteFuse_1.4.0.tar.gz && C:\Users\biocbuild\bbs-3.13-bioc\R\bin\R.exe CMD INSTALL CiteFuse_1.4.0.zip && rm CiteFuse_1.4.0.tar.gz CiteFuse_1.4.0.zip
###
##############################################################################
##############################################################################
  % Total    % Received % Xferd  Average Speed   Time    Time     Time  Current
                                 Dload  Upload   Total   Spent    Left  Speed
  0     0    0     0    0     0      0      0 --:--:-- --:--:-- --:--:--     0
 41 1814k   41  760k    0     0  1689k      0  0:00:01 --:--:--  0:00:01 1690k
100 1814k  100 1814k    0     0  2310k      0 --:--:-- --:--:-- --:--:-- 2311k
install for i386
* installing *source* package 'CiteFuse' ...
** using staged installation
** R
** data
** inst
** byte-compile and prepare package for lazy loading
** help
*** installing help indices
  converting help for package 'CiteFuse'
    finding HTML links ... done
    CITEseq_example                         html  
    CiteFuse                                html  
    DEbubblePlot                            html  
    DEcomparisonPlot                        html  
    DEgenes                                 html  
    DEgenesCross                            html  
    crossSampleDoublets                     html  
    geneADTnetwork                          html  
    igraphClustering                        html  
    importanceADT                           html  
    ligandReceptorTest                      html  
    lr_pair_subset                          html  
    normaliseExprs                          html  
    plotHTO                                 html  
    plotHTOSingle                           html  
    preprocessing                           html  
    readFrom10X                             html  
    reducedDimSNF                           html  
    sce_control_subset                      html  
    sce_ctcl_subset                         html  
    selectDEgenes                           html  
    spectralClustering                      html  
    visImportance                           html  
    visLigandReceptor                       html  
    visualiseDim                            html  
    visualiseExprs                          html  
    visualiseExprsList                      html  
    visualiseKNN                            html  
    withinSampleDoublets                    html  
** building package indices
** installing vignettes
** testing if installed package can be loaded from temporary location
** testing if installed package can be loaded from final location
** testing if installed package keeps a record of temporary installation path
install for x64
* installing *source* package 'CiteFuse' ...
** testing if installed package can be loaded
* MD5 sums
packaged installation of 'CiteFuse' as CiteFuse_1.4.0.zip
* DONE (CiteFuse)
* installing to library 'C:/Users/biocbuild/bbs-3.13-bioc/R/library'
package 'CiteFuse' successfully unpacked and MD5 sums checked
| CiteFuse.Rcheck/examples_i386/CiteFuse-Ex.timings 
 | CiteFuse.Rcheck/examples_x64/CiteFuse-Ex.timings 
 |