| Back to Multiple platform build/check report for BioC 3.13 |
|
This page was generated on 2021-10-15 15:05:59 -0400 (Fri, 15 Oct 2021).
|
To the developers/maintainers of the CausalR package: - Please allow up to 24 hours (and sometimes 48 hours) for your latest push to git@git.bioconductor.org:packages/CausalR.git to reflect on this report. See How and When does the builder pull? When will my changes propagate? here for more information. - Make sure to use the following settings in order to reproduce any error or warning you see on this page. |
| Package 247/2041 | Hostname | OS / Arch | INSTALL | BUILD | CHECK | BUILD BIN | ||||||||
| CausalR 1.24.0 (landing page) Glyn Bradley
| nebbiolo1 | Linux (Ubuntu 20.04.2 LTS) / x86_64 | OK | OK | OK | |||||||||
| tokay2 | Windows Server 2012 R2 Standard / x64 | OK | OK | OK | OK | |||||||||
| machv2 | macOS 10.14.6 Mojave / x86_64 | OK | OK | OK | OK | |||||||||
| Package: CausalR |
| Version: 1.24.0 |
| Command: C:\cygwin\bin\curl.exe -O http://155.52.207.165/BBS/3.13/bioc/src/contrib/CausalR_1.24.0.tar.gz && rm -rf CausalR.buildbin-libdir && mkdir CausalR.buildbin-libdir && C:\Users\biocbuild\bbs-3.13-bioc\R\bin\R.exe CMD INSTALL --merge-multiarch --build --library=CausalR.buildbin-libdir CausalR_1.24.0.tar.gz && C:\Users\biocbuild\bbs-3.13-bioc\R\bin\R.exe CMD INSTALL CausalR_1.24.0.zip && rm CausalR_1.24.0.tar.gz CausalR_1.24.0.zip |
| StartedAt: 2021-10-14 07:22:43 -0400 (Thu, 14 Oct 2021) |
| EndedAt: 2021-10-14 07:24:32 -0400 (Thu, 14 Oct 2021) |
| EllapsedTime: 109.4 seconds |
| RetCode: 0 |
| Status: OK |
##############################################################################
##############################################################################
###
### Running command:
###
### C:\cygwin\bin\curl.exe -O http://155.52.207.165/BBS/3.13/bioc/src/contrib/CausalR_1.24.0.tar.gz && rm -rf CausalR.buildbin-libdir && mkdir CausalR.buildbin-libdir && C:\Users\biocbuild\bbs-3.13-bioc\R\bin\R.exe CMD INSTALL --merge-multiarch --build --library=CausalR.buildbin-libdir CausalR_1.24.0.tar.gz && C:\Users\biocbuild\bbs-3.13-bioc\R\bin\R.exe CMD INSTALL CausalR_1.24.0.zip && rm CausalR_1.24.0.tar.gz CausalR_1.24.0.zip
###
##############################################################################
##############################################################################
% Total % Received % Xferd Average Speed Time Time Time Current
Dload Upload Total Spent Left Speed
0 0 0 0 0 0 0 0 --:--:-- --:--:-- --:--:-- 0
100 191k 100 191k 0 0 843k 0 --:--:-- --:--:-- --:--:-- 847k
install for i386
* installing *source* package 'CausalR' ...
** using staged installation
** R
** inst
** byte-compile and prepare package for lazy loading
** help
*** installing help indices
converting help for package 'CausalR'
finding HTML links ... done
AddIDsToVertices html
AddWeightsToEdges html
AnalyseExperimentalData html
AnalysePredictionsList html
CalculateEnrichmentPValue html
CalculateSignificance html
CalculateSignificanceUsingCubicAlgorithm
html
CalculateSignificanceUsingCubicAlgorithm1b
html
CalculateSignificanceUsingQuarticAlgorithm
html
CalculateTotalWeightForAllContingencyTables
html
CalculateWeightGivenValuesInThreeByThreeContingencyTable
html
CausalR-package html
CheckPossibleValuesAreValid html
CheckRowAndColumnSumValuesAreValid html
CompareHypothesis html
ComputeFinalDistribution html
ComputePValueFromDistributionTable html
CreateCCG html
CreateCG html
CreateNetworkFromTable html
DetermineInteractionTypeOfPath html
FindApproximateValuesThatWillMaximiseDValue
html
FindIdsOfConnectedNodesInSubgraph html
FindMaximumDValue html
GetAllPossibleRoundingCombinations html
GetApproximateMaximumDValueFromThreeByTwoContingencyTable
html
GetApproximateMaximumDValueFromTwoByTwoContingencyTable
html
GetCombinationsOfCorrectandIncorrectPredictions
html
GetExplainedNodesOfCCG html
GetInteractionInformation html
GetMatrixOfCausalRelationships html
GetMaxDValueForAFamily html
GetMaxDValueForAThreeByTwoFamily html
GetMaximumDValueFromTwoByTwoContingencyTable
html
GetNodeID html
GetNodeName html
GetNumberOfPositiveAndNegativeEntries html
GetPathsInSifFormat html
GetRegulatedNodes html
GetRowAndColumnSumValues html
GetScoreForNumbersOfCorrectandIncorrectPredictions
html
GetScoresForSingleNode html
GetScoresWeightsMatrix html
GetScoresWeightsMatrixByCubicAlg html
GetSetOfDifferentiallyExpressedGenes html
GetSetOfSignificantPredictions html
GetShortestPathsFromCCG html
GetWeightForNumbersOfCorrectandIncorrectPredictions
html
GetWeightsAboveHypothesisScoreAndTotalWeights
html
GetWeightsAboveHypothesisScoreForAThreeByTwoTable
html
GetWeightsFromInteractionInformation html
MakePredictions html
MakePredictionsFromCCG html
MakePredictionsFromCG html
OrderHypotheses html
PlotGraphWithNodeNames html
PopulateTheThreeByThreeContingencyTable
html
PopulateTwoByTwoContingencyTable html
ProcessExperimentalData html
RankTheHypotheses html
ReadExperimentalData html
ReadSifFileToTable html
RemoveIDsNotInExperimentalData html
ScoreHypothesis html
ValidateFormatOfDataTable html
ValidateFormatOfTable html
WriteAllExplainedNodesToSifFile html
WriteExplainedNodesToSifFile html
runRankHypothesis html
runSCANR html
** building package indices
** installing vignettes
** testing if installed package can be loaded from temporary location
** testing if installed package can be loaded from final location
** testing if installed package keeps a record of temporary installation path
install for x64
* installing *source* package 'CausalR' ...
** testing if installed package can be loaded
* MD5 sums
packaged installation of 'CausalR' as CausalR_1.24.0.zip
* DONE (CausalR)
* installing to library 'C:/Users/biocbuild/bbs-3.13-bioc/R/library'
package 'CausalR' successfully unpacked and MD5 sums checked