| Back to Multiple platform build/check report for BioC 3.13 |
|
This page was generated on 2021-10-15 15:05:36 -0400 (Fri, 15 Oct 2021).
|
To the developers/maintainers of the CancerSubtypes package: - Please allow up to 24 hours (and sometimes 48 hours) for your latest push to git@git.bioconductor.org:packages/CancerSubtypes.git to reflect on this report. See How and When does the builder pull? When will my changes propagate? here for more information. - Make sure to use the following settings in order to reproduce any error or warning you see on this page. |
| Package 238/2041 | Hostname | OS / Arch | INSTALL | BUILD | CHECK | BUILD BIN | ||||||||
| CancerSubtypes 1.18.0 (landing page) Taosheng Xu
| nebbiolo1 | Linux (Ubuntu 20.04.2 LTS) / x86_64 | OK | OK | OK | |||||||||
| tokay2 | Windows Server 2012 R2 Standard / x64 | OK | OK | OK | OK | |||||||||
| machv2 | macOS 10.14.6 Mojave / x86_64 | OK | OK | OK | OK | |||||||||
| Package: CancerSubtypes |
| Version: 1.18.0 |
| Command: /home/biocbuild/bbs-3.13-bioc/R/bin/R CMD check --install=check:CancerSubtypes.install-out.txt --library=/home/biocbuild/bbs-3.13-bioc/R/library --no-vignettes --timings CancerSubtypes_1.18.0.tar.gz |
| StartedAt: 2021-10-14 09:08:27 -0400 (Thu, 14 Oct 2021) |
| EndedAt: 2021-10-14 09:11:07 -0400 (Thu, 14 Oct 2021) |
| EllapsedTime: 159.7 seconds |
| RetCode: 0 |
| Status: OK |
| CheckDir: CancerSubtypes.Rcheck |
| Warnings: 0 |
##############################################################################
##############################################################################
###
### Running command:
###
### /home/biocbuild/bbs-3.13-bioc/R/bin/R CMD check --install=check:CancerSubtypes.install-out.txt --library=/home/biocbuild/bbs-3.13-bioc/R/library --no-vignettes --timings CancerSubtypes_1.18.0.tar.gz
###
##############################################################################
##############################################################################
* using log directory ‘/home/biocbuild/bbs-3.13-bioc/meat/CancerSubtypes.Rcheck’
* using R version 4.1.1 (2021-08-10)
* using platform: x86_64-pc-linux-gnu (64-bit)
* using session charset: UTF-8
* using option ‘--no-vignettes’
* checking for file ‘CancerSubtypes/DESCRIPTION’ ... OK
* checking extension type ... Package
* this is package ‘CancerSubtypes’ version ‘1.18.0’
* checking package namespace information ... OK
* checking package dependencies ... OK
* checking if this is a source package ... OK
* checking if there is a namespace ... OK
* checking for hidden files and directories ... OK
* checking for portable file names ... OK
* checking for sufficient/correct file permissions ... OK
* checking whether package ‘CancerSubtypes’ can be installed ... OK
* checking installed package size ... OK
* checking package directory ... OK
* checking ‘build’ directory ... OK
* checking DESCRIPTION meta-information ... OK
* checking top-level files ... OK
* checking for left-over files ... OK
* checking index information ... OK
* checking package subdirectories ... OK
* checking R files for non-ASCII characters ... OK
* checking R files for syntax errors ... OK
* checking whether the package can be loaded ... OK
* checking whether the package can be loaded with stated dependencies ... OK
* checking whether the package can be unloaded cleanly ... OK
* checking whether the namespace can be loaded with stated dependencies ... OK
* checking whether the namespace can be unloaded cleanly ... OK
* checking dependencies in R code ... OK
* checking S3 generic/method consistency ... OK
* checking replacement functions ... OK
* checking foreign function calls ... OK
* checking R code for possible problems ... NOTE
displayClusters: no visible global function definition for ‘grey’
Undefined global functions or variables:
grey
Consider adding
importFrom("grDevices", "grey")
to your NAMESPACE file.
* checking Rd files ... OK
* checking Rd metadata ... OK
* checking Rd cross-references ... OK
* checking for missing documentation entries ... OK
* checking for code/documentation mismatches ... OK
* checking Rd \usage sections ... OK
* checking Rd contents ... OK
* checking for unstated dependencies in examples ... OK
* checking contents of ‘data’ directory ... OK
* checking data for non-ASCII characters ... OK
* checking data for ASCII and uncompressed saves ... OK
* checking installed files from ‘inst/doc’ ... OK
* checking files in ‘vignettes’ ... OK
* checking examples ... OK
Examples with CPU (user + system) or elapsed time > 5s
user system elapsed
sigclustTest 24.839 0.024 24.868
ExecuteCNMF 18.389 5.833 9.671
ExecuteSNF.CC 14.228 0.468 14.697
survAnalysis 10.599 0.026 10.624
FSbyCox 7.820 0.013 7.833
ExecuteCC 6.198 0.100 6.299
* checking for unstated dependencies in ‘tests’ ... OK
* checking tests ...
Running ‘runTests.R’
OK
* checking for unstated dependencies in vignettes ... OK
* checking package vignettes in ‘inst/doc’ ... OK
* checking running R code from vignettes ... SKIPPED
* checking re-building of vignette outputs ... SKIPPED
* checking PDF version of manual ... OK
* DONE
Status: 1 NOTE
See
‘/home/biocbuild/bbs-3.13-bioc/meat/CancerSubtypes.Rcheck/00check.log’
for details.
CancerSubtypes.Rcheck/00install.out
############################################################################## ############################################################################## ### ### Running command: ### ### /home/biocbuild/bbs-3.13-bioc/R/bin/R CMD INSTALL CancerSubtypes ### ############################################################################## ############################################################################## * installing to library ‘/home/biocbuild/bbs-3.13-bioc/R/library’ * installing *source* package ‘CancerSubtypes’ ... ** using staged installation ** R ** data ** inst ** byte-compile and prepare package for lazy loading ** help *** installing help indices ** building package indices ** installing vignettes ** testing if installed package can be loaded from temporary location ** testing if installed package can be loaded from final location ** testing if installed package keeps a record of temporary installation path * DONE (CancerSubtypes)
CancerSubtypes.Rcheck/tests/runTests.Rout
R version 4.1.1 (2021-08-10) -- "Kick Things"
Copyright (C) 2021 The R Foundation for Statistical Computing
Platform: x86_64-pc-linux-gnu (64-bit)
R is free software and comes with ABSOLUTELY NO WARRANTY.
You are welcome to redistribute it under certain conditions.
Type 'license()' or 'licence()' for distribution details.
R is a collaborative project with many contributors.
Type 'contributors()' for more information and
'citation()' on how to cite R or R packages in publications.
Type 'demo()' for some demos, 'help()' for on-line help, or
'help.start()' for an HTML browser interface to help.
Type 'q()' to quit R.
> BiocGenerics:::testPackage("CancerSubtypes")
NMF - BioConductor layer [OK] | Shared memory capabilities [NO: synchronicity] | Cores 71/72
To enable shared memory capabilities, try: install.extras('
NMF
')
RUNIT TEST PROTOCOL -- Thu Oct 14 09:11:04 2021
***********************************************
Number of test functions: 1
Number of errors: 0
Number of failures: 0
1 Test Suite :
CancerSubtypes RUnit Tests - 1 test function, 0 errors, 0 failures
Number of test functions: 1
Number of errors: 0
Number of failures: 0
>
> proc.time()
user system elapsed
3.144 0.181 3.310
CancerSubtypes.Rcheck/CancerSubtypes-Ex.timings
| name | user | system | elapsed | |
| DiffExp.limma | 0.283 | 0.020 | 0.303 | |
| ExecuteCC | 6.198 | 0.100 | 6.299 | |
| ExecuteCNMF | 18.389 | 5.833 | 9.671 | |
| ExecuteSNF.CC | 14.228 | 0.468 | 14.697 | |
| ExecuteSNF | 0.500 | 0.016 | 0.516 | |
| ExecuteWSNF | 1.683 | 0.028 | 1.711 | |
| ExecuteiCluster | 3.455 | 0.018 | 3.474 | |
| FSbyCox | 7.820 | 0.013 | 7.833 | |
| FSbyMAD | 0.160 | 0.004 | 0.163 | |
| FSbyPCA | 0.152 | 0.012 | 0.164 | |
| FSbyVar | 0.049 | 0.004 | 0.053 | |
| GeneExp | 0.014 | 0.003 | 0.017 | |
| Ranking | 0.027 | 0.008 | 0.034 | |
| affinityMatrix | 0.021 | 0.000 | 0.022 | |
| data.checkDistribution | 0.266 | 0.008 | 0.274 | |
| data.imputation | 0.005 | 0.000 | 0.006 | |
| data.normalization | 0.075 | 0.004 | 0.079 | |
| dist2 | 0.011 | 0.000 | 0.012 | |
| drawHeatmap | 3.676 | 0.068 | 3.746 | |
| miRNAExp | 0.005 | 0.000 | 0.005 | |
| saveFigure | 0.767 | 0.008 | 0.776 | |
| sigclustTest | 24.839 | 0.024 | 24.868 | |
| silhouette_SimilarityMatrix | 0.226 | 0.004 | 0.229 | |
| spectralAlg | 0.005 | 0.000 | 0.005 | |
| status | 0.000 | 0.001 | 0.002 | |
| survAnalysis | 10.599 | 0.026 | 10.624 | |
| time | 0.002 | 0.000 | 0.001 | |