| Back to Multiple platform build/check report for BioC 3.13 |
|
This page was generated on 2021-10-15 15:05:37 -0400 (Fri, 15 Oct 2021).
|
To the developers/maintainers of the CGHnormaliter package: - Please allow up to 24 hours (and sometimes 48 hours) for your latest push to git@git.bioconductor.org:packages/CGHnormaliter.git to reflect on this report. See How and When does the builder pull? When will my changes propagate? here for more information. - Make sure to use the following settings in order to reproduce any error or warning you see on this page. |
| Package 281/2041 | Hostname | OS / Arch | INSTALL | BUILD | CHECK | BUILD BIN | ||||||||
| CGHnormaliter 1.46.0 (landing page) Bart P.P. van Houte
| nebbiolo1 | Linux (Ubuntu 20.04.2 LTS) / x86_64 | OK | OK | OK | |||||||||
| tokay2 | Windows Server 2012 R2 Standard / x64 | OK | OK | OK | OK | |||||||||
| machv2 | macOS 10.14.6 Mojave / x86_64 | OK | OK | OK | OK | |||||||||
| Package: CGHnormaliter |
| Version: 1.46.0 |
| Command: /home/biocbuild/bbs-3.13-bioc/R/bin/R CMD check --install=check:CGHnormaliter.install-out.txt --library=/home/biocbuild/bbs-3.13-bioc/R/library --no-vignettes --timings CGHnormaliter_1.46.0.tar.gz |
| StartedAt: 2021-10-14 09:12:46 -0400 (Thu, 14 Oct 2021) |
| EndedAt: 2021-10-14 09:14:00 -0400 (Thu, 14 Oct 2021) |
| EllapsedTime: 74.4 seconds |
| RetCode: 0 |
| Status: OK |
| CheckDir: CGHnormaliter.Rcheck |
| Warnings: 0 |
##############################################################################
##############################################################################
###
### Running command:
###
### /home/biocbuild/bbs-3.13-bioc/R/bin/R CMD check --install=check:CGHnormaliter.install-out.txt --library=/home/biocbuild/bbs-3.13-bioc/R/library --no-vignettes --timings CGHnormaliter_1.46.0.tar.gz
###
##############################################################################
##############################################################################
* using log directory ‘/home/biocbuild/bbs-3.13-bioc/meat/CGHnormaliter.Rcheck’
* using R version 4.1.1 (2021-08-10)
* using platform: x86_64-pc-linux-gnu (64-bit)
* using session charset: UTF-8
* using option ‘--no-vignettes’
* checking for file ‘CGHnormaliter/DESCRIPTION’ ... OK
* checking extension type ... Package
* this is package ‘CGHnormaliter’ version ‘1.46.0’
* checking package namespace information ... OK
* checking package dependencies ... OK
* checking if this is a source package ... OK
* checking if there is a namespace ... OK
* checking for hidden files and directories ... OK
* checking for portable file names ... OK
* checking for sufficient/correct file permissions ... OK
* checking whether package ‘CGHnormaliter’ can be installed ... OK
* checking installed package size ... OK
* checking package directory ... OK
* checking ‘build’ directory ... OK
* checking DESCRIPTION meta-information ... NOTE
Malformed Title field: should not end in a period.
Packages listed in more than one of Depends, Imports, Suggests, Enhances:
‘CGHbase’ ‘CGHcall’
A package should be listed in only one of these fields.
* checking top-level files ... OK
* checking for left-over files ... OK
* checking index information ... OK
* checking package subdirectories ... OK
* checking R files for non-ASCII characters ... OK
* checking R files for syntax errors ... OK
* checking whether the package can be loaded ... OK
* checking whether the package can be loaded with stated dependencies ... OK
* checking whether the package can be unloaded cleanly ... OK
* checking whether the namespace can be loaded with stated dependencies ... OK
* checking whether the namespace can be unloaded cleanly ... OK
* checking dependencies in R code ... OK
* checking S3 generic/method consistency ... OK
* checking replacement functions ... OK
* checking foreign function calls ... OK
* checking R code for possible problems ... NOTE
.plotMA: no visible global function definition for ‘pdf’
.plotMA: no visible global function definition for ‘palette’
.plotMA: no visible global function definition for ‘par’
.plotMA: no visible global function definition for ‘title’
.plotMA: no visible global function definition for ‘abline’
.plotMA: no visible global function definition for ‘dev.off’
.readCghRaw: no visible global function definition for ‘read.table’
.readCghRaw: no visible global function definition for ‘make_cghRaw’
.runCGHcall: no visible global function definition for ‘capture.output’
.runCGHcall: no visible global function definition for ‘ExpandCGHcall’
CGHnormaliter: no visible binding for global variable ‘segment’
CGHnormaliter: no visible global function definition for
‘capture.output’
CGHnormaliter: no visible global function definition for ‘normalize’
CGHnormaliter: no visible global function definition for
‘postsegnormalize’
CGHnormaliter.write.table: no visible global function definition for
‘segmented’
CGHnormaliter.write.table: no visible global function definition for
‘calls’
Undefined global functions or variables:
ExpandCGHcall abline calls capture.output dev.off make_cghRaw
normalize palette par pdf postsegnormalize read.table segment
segmented title
Consider adding
importFrom("grDevices", "dev.off", "palette", "pdf")
importFrom("graphics", "abline", "par", "title")
importFrom("utils", "capture.output", "read.table")
to your NAMESPACE file.
* checking Rd files ... OK
* checking Rd metadata ... OK
* checking Rd cross-references ... OK
* checking for missing documentation entries ... OK
* checking for code/documentation mismatches ... OK
* checking Rd \usage sections ... OK
* checking Rd contents ... OK
* checking for unstated dependencies in examples ... OK
* checking contents of ‘data’ directory ... OK
* checking data for non-ASCII characters ... OK
* checking data for ASCII and uncompressed saves ... OK
* checking files in ‘vignettes’ ... OK
* checking examples ... OK
Examples with CPU (user + system) or elapsed time > 5s
user system elapsed
CGHnormaliter 44.103 0.243 44.351
* checking for unstated dependencies in vignettes ... OK
* checking package vignettes in ‘inst/doc’ ... OK
* checking running R code from vignettes ... SKIPPED
* checking re-building of vignette outputs ... SKIPPED
* checking PDF version of manual ... OK
* DONE
Status: 2 NOTEs
See
‘/home/biocbuild/bbs-3.13-bioc/meat/CGHnormaliter.Rcheck/00check.log’
for details.
CGHnormaliter.Rcheck/00install.out
############################################################################## ############################################################################## ### ### Running command: ### ### /home/biocbuild/bbs-3.13-bioc/R/bin/R CMD INSTALL CGHnormaliter ### ############################################################################## ############################################################################## * installing to library ‘/home/biocbuild/bbs-3.13-bioc/R/library’ * installing *source* package ‘CGHnormaliter’ ... ** using staged installation ** R ** data ** byte-compile and prepare package for lazy loading ** help *** installing help indices ** building package indices ** installing vignettes ** testing if installed package can be loaded from temporary location ** testing if installed package can be loaded from final location ** testing if installed package keeps a record of temporary installation path * DONE (CGHnormaliter)
CGHnormaliter.Rcheck/CGHnormaliter-Ex.timings
| name | user | system | elapsed | |
| CGHnormaliter | 44.103 | 0.243 | 44.351 | |
| CGHnormaliter.write.table | 0.157 | 0.000 | 0.158 | |