| Back to Multiple platform build/check report for BioC 3.13 |
|
This page was generated on 2021-10-15 15:06:00 -0400 (Fri, 15 Oct 2021).
|
To the developers/maintainers of the CFAssay package: - Please allow up to 24 hours (and sometimes 48 hours) for your latest push to git@git.bioconductor.org:packages/CFAssay.git to reflect on this report. See How and When does the builder pull? When will my changes propagate? here for more information. - Make sure to use the following settings in order to reproduce any error or warning you see on this page. |
| Package 276/2041 | Hostname | OS / Arch | INSTALL | BUILD | CHECK | BUILD BIN | ||||||||
| CFAssay 1.26.0 (landing page) Herbert Braselmann
| nebbiolo1 | Linux (Ubuntu 20.04.2 LTS) / x86_64 | OK | OK | OK | |||||||||
| tokay2 | Windows Server 2012 R2 Standard / x64 | OK | OK | OK | OK | |||||||||
| machv2 | macOS 10.14.6 Mojave / x86_64 | OK | OK | OK | OK | |||||||||
| Package: CFAssay |
| Version: 1.26.0 |
| Command: rm -rf CFAssay.buildbin-libdir && mkdir CFAssay.buildbin-libdir && C:\Users\biocbuild\bbs-3.13-bioc\R\bin\R.exe CMD INSTALL --merge-multiarch --build --library=CFAssay.buildbin-libdir CFAssay_1.26.0.tar.gz |
| StartedAt: 2021-10-15 08:29:36 -0400 (Fri, 15 Oct 2021) |
| EndedAt: 2021-10-15 08:31:05 -0400 (Fri, 15 Oct 2021) |
| EllapsedTime: 89.4 seconds |
| RetCode: 0 |
| Status: OK |
| PackageFile: CFAssay_1.26.0.zip |
| PackageFileSize: 327.8 KiB |
##############################################################################
##############################################################################
###
### Running command:
###
### rm -rf CFAssay.buildbin-libdir && mkdir CFAssay.buildbin-libdir && C:\Users\biocbuild\bbs-3.13-bioc\R\bin\R.exe CMD INSTALL --merge-multiarch --build --library=CFAssay.buildbin-libdir CFAssay_1.26.0.tar.gz
###
##############################################################################
##############################################################################
install for i386
* installing *source* package 'CFAssay' ...
** using staged installation
** R
** inst
** byte-compile and prepare package for lazy loading
** help
*** installing help indices
converting help for package 'CFAssay'
finding HTML links ... done
cellsurvLQdiff html
cellsurvLQfit html
cfa2way html
pes html
plot.cellsurvLQfit html
plotExp html
plotExp.cellsurvLQfit html
plotExp.cfa2way html
plotExp.default html
print.cellsurvLQdiff html
print.cellsurvLQfit html
print.cfa2way html
sfpmean html
** building package indices
** installing vignettes
** testing if installed package can be loaded from temporary location
** testing if installed package can be loaded from final location
** testing if installed package keeps a record of temporary installation path
install for x64
* installing *source* package 'CFAssay' ...
** testing if installed package can be loaded
* MD5 sums
packaged installation of 'CFAssay' as CFAssay_1.26.0.zip
* DONE (CFAssay)