| Back to Multiple platform build/check report for BioC 3.13 |
|
This page was generated on 2021-10-15 15:06:30 -0400 (Fri, 15 Oct 2021).
|
To the developers/maintainers of the CATALYST package: - Please allow up to 24 hours (and sometimes 48 hours) for your latest push to git@git.bioconductor.org:packages/CATALYST.git to reflect on this report. See How and When does the builder pull? When will my changes propagate? here for more information. - Make sure to use the following settings in order to reproduce any error or warning you see on this page. |
| Package 244/2041 | Hostname | OS / Arch | INSTALL | BUILD | CHECK | BUILD BIN | ||||||||
| CATALYST 1.16.2 (landing page) Helena L. Crowell
| nebbiolo1 | Linux (Ubuntu 20.04.2 LTS) / x86_64 | OK | OK | OK | |||||||||
| tokay2 | Windows Server 2012 R2 Standard / x64 | OK | OK | OK | OK | |||||||||
| machv2 | macOS 10.14.6 Mojave / x86_64 | OK | OK | OK | OK | |||||||||
| Package: CATALYST |
| Version: 1.16.2 |
| Command: /Library/Frameworks/R.framework/Versions/Current/Resources/bin/R CMD check --install=check:CATALYST.install-out.txt --library=/Library/Frameworks/R.framework/Versions/Current/Resources/library --no-vignettes --timings CATALYST_1.16.2.tar.gz |
| StartedAt: 2021-10-14 17:05:29 -0400 (Thu, 14 Oct 2021) |
| EndedAt: 2021-10-14 17:21:32 -0400 (Thu, 14 Oct 2021) |
| EllapsedTime: 963.5 seconds |
| RetCode: 0 |
| Status: OK |
| CheckDir: CATALYST.Rcheck |
| Warnings: 0 |
##############################################################################
##############################################################################
###
### Running command:
###
### /Library/Frameworks/R.framework/Versions/Current/Resources/bin/R CMD check --install=check:CATALYST.install-out.txt --library=/Library/Frameworks/R.framework/Versions/Current/Resources/library --no-vignettes --timings CATALYST_1.16.2.tar.gz
###
##############################################################################
##############################################################################
* using log directory ‘/Users/biocbuild/bbs-3.13-bioc/meat/CATALYST.Rcheck’
* using R version 4.1.1 (2021-08-10)
* using platform: x86_64-apple-darwin17.0 (64-bit)
* using session charset: UTF-8
* using option ‘--no-vignettes’
* checking for file ‘CATALYST/DESCRIPTION’ ... OK
* checking extension type ... Package
* this is package ‘CATALYST’ version ‘1.16.2’
* package encoding: UTF-8
* checking package namespace information ... OK
* checking package dependencies ... OK
* checking if this is a source package ... OK
* checking if there is a namespace ... OK
* checking for hidden files and directories ... NOTE
Found the following hidden files and directories:
.git_fetch_output.txt
.git_merge_output.txt
These were most likely included in error. See section ‘Package
structure’ in the ‘Writing R Extensions’ manual.
* checking for portable file names ... OK
* checking for sufficient/correct file permissions ... OK
* checking whether package ‘CATALYST’ can be installed ... OK
* checking installed package size ... OK
* checking package directory ... OK
* checking ‘build’ directory ... OK
* checking DESCRIPTION meta-information ... OK
* checking top-level files ... OK
* checking for left-over files ... OK
* checking index information ... OK
* checking package subdirectories ... OK
* checking R files for non-ASCII characters ... OK
* checking R files for syntax errors ... OK
* checking whether the package can be loaded ... OK
* checking whether the package can be loaded with stated dependencies ... OK
* checking whether the package can be unloaded cleanly ... OK
* checking whether the namespace can be loaded with stated dependencies ... OK
* checking whether the namespace can be unloaded cleanly ... OK
* checking dependencies in R code ... OK
* checking S3 generic/method consistency ... OK
* checking replacement functions ... OK
* checking foreign function calls ... OK
* checking R code for possible problems ... OK
* checking Rd files ... OK
* checking Rd metadata ... OK
* checking Rd cross-references ... OK
* checking for missing documentation entries ... OK
* checking for code/documentation mismatches ... OK
* checking Rd \usage sections ... OK
* checking Rd contents ... OK
* checking for unstated dependencies in examples ... OK
* checking contents of ‘data’ directory ... OK
* checking data for non-ASCII characters ... OK
* checking LazyData ... OK
* checking data for ASCII and uncompressed saves ... OK
* checking files in ‘vignettes’ ... OK
* checking examples ... OK
Examples with CPU (user + system) or elapsed time > 5s
user system elapsed
plotMultiHeatmap 19.991 0.891 20.901
sce2fcs 19.295 0.655 20.052
plotDiffHeatmap 18.860 0.870 19.751
plotPbExprs 17.442 0.528 17.989
plotDR 16.248 0.537 16.794
plotExprHeatmap 14.862 0.934 15.834
plotClusterExprs 10.768 0.553 11.338
plotCodes 9.753 0.534 10.295
pbMDS 9.667 0.346 10.020
plotAbundances 9.359 0.480 9.847
clrDR 9.106 0.580 9.699
SCE-accessors 8.672 0.822 9.500
plotMahal 9.142 0.087 9.241
compCytof 8.950 0.215 9.175
mergeClusters 8.759 0.380 9.146
plotFreqHeatmap 8.268 0.536 8.812
plotSpillmat 8.547 0.143 8.695
cluster 7.657 0.464 8.140
computeSpillmat 7.906 0.154 8.068
extractClusters 7.434 0.490 7.930
adaptSpillmat 7.651 0.190 7.852
estCutoffs 7.746 0.083 7.844
filterSCE 7.322 0.344 7.674
plotScatter 7.038 0.083 7.131
plotYields 6.924 0.144 7.074
applyCutoffs 6.594 0.075 6.673
runDR 6.061 0.057 6.119
plotExprs 5.497 0.067 5.567
* checking for unstated dependencies in ‘tests’ ... OK
* checking tests ...
Running ‘testthat.R’
OK
* checking for unstated dependencies in vignettes ... OK
* checking package vignettes in ‘inst/doc’ ... OK
* checking running R code from vignettes ... SKIPPED
* checking re-building of vignette outputs ... SKIPPED
* checking PDF version of manual ... OK
* DONE
Status: 1 NOTE
See
‘/Users/biocbuild/bbs-3.13-bioc/meat/CATALYST.Rcheck/00check.log’
for details.
CATALYST.Rcheck/00install.out
############################################################################## ############################################################################## ### ### Running command: ### ### /Library/Frameworks/R.framework/Versions/Current/Resources/bin/R CMD INSTALL CATALYST ### ############################################################################## ############################################################################## * installing to library ‘/Library/Frameworks/R.framework/Versions/4.1/Resources/library’ * installing *source* package ‘CATALYST’ ... ** using staged installation ** R ** data *** moving datasets to lazyload DB ** inst ** byte-compile and prepare package for lazy loading ** help *** installing help indices ** building package indices ** installing vignettes ** testing if installed package can be loaded from temporary location ** testing if installed package can be loaded from final location ** testing if installed package keeps a record of temporary installation path * DONE (CATALYST)
CATALYST.Rcheck/tests/testthat.Rout
R version 4.1.1 (2021-08-10) -- "Kick Things"
Copyright (C) 2021 The R Foundation for Statistical Computing
Platform: x86_64-apple-darwin17.0 (64-bit)
R is free software and comes with ABSOLUTELY NO WARRANTY.
You are welcome to redistribute it under certain conditions.
Type 'license()' or 'licence()' for distribution details.
R is a collaborative project with many contributors.
Type 'contributors()' for more information and
'citation()' on how to cite R or R packages in publications.
Type 'demo()' for some demos, 'help()' for on-line help, or
'help.start()' for an HTML browser interface to help.
Type 'q()' to quit R.
> library(testthat)
> library(CATALYST)
Loading required package: SingleCellExperiment
Loading required package: SummarizedExperiment
Loading required package: MatrixGenerics
Loading required package: matrixStats
Attaching package: 'MatrixGenerics'
The following objects are masked from 'package:matrixStats':
colAlls, colAnyNAs, colAnys, colAvgsPerRowSet, colCollapse,
colCounts, colCummaxs, colCummins, colCumprods, colCumsums,
colDiffs, colIQRDiffs, colIQRs, colLogSumExps, colMadDiffs,
colMads, colMaxs, colMeans2, colMedians, colMins, colOrderStats,
colProds, colQuantiles, colRanges, colRanks, colSdDiffs, colSds,
colSums2, colTabulates, colVarDiffs, colVars, colWeightedMads,
colWeightedMeans, colWeightedMedians, colWeightedSds,
colWeightedVars, rowAlls, rowAnyNAs, rowAnys, rowAvgsPerColSet,
rowCollapse, rowCounts, rowCummaxs, rowCummins, rowCumprods,
rowCumsums, rowDiffs, rowIQRDiffs, rowIQRs, rowLogSumExps,
rowMadDiffs, rowMads, rowMaxs, rowMeans2, rowMedians, rowMins,
rowOrderStats, rowProds, rowQuantiles, rowRanges, rowRanks,
rowSdDiffs, rowSds, rowSums2, rowTabulates, rowVarDiffs, rowVars,
rowWeightedMads, rowWeightedMeans, rowWeightedMedians,
rowWeightedSds, rowWeightedVars
Loading required package: GenomicRanges
Loading required package: stats4
Loading required package: BiocGenerics
Loading required package: parallel
Attaching package: 'BiocGenerics'
The following objects are masked from 'package:parallel':
clusterApply, clusterApplyLB, clusterCall, clusterEvalQ,
clusterExport, clusterMap, parApply, parCapply, parLapply,
parLapplyLB, parRapply, parSapply, parSapplyLB
The following objects are masked from 'package:stats':
IQR, mad, sd, var, xtabs
The following objects are masked from 'package:base':
Filter, Find, Map, Position, Reduce, anyDuplicated, append,
as.data.frame, basename, cbind, colnames, dirname, do.call,
duplicated, eval, evalq, get, grep, grepl, intersect, is.unsorted,
lapply, mapply, match, mget, order, paste, pmax, pmax.int, pmin,
pmin.int, rank, rbind, rownames, sapply, setdiff, sort, table,
tapply, union, unique, unsplit, which.max, which.min
Loading required package: S4Vectors
Attaching package: 'S4Vectors'
The following objects are masked from 'package:base':
I, expand.grid, unname
Loading required package: IRanges
Loading required package: GenomeInfoDb
Loading required package: Biobase
Welcome to Bioconductor
Vignettes contain introductory material; view with
'browseVignettes()'. To cite Bioconductor, see
'citation("Biobase")', and for packages 'citation("pkgname")'.
Attaching package: 'Biobase'
The following object is masked from 'package:MatrixGenerics':
rowMedians
The following objects are masked from 'package:matrixStats':
anyMissing, rowMedians
>
> test_check("CATALYST")
[ FAIL 0 | WARN 21 | SKIP 0 | PASS 742 ]
>
> proc.time()
user system elapsed
312.077 7.122 319.509
CATALYST.Rcheck/CATALYST-Ex.timings
| name | user | system | elapsed | |
| SCE-accessors | 8.672 | 0.822 | 9.500 | |
| adaptSpillmat | 7.651 | 0.190 | 7.852 | |
| applyCutoffs | 6.594 | 0.075 | 6.673 | |
| assignPrelim | 3.444 | 0.012 | 3.458 | |
| clrDR | 9.106 | 0.580 | 9.699 | |
| cluster | 7.657 | 0.464 | 8.140 | |
| compCytof | 8.950 | 0.215 | 9.175 | |
| computeSpillmat | 7.906 | 0.154 | 8.068 | |
| data | 0.007 | 0.011 | 0.019 | |
| estCutoffs | 7.746 | 0.083 | 7.844 | |
| extractClusters | 7.434 | 0.490 | 7.930 | |
| filterSCE | 7.322 | 0.344 | 7.674 | |
| guessPanel | 0.035 | 0.003 | 0.038 | |
| mergeClusters | 8.759 | 0.380 | 9.146 | |
| normCytof | 4.540 | 0.050 | 4.601 | |
| pbMDS | 9.667 | 0.346 | 10.020 | |
| plotAbundances | 9.359 | 0.480 | 9.847 | |
| plotClusterExprs | 10.768 | 0.553 | 11.338 | |
| plotCodes | 9.753 | 0.534 | 10.295 | |
| plotCounts | 1.896 | 0.084 | 1.982 | |
| plotDR | 16.248 | 0.537 | 16.794 | |
| plotDiffHeatmap | 18.860 | 0.870 | 19.751 | |
| plotEvents | 4.005 | 0.021 | 4.028 | |
| plotExprHeatmap | 14.862 | 0.934 | 15.834 | |
| plotExprs | 5.497 | 0.067 | 5.567 | |
| plotFreqHeatmap | 8.268 | 0.536 | 8.812 | |
| plotMahal | 9.142 | 0.087 | 9.241 | |
| plotMultiHeatmap | 19.991 | 0.891 | 20.901 | |
| plotNRS | 1.880 | 0.008 | 1.891 | |
| plotPbExprs | 17.442 | 0.528 | 17.989 | |
| plotScatter | 7.038 | 0.083 | 7.131 | |
| plotSpillmat | 8.547 | 0.143 | 8.695 | |
| plotYields | 6.924 | 0.144 | 7.074 | |
| prepData | 3.285 | 0.046 | 3.334 | |
| runDR | 6.061 | 0.057 | 6.119 | |
| sce2fcs | 19.295 | 0.655 | 20.052 | |