| Back to Multiple platform build/check report for BioC 3.13 |
|
This page was generated on 2021-10-15 15:05:59 -0400 (Fri, 15 Oct 2021).
|
To the developers/maintainers of the CARNIVAL package: - Please allow up to 24 hours (and sometimes 48 hours) for your latest push to git@git.bioconductor.org:packages/CARNIVAL.git to reflect on this report. See How and When does the builder pull? When will my changes propagate? here for more information. - Make sure to use the following settings in order to reproduce any error or warning you see on this page. |
| Package 242/2041 | Hostname | OS / Arch | INSTALL | BUILD | CHECK | BUILD BIN | ||||||||
| CARNIVAL 2.2.0 (landing page) Olga Ivanova
| nebbiolo1 | Linux (Ubuntu 20.04.2 LTS) / x86_64 | OK | OK | OK | |||||||||
| tokay2 | Windows Server 2012 R2 Standard / x64 | OK | OK | OK | OK | |||||||||
| machv2 | macOS 10.14.6 Mojave / x86_64 | OK | OK | OK | OK | |||||||||
| Package: CARNIVAL |
| Version: 2.2.0 |
| Command: rm -rf CARNIVAL.buildbin-libdir && mkdir CARNIVAL.buildbin-libdir && C:\Users\biocbuild\bbs-3.13-bioc\R\bin\R.exe CMD INSTALL --merge-multiarch --build --library=CARNIVAL.buildbin-libdir CARNIVAL_2.2.0.tar.gz |
| StartedAt: 2021-10-15 08:24:49 -0400 (Fri, 15 Oct 2021) |
| EndedAt: 2021-10-15 08:26:14 -0400 (Fri, 15 Oct 2021) |
| EllapsedTime: 85.3 seconds |
| RetCode: 0 |
| Status: OK |
| PackageFile: CARNIVAL_2.2.0.zip |
| PackageFileSize: 409.2 KiB |
##############################################################################
##############################################################################
###
### Running command:
###
### rm -rf CARNIVAL.buildbin-libdir && mkdir CARNIVAL.buildbin-libdir && C:\Users\biocbuild\bbs-3.13-bioc\R\bin\R.exe CMD INSTALL --merge-multiarch --build --library=CARNIVAL.buildbin-libdir CARNIVAL_2.2.0.tar.gz
###
##############################################################################
##############################################################################
install for i386
* installing *source* package 'CARNIVAL' ...
** using staged installation
** R
** inst
** byte-compile and prepare package for lazy loading
** help
*** installing help indices
converting help for package 'CARNIVAL'
finding HTML links ... done
addPerturbationNodes html
checkCarnivalOptions html
checkData html
checkOptionsValidity html
checkPriorKnowledgeNetwork html
createInternalDataRepresentation html
defaultCbcSolveCarnivalOptions html
defaultCplexCarnivalOptions html
defaultCplexSpecificOptions html
defaultLpSolveCarnivalOptions html
generateLpFileCarnival html
getOptionsList html
getSupportedSolvers html
getSupportedSolversFunctions html
isInputValidCarnival html
parseCplexLog html
prepareForCarnivalRun html
preprocessPriorKnowledgeNetwork html
processSolution html
readOptions html
runCARNIVAL html
runFromLpCarnival html
runInverseCarnival html
runVanillaCarnival html
sendTaskToSolver html
setCarnivalOptions html
solveCarnival html
solveCarnivalFromLp html
solveWithCbc html
suggestedCbcSpecificOptions html
suggestedCplexSpecificOptions html
writeParsedData html
** building package indices
** installing vignettes
** testing if installed package can be loaded from temporary location
** testing if installed package can be loaded from final location
** testing if installed package keeps a record of temporary installation path
install for x64
* installing *source* package 'CARNIVAL' ...
** testing if installed package can be loaded
* MD5 sums
packaged installation of 'CARNIVAL' as CARNIVAL_2.2.0.zip
* DONE (CARNIVAL)