| Back to Multiple platform build/check report for BioC 3.13 |
|
This page was generated on 2021-10-15 15:05:59 -0400 (Fri, 15 Oct 2021).
|
To the developers/maintainers of the BrowserViz package: - Please allow up to 24 hours (and sometimes 48 hours) for your latest push to git@git.bioconductor.org:packages/BrowserViz.git to reflect on this report. See How and When does the builder pull? When will my changes propagate? here for more information. - Make sure to use the following settings in order to reproduce any error or warning you see on this page. |
| Package 216/2041 | Hostname | OS / Arch | INSTALL | BUILD | CHECK | BUILD BIN | ||||||||
| BrowserViz 2.14.1 (landing page) Paul Shannon
| nebbiolo1 | Linux (Ubuntu 20.04.2 LTS) / x86_64 | OK | OK | OK | |||||||||
| tokay2 | Windows Server 2012 R2 Standard / x64 | OK | OK | OK | OK | |||||||||
| machv2 | macOS 10.14.6 Mojave / x86_64 | OK | OK | OK | OK | |||||||||
| Package: BrowserViz |
| Version: 2.14.1 |
| Command: C:\cygwin\bin\curl.exe -O http://155.52.207.165/BBS/3.13/bioc/src/contrib/BrowserViz_2.14.1.tar.gz && rm -rf BrowserViz.buildbin-libdir && mkdir BrowserViz.buildbin-libdir && C:\Users\biocbuild\bbs-3.13-bioc\R\bin\R.exe CMD INSTALL --merge-multiarch --build --library=BrowserViz.buildbin-libdir BrowserViz_2.14.1.tar.gz && C:\Users\biocbuild\bbs-3.13-bioc\R\bin\R.exe CMD INSTALL BrowserViz_2.14.1.zip && rm BrowserViz_2.14.1.tar.gz BrowserViz_2.14.1.zip |
| StartedAt: 2021-10-14 08:16:14 -0400 (Thu, 14 Oct 2021) |
| EndedAt: 2021-10-14 08:17:34 -0400 (Thu, 14 Oct 2021) |
| EllapsedTime: 79.7 seconds |
| RetCode: 0 |
| Status: OK |
##############################################################################
##############################################################################
###
### Running command:
###
### C:\cygwin\bin\curl.exe -O http://155.52.207.165/BBS/3.13/bioc/src/contrib/BrowserViz_2.14.1.tar.gz && rm -rf BrowserViz.buildbin-libdir && mkdir BrowserViz.buildbin-libdir && C:\Users\biocbuild\bbs-3.13-bioc\R\bin\R.exe CMD INSTALL --merge-multiarch --build --library=BrowserViz.buildbin-libdir BrowserViz_2.14.1.tar.gz && C:\Users\biocbuild\bbs-3.13-bioc\R\bin\R.exe CMD INSTALL BrowserViz_2.14.1.zip && rm BrowserViz_2.14.1.tar.gz BrowserViz_2.14.1.zip
###
##############################################################################
##############################################################################
% Total % Received % Xferd Average Speed Time Time Time Current
Dload Upload Total Spent Left Speed
0 0 0 0 0 0 0 0 --:--:-- --:--:-- --:--:-- 0
100 133k 100 133k 0 0 631k 0 --:--:-- --:--:-- --:--:-- 633k
install for i386
* installing *source* package 'BrowserViz' ...
** using staged installation
** R
** inst
** byte-compile and prepare package for lazy loading
** help
*** installing help indices
converting help for package 'BrowserViz'
finding HTML links ... done
BrowserViz-class html
BrowserViz html
addRMessageHandler html
browserResponseReady html
closeWebSocket html
dispatchMessage html
displayHTMLInDiv html
fromJSON html
getBrowserInfo html
getBrowserResponse html
getBrowserWindowSize html
getBrowserWindowTitle html
handleResponse html
port html
ready html
roundTripTest html
send html
setBrowserWindowTitle html
show html
toJSON html
wait html
webBrowserAvailableForTesting html
** building package indices
** installing vignettes
** testing if installed package can be loaded from temporary location
** testing if installed package can be loaded from final location
** testing if installed package keeps a record of temporary installation path
install for x64
* installing *source* package 'BrowserViz' ...
** testing if installed package can be loaded
* MD5 sums
packaged installation of 'BrowserViz' as BrowserViz_2.14.1.zip
* DONE (BrowserViz)
* installing to library 'C:/Users/biocbuild/bbs-3.13-bioc/R/library'
package 'BrowserViz' successfully unpacked and MD5 sums checked