| Back to Multiple platform build/check report for BioC 3.13 |
|
This page was generated on 2021-10-15 15:06:29 -0400 (Fri, 15 Oct 2021).
|
To the developers/maintainers of the BiocVersion package: - Please allow up to 24 hours (and sometimes 48 hours) for your latest push to git@git.bioconductor.org:packages/BiocVersion.git to reflect on this report. See How and When does the builder pull? When will my changes propagate? here for more information. - Make sure to use the following settings in order to reproduce any error or warning you see on this page. |
| Package 175/2041 | Hostname | OS / Arch | INSTALL | BUILD | CHECK | BUILD BIN | ||||||||
| BiocVersion 3.13.1 (landing page) Bioconductor Package Maintainer
| nebbiolo1 | Linux (Ubuntu 20.04.2 LTS) / x86_64 | OK | OK | OK | |||||||||
| tokay2 | Windows Server 2012 R2 Standard / x64 | OK | OK | OK | OK | |||||||||
| machv2 | macOS 10.14.6 Mojave / x86_64 | OK | OK | OK | OK | |||||||||
| Package: BiocVersion |
| Version: 3.13.1 |
| Command: rm -rf BiocVersion.buildbin-libdir && mkdir BiocVersion.buildbin-libdir && /Users/biocbuild/BBS/utils/build-universal.sh BiocVersion_3.13.1.tar.gz /Library/Frameworks/R.framework/Versions/Current/Resources/bin/R BiocVersion.buildbin-libdir |
| StartedAt: 2021-10-15 01:44:28 -0400 (Fri, 15 Oct 2021) |
| EndedAt: 2021-10-15 01:45:35 -0400 (Fri, 15 Oct 2021) |
| EllapsedTime: 66.3 seconds |
| RetCode: 0 |
| Status: OK |
| PackageFile: BiocVersion_3.13.1.tgz |
| PackageFileSize: 5.491 KiB |
############################################################################## ############################################################################## ### ### Running command: ### ### rm -rf BiocVersion.buildbin-libdir && mkdir BiocVersion.buildbin-libdir && /Users/biocbuild/BBS/utils/build-universal.sh BiocVersion_3.13.1.tar.gz /Library/Frameworks/R.framework/Versions/Current/Resources/bin/R BiocVersion.buildbin-libdir ### ############################################################################## ############################################################################## >>>>>>> >>>>>>> INSTALLATION WITH 'R CMD INSTALL --preclean --no-multiarch --library=BiocVersion.buildbin-libdir BiocVersion_3.13.1.tar.gz' >>>>>>> * installing *source* package ‘BiocVersion’ ... ** using staged installation ** help *** installing help indices ** building package indices ** testing if installed package can be loaded from temporary location ** testing if installed package can be loaded from final location ** testing if installed package keeps a record of temporary installation path * DONE (BiocVersion)