| Back to Multiple platform build/check report for BioC 3.13 |
|
This page was generated on 2021-10-15 15:05:58 -0400 (Fri, 15 Oct 2021).
|
To the developers/maintainers of the BiocStyle package: - Please allow up to 24 hours (and sometimes 48 hours) for your latest push to git@git.bioconductor.org:packages/BiocStyle.git to reflect on this report. See How and When does the builder pull? When will my changes propagate? here for more information. - Make sure to use the following settings in order to reproduce any error or warning you see on this page. |
| Package 173/2041 | Hostname | OS / Arch | INSTALL | BUILD | CHECK | BUILD BIN | ||||||||
| BiocStyle 2.20.2 (landing page) Bioconductor Package
| nebbiolo1 | Linux (Ubuntu 20.04.2 LTS) / x86_64 | OK | OK | OK | |||||||||
| tokay2 | Windows Server 2012 R2 Standard / x64 | OK | OK | OK | OK | |||||||||
| machv2 | macOS 10.14.6 Mojave / x86_64 | OK | OK | OK | OK | |||||||||
| Package: BiocStyle |
| Version: 2.20.2 |
| Command: C:\Users\biocbuild\bbs-3.13-bioc\R\bin\R.exe CMD check --force-multiarch --install=check:BiocStyle.install-out.txt --library=C:\Users\biocbuild\bbs-3.13-bioc\R\library --no-vignettes --timings BiocStyle_2.20.2.tar.gz |
| StartedAt: 2021-10-14 20:12:43 -0400 (Thu, 14 Oct 2021) |
| EndedAt: 2021-10-14 20:14:43 -0400 (Thu, 14 Oct 2021) |
| EllapsedTime: 120.0 seconds |
| RetCode: 0 |
| Status: OK |
| CheckDir: BiocStyle.Rcheck |
| Warnings: 0 |
############################################################################## ############################################################################## ### ### Running command: ### ### C:\Users\biocbuild\bbs-3.13-bioc\R\bin\R.exe CMD check --force-multiarch --install=check:BiocStyle.install-out.txt --library=C:\Users\biocbuild\bbs-3.13-bioc\R\library --no-vignettes --timings BiocStyle_2.20.2.tar.gz ### ############################################################################## ############################################################################## * using log directory 'C:/Users/biocbuild/bbs-3.13-bioc/meat/BiocStyle.Rcheck' * using R version 4.1.1 (2021-08-10) * using platform: x86_64-w64-mingw32 (64-bit) * using session charset: ISO8859-1 * using option '--no-vignettes' * checking for file 'BiocStyle/DESCRIPTION' ... OK * this is package 'BiocStyle' version '2.20.2' * package encoding: UTF-8 * checking package namespace information ... OK * checking package dependencies ... OK * checking if this is a source package ... OK * checking if there is a namespace ... OK * checking for hidden files and directories ... OK * checking for portable file names ... OK * checking whether package 'BiocStyle' can be installed ... OK * checking installed package size ... OK * checking package directory ... OK * checking 'build' directory ... OK * checking DESCRIPTION meta-information ... OK * checking top-level files ... OK * checking for left-over files ... OK * checking index information ... OK * checking package subdirectories ... OK * checking R files for non-ASCII characters ... OK * checking R files for syntax errors ... OK * loading checks for arch 'i386' ** checking whether the package can be loaded ... OK ** checking whether the package can be loaded with stated dependencies ... OK ** checking whether the package can be unloaded cleanly ... OK ** checking whether the namespace can be loaded with stated dependencies ... OK ** checking whether the namespace can be unloaded cleanly ... OK * loading checks for arch 'x64' ** checking whether the package can be loaded ... OK ** checking whether the package can be loaded with stated dependencies ... OK ** checking whether the package can be unloaded cleanly ... OK ** checking whether the namespace can be loaded with stated dependencies ... OK ** checking whether the namespace can be unloaded cleanly ... OK * checking dependencies in R code ... NOTE Unexported object imported by a ':::' call: 'rmarkdown:::partition_yaml_front_matter' See the note in ?`:::` about the use of this operator. * checking S3 generic/method consistency ... OK * checking replacement functions ... OK * checking foreign function calls ... OK * checking R code for possible problems ... OK * checking Rd files ... OK * checking Rd metadata ... OK * checking Rd cross-references ... OK * checking for missing documentation entries ... OK * checking for code/documentation mismatches ... OK * checking Rd \usage sections ... OK * checking Rd contents ... OK * checking for unstated dependencies in examples ... OK * checking files in 'vignettes' ... OK * checking examples ... ** running examples for arch 'i386' ... OK ** running examples for arch 'x64' ... OK * checking for unstated dependencies in 'tests' ... OK * checking tests ... ** running tests for arch 'i386' ... Running 'run_tests.R' OK ** running tests for arch 'x64' ... Running 'run_tests.R' OK * checking for unstated dependencies in vignettes ... OK * checking package vignettes in 'inst/doc' ... OK * checking running R code from vignettes ... SKIPPED * checking re-building of vignette outputs ... SKIPPED * checking PDF version of manual ... OK * DONE Status: 1 NOTE See 'C:/Users/biocbuild/bbs-3.13-bioc/meat/BiocStyle.Rcheck/00check.log' for details.
BiocStyle.Rcheck/00install.out
##############################################################################
##############################################################################
###
### Running command:
###
### C:\cygwin\bin\curl.exe -O http://155.52.207.165/BBS/3.13/bioc/src/contrib/BiocStyle_2.20.2.tar.gz && rm -rf BiocStyle.buildbin-libdir && mkdir BiocStyle.buildbin-libdir && C:\Users\biocbuild\bbs-3.13-bioc\R\bin\R.exe CMD INSTALL --merge-multiarch --build --library=BiocStyle.buildbin-libdir BiocStyle_2.20.2.tar.gz && C:\Users\biocbuild\bbs-3.13-bioc\R\bin\R.exe CMD INSTALL BiocStyle_2.20.2.zip && rm BiocStyle_2.20.2.tar.gz BiocStyle_2.20.2.zip
###
##############################################################################
##############################################################################
% Total % Received % Xferd Average Speed Time Time Time Current
Dload Upload Total Spent Left Speed
0 0 0 0 0 0 0 0 --:--:-- --:--:-- --:--:-- 0
1 63091 1 1141 0 0 13936 0 0:00:04 --:--:-- 0:00:04 13914
100 63091 100 63091 0 0 400k 0 --:--:-- --:--:-- --:--:-- 400k
install for i386
* installing *source* package 'BiocStyle' ...
** using staged installation
** R
** inst
** byte-compile and prepare package for lazy loading
** help
*** installing help indices
converting help for package 'BiocStyle'
finding HTML links ... done
BiocStyle-defunct html
helpers html
html_document html
latex html
macros html
markdown html
md_document html
output html
pdf_document html
finding level-2 HTML links ... done
use_vignette html
** building package indices
** installing vignettes
** testing if installed package can be loaded from temporary location
** testing if installed package can be loaded from final location
** testing if installed package keeps a record of temporary installation path
install for x64
* installing *source* package 'BiocStyle' ...
** testing if installed package can be loaded
* MD5 sums
packaged installation of 'BiocStyle' as BiocStyle_2.20.2.zip
* DONE (BiocStyle)
* installing to library 'C:/Users/biocbuild/bbs-3.13-bioc/R/library'
package 'BiocStyle' successfully unpacked and MD5 sums checked
|
BiocStyle.Rcheck/tests_i386/run_tests.Rout
R version 4.1.1 (2021-08-10) -- "Kick Things"
Copyright (C) 2021 The R Foundation for Statistical Computing
Platform: i386-w64-mingw32/i386 (32-bit)
R is free software and comes with ABSOLUTELY NO WARRANTY.
You are welcome to redistribute it under certain conditions.
Type 'license()' or 'licence()' for distribution details.
R is a collaborative project with many contributors.
Type 'contributors()' for more information and
'citation()' on how to cite R or R packages in publications.
Type 'demo()' for some demos, 'help()' for on-line help, or
'help.start()' for an HTML browser interface to help.
Type 'q()' to quit R.
> BiocGenerics:::testPackage("BiocStyle")
Writing to file maketitle_test_1.tex
Processing code chunks with options ...
1 : keep.source term tex (label = style, maketitle_test_1.Rnw:5)
You can now run (pdf)latex on 'maketitle_test_1.tex'
Writing to file maketitle_test_2.tex
Processing code chunks with options ...
1 : keep.source term tex (label = style, maketitle_test_2.Rnw:5)
You can now run (pdf)latex on 'maketitle_test_2.tex'
Writing to file maketitle_test_3.tex
Processing code chunks with options ...
1 : keep.source term tex (label = style, maketitle_test_3.Rnw:5)
You can now run (pdf)latex on 'maketitle_test_3.tex'
Writing to file maketitle_test_4.tex
Processing code chunks with options ...
1 : keep.source term tex (label = style, maketitle_test_4.Rnw:5)
You can now run (pdf)latex on 'maketitle_test_4.tex'
Writing to file maketitle_test_5.tex
Processing code chunks with options ...
1 : keep.source term tex (label = style, maketitle_test_5.Rnw:5)
You can now run (pdf)latex on 'maketitle_test_5.tex'
processing file: filee444f397081.Rmd
inline R code fragments
label: plot (with options)
List of 2
$ fig.cap: chr "Regular figure. The first sentence of the figure caption is automatically emphasized to serve as figure title."
$ echo : logi FALSE
ordinary text without R code
label: small (with options)
List of 3
$ fig.cap : chr "Small figure. A plot produced by a code chunk with option `fig.small = TRUE`."
$ fig.small: logi TRUE
$ echo : logi FALSE
ordinary text without R code
label: wide (with options)
List of 3
$ fig.cap : chr "Wide figure. A plot produced by a code chunk with option `fig.wide = TRUE`."
$ fig.wide: logi TRUE
$ echo : logi FALSE
ordinary text without R code
label: sessionInfo (with options)
List of 1
$ echo: logi FALSE
output file: filee444f397081.knit.md
"C:/PROGRA~1/Pandoc/pandoc" +RTS -K512m -RTS filee444f397081.knit.md --to latex --from markdown+autolink_bare_uris+tex_math_single_backslash --output filee444f397081.tex --lua-filter "C:\Users\biocbuild\bbs-3.13-bioc\R\library\bookdown\rmarkdown\lua\custom-environment.lua" --lua-filter "C:\Users\biocbuild\bbs-3.13-bioc\R\library\rmarkdown\rmarkdown\lua\pagebreak.lua" --lua-filter "C:\Users\biocbuild\bbs-3.13-bioc\R\library\rmarkdown\rmarkdown\lua\latex-div.lua" --self-contained --table-of-contents --toc-depth 2 --number-sections --highlight-style tango --pdf-engine pdflatex --include-in-header "C:\Users\biocbuild\bbs-3.13-bioc\tmpdir\RtmpG2gDkc\e44e8758ce.tex" --variable graphics --wrap preserve --variable subparagraph --template "C:\Users\biocbuild\bbs-3.13-bioc\tmpdir\RtmpG2gDkc/BiocStyle/template.tex" --variable tables=yes --standalone --variable "compact-title:yes"
Warning: LaTeX Warning: You have requested package `C:/Users/biocbuild/bbs-3.13-bioc/R/l
Warning: ibrary/BiocStyle/resources/tex/Bioconductor',
Warning: but the package provides `Bioconductor'.
Warning: Package geometry Warning: Over-specification in `h'-direction.
Warning: `width' (384.1122pt) is ignored.
Warning: Package Fancyhdr Warning: \fancyhead's `E' option without twoside option is use
Warning: less on input line 162.
Output created: filee444f397081.pdf
RUNIT TEST PROTOCOL -- Thu Oct 14 20:13:54 2021
***********************************************
Number of test functions: 3
Number of errors: 0
Number of failures: 0
1 Test Suite :
BiocStyle RUnit Tests - 3 test functions, 0 errors, 0 failures
Number of test functions: 3
Number of errors: 0
Number of failures: 0
>
> proc.time()
user system elapsed
6.71 0.78 40.35
|
BiocStyle.Rcheck/tests_x64/run_tests.Rout
R version 4.1.1 (2021-08-10) -- "Kick Things"
Copyright (C) 2021 The R Foundation for Statistical Computing
Platform: x86_64-w64-mingw32/x64 (64-bit)
R is free software and comes with ABSOLUTELY NO WARRANTY.
You are welcome to redistribute it under certain conditions.
Type 'license()' or 'licence()' for distribution details.
R is a collaborative project with many contributors.
Type 'contributors()' for more information and
'citation()' on how to cite R or R packages in publications.
Type 'demo()' for some demos, 'help()' for on-line help, or
'help.start()' for an HTML browser interface to help.
Type 'q()' to quit R.
> BiocGenerics:::testPackage("BiocStyle")
Writing to file maketitle_test_1.tex
Processing code chunks with options ...
1 : keep.source term tex (label = style, maketitle_test_1.Rnw:5)
You can now run (pdf)latex on 'maketitle_test_1.tex'
Writing to file maketitle_test_2.tex
Processing code chunks with options ...
1 : keep.source term tex (label = style, maketitle_test_2.Rnw:5)
You can now run (pdf)latex on 'maketitle_test_2.tex'
Writing to file maketitle_test_3.tex
Processing code chunks with options ...
1 : keep.source term tex (label = style, maketitle_test_3.Rnw:5)
You can now run (pdf)latex on 'maketitle_test_3.tex'
Writing to file maketitle_test_4.tex
Processing code chunks with options ...
1 : keep.source term tex (label = style, maketitle_test_4.Rnw:5)
You can now run (pdf)latex on 'maketitle_test_4.tex'
Writing to file maketitle_test_5.tex
Processing code chunks with options ...
1 : keep.source term tex (label = style, maketitle_test_5.Rnw:5)
You can now run (pdf)latex on 'maketitle_test_5.tex'
processing file: filee0426b26048.Rmd
inline R code fragments
label: plot (with options)
List of 2
$ fig.cap: chr "Regular figure. The first sentence of the figure caption is automatically emphasized to serve as figure title."
$ echo : logi FALSE
ordinary text without R code
label: small (with options)
List of 3
$ fig.cap : chr "Small figure. A plot produced by a code chunk with option `fig.small = TRUE`."
$ fig.small: logi TRUE
$ echo : logi FALSE
ordinary text without R code
label: wide (with options)
List of 3
$ fig.cap : chr "Wide figure. A plot produced by a code chunk with option `fig.wide = TRUE`."
$ fig.wide: logi TRUE
$ echo : logi FALSE
ordinary text without R code
label: sessionInfo (with options)
List of 1
$ echo: logi FALSE
output file: filee0426b26048.knit.md
"C:/PROGRA~1/Pandoc/pandoc" +RTS -K512m -RTS filee0426b26048.knit.md --to latex --from markdown+autolink_bare_uris+tex_math_single_backslash --output filee0426b26048.tex --lua-filter "C:\Users\biocbuild\bbs-3.13-bioc\R\library\bookdown\rmarkdown\lua\custom-environment.lua" --lua-filter "C:\Users\biocbuild\bbs-3.13-bioc\R\library\rmarkdown\rmarkdown\lua\pagebreak.lua" --lua-filter "C:\Users\biocbuild\bbs-3.13-bioc\R\library\rmarkdown\rmarkdown\lua\latex-div.lua" --self-contained --table-of-contents --toc-depth 2 --number-sections --highlight-style tango --pdf-engine pdflatex --include-in-header "C:\Users\biocbuild\bbs-3.13-bioc\tmpdir\Rtmpy6qEXk\e046f1154c3.tex" --variable graphics --wrap preserve --variable subparagraph --template "C:\Users\biocbuild\bbs-3.13-bioc\tmpdir\Rtmpy6qEXk/BiocStyle/template.tex" --variable tables=yes --standalone --variable "compact-title:yes"
Warning: LaTeX Warning: You have requested package `C:/Users/biocbuild/bbs-3.13-bioc/R/l
Warning: ibrary/BiocStyle/resources/tex/Bioconductor',
Warning: but the package provides `Bioconductor'.
Warning: Package geometry Warning: Over-specification in `h'-direction.
Warning: `width' (384.1122pt) is ignored.
Warning: Package Fancyhdr Warning: \fancyhead's `E' option without twoside option is use
Warning: less on input line 162.
Output created: filee0426b26048.pdf
RUNIT TEST PROTOCOL -- Thu Oct 14 20:14:35 2021
***********************************************
Number of test functions: 3
Number of errors: 0
Number of failures: 0
1 Test Suite :
BiocStyle RUnit Tests - 3 test functions, 0 errors, 0 failures
Number of test functions: 3
Number of errors: 0
Number of failures: 0
>
> proc.time()
user system elapsed
6.23 0.62 40.95
|
|
BiocStyle.Rcheck/examples_i386/BiocStyle-Ex.timings
|
BiocStyle.Rcheck/examples_x64/BiocStyle-Ex.timings
|