| Back to Multiple platform build/check report for BioC 3.13 |
|
This page was generated on 2021-10-15 15:05:58 -0400 (Fri, 15 Oct 2021).
|
To the developers/maintainers of the BiocParallel package: - Please allow up to 24 hours (and sometimes 48 hours) for your latest push to git@git.bioconductor.org:packages/BiocParallel.git to reflect on this report. See How and When does the builder pull? When will my changes propagate? here for more information. - Make sure to use the following settings in order to reproduce any error or warning you see on this page. |
| Package 168/2041 | Hostname | OS / Arch | INSTALL | BUILD | CHECK | BUILD BIN | ||||||||
| BiocParallel 1.26.2 (landing page) Bioconductor Package Maintainer
| nebbiolo1 | Linux (Ubuntu 20.04.2 LTS) / x86_64 | OK | OK | OK | |||||||||
| tokay2 | Windows Server 2012 R2 Standard / x64 | OK | OK | OK | OK | |||||||||
| machv2 | macOS 10.14.6 Mojave / x86_64 | OK | OK | OK | OK | |||||||||
| Package: BiocParallel |
| Version: 1.26.2 |
| Command: C:\Users\biocbuild\bbs-3.13-bioc\R\bin\R.exe CMD check --force-multiarch --install=check:BiocParallel.install-out.txt --library=C:\Users\biocbuild\bbs-3.13-bioc\R\library --no-vignettes --timings BiocParallel_1.26.2.tar.gz |
| StartedAt: 2021-10-14 20:11:32 -0400 (Thu, 14 Oct 2021) |
| EndedAt: 2021-10-14 20:24:22 -0400 (Thu, 14 Oct 2021) |
| EllapsedTime: 769.6 seconds |
| RetCode: 0 |
| Status: OK |
| CheckDir: BiocParallel.Rcheck |
| Warnings: 0 |
##############################################################################
##############################################################################
###
### Running command:
###
### C:\Users\biocbuild\bbs-3.13-bioc\R\bin\R.exe CMD check --force-multiarch --install=check:BiocParallel.install-out.txt --library=C:\Users\biocbuild\bbs-3.13-bioc\R\library --no-vignettes --timings BiocParallel_1.26.2.tar.gz
###
##############################################################################
##############################################################################
* using log directory 'C:/Users/biocbuild/bbs-3.13-bioc/meat/BiocParallel.Rcheck'
* using R version 4.1.1 (2021-08-10)
* using platform: x86_64-w64-mingw32 (64-bit)
* using session charset: ISO8859-1
* using option '--no-vignettes'
* checking for file 'BiocParallel/DESCRIPTION' ... OK
* checking extension type ... Package
* this is package 'BiocParallel' version '1.26.2'
* checking package namespace information ... OK
* checking package dependencies ... OK
* checking if this is a source package ... OK
* checking if there is a namespace ... OK
* checking for hidden files and directories ... OK
* checking for portable file names ... OK
* checking whether package 'BiocParallel' can be installed ... OK
* checking installed package size ... OK
* checking package directory ... OK
* checking 'build' directory ... OK
* checking DESCRIPTION meta-information ... OK
* checking top-level files ... OK
* checking for left-over files ... OK
* checking index information ... OK
* checking package subdirectories ... OK
* checking R files for non-ASCII characters ... OK
* checking R files for syntax errors ... OK
* loading checks for arch 'i386'
** checking whether the package can be loaded ... OK
** checking whether the package can be loaded with stated dependencies ... OK
** checking whether the package can be unloaded cleanly ... OK
** checking whether the namespace can be loaded with stated dependencies ... OK
** checking whether the namespace can be unloaded cleanly ... OK
* loading checks for arch 'x64'
** checking whether the package can be loaded ... OK
** checking whether the package can be loaded with stated dependencies ... OK
** checking whether the package can be unloaded cleanly ... OK
** checking whether the namespace can be loaded with stated dependencies ... OK
** checking whether the namespace can be unloaded cleanly ... OK
* checking dependencies in R code ... NOTE
Unexported objects imported by ':::' calls:
'parallel:::closeNode' 'parallel:::recvData' 'parallel:::recvOneData'
'parallel:::sendData'
See the note in ?`:::` about the use of this operator.
* checking S3 generic/method consistency ... OK
* checking replacement functions ... OK
* checking foreign function calls ... OK
* checking R code for possible problems ... OK
* checking Rd files ... OK
* checking Rd metadata ... OK
* checking Rd cross-references ... OK
* checking for missing documentation entries ... OK
* checking for code/documentation mismatches ... OK
* checking Rd \usage sections ... OK
* checking Rd contents ... OK
* checking for unstated dependencies in examples ... OK
* checking line endings in shell scripts ... OK
* checking line endings in C/C++/Fortran sources/headers ... OK
* checking line endings in Makefiles ... OK
* checking compilation flags in Makevars ... OK
* checking for GNU extensions in Makefiles ... OK
* checking for portable use of $(BLAS_LIBS) and $(LAPACK_LIBS) ... OK
* checking use of PKG_*FLAGS in Makefiles ... OK
* checking compiled code ... NOTE
Note: information on .o files for i386 is not available
Note: information on .o files for x64 is not available
File 'C:/Users/biocbuild/bbs-3.13-bioc/R/library/BiocParallel/libs/i386/BiocParallel.dll':
Found 'abort', possibly from 'abort' (C), 'runtime' (Fortran)
Found 'exit', possibly from 'exit' (C), 'stop' (Fortran)
Found 'printf', possibly from 'printf' (C)
File 'C:/Users/biocbuild/bbs-3.13-bioc/R/library/BiocParallel/libs/x64/BiocParallel.dll':
Found 'abort', possibly from 'abort' (C), 'runtime' (Fortran)
Found 'exit', possibly from 'exit' (C), 'stop' (Fortran)
Found 'printf', possibly from 'printf' (C)
Compiled code should not call entry points which might terminate R nor
write to stdout/stderr instead of to the console, nor use Fortran I/O
nor system RNGs. The detected symbols are linked into the code but
might come from libraries and not actually be called.
See 'Writing portable packages' in the 'Writing R Extensions' manual.
* checking files in 'vignettes' ... OK
* checking examples ...
** running examples for arch 'i386' ... OK
Examples with CPU (user + system) or elapsed time > 5s
user system elapsed
BatchtoolsParam-class 0.91 0.11 20.24
SnowParam-class 0.91 0.00 7.22
** running examples for arch 'x64' ... OK
Examples with CPU (user + system) or elapsed time > 5s
user system elapsed
SnowParam-class 1.01 0.03 7.15
BatchtoolsParam-class 0.76 0.07 18.66
* checking for unstated dependencies in 'tests' ... OK
* checking tests ...
** running tests for arch 'i386' ...
Running 'test.R'
OK
** running tests for arch 'x64' ...
Running 'test.R'
OK
* checking for unstated dependencies in vignettes ... OK
* checking package vignettes in 'inst/doc' ... OK
* checking running R code from vignettes ... SKIPPED
* checking re-building of vignette outputs ... SKIPPED
* checking PDF version of manual ... OK
* DONE
Status: 2 NOTEs
See
'C:/Users/biocbuild/bbs-3.13-bioc/meat/BiocParallel.Rcheck/00check.log'
for details.
BiocParallel.Rcheck/00install.out
##############################################################################
##############################################################################
###
### Running command:
###
### C:\cygwin\bin\curl.exe -O http://155.52.207.165/BBS/3.13/bioc/src/contrib/BiocParallel_1.26.2.tar.gz && rm -rf BiocParallel.buildbin-libdir && mkdir BiocParallel.buildbin-libdir && C:\Users\biocbuild\bbs-3.13-bioc\R\bin\R.exe CMD INSTALL --merge-multiarch --build --library=BiocParallel.buildbin-libdir BiocParallel_1.26.2.tar.gz && C:\Users\biocbuild\bbs-3.13-bioc\R\bin\R.exe CMD INSTALL BiocParallel_1.26.2.zip && rm BiocParallel_1.26.2.tar.gz BiocParallel_1.26.2.zip
###
##############################################################################
##############################################################################
% Total % Received % Xferd Average Speed Time Time Time Current
Dload Upload Total Spent Left Speed
0 0 0 0 0 0 0 0 --:--:-- --:--:-- --:--:-- 0
100 119k 100 119k 0 0 632k 0 --:--:-- --:--:-- --:--:-- 634k
install for i386
* installing *source* package 'BiocParallel' ...
** using staged installation
**********************************************
WARNING: this package has a configure script
It probably needs manual configuration
**********************************************
** libs
"C:/rtools40/mingw32/bin/"g++ -std=gnu++11 -I"C:/Users/BIOCBU~1/BBS-3~1.13-/R/include" -DNDEBUG -I'C:/Users/biocbuild/bbs-3.13-bioc/R/library/BH/include' -I"c:/extsoft/include" -O2 -Wall -mfpmath=sse -msse2 -mstackrealign -c ipcmutex.cpp -o ipcmutex.o
In file included from C:/Users/biocbuild/bbs-3.13-bioc/R/library/BH/include/boost/mpl/aux_/na_assert.hpp:23,
from C:/Users/biocbuild/bbs-3.13-bioc/R/library/BH/include/boost/mpl/arg.hpp:25,
from C:/Users/biocbuild/bbs-3.13-bioc/R/library/BH/include/boost/mpl/placeholders.hpp:24,
from C:/Users/biocbuild/bbs-3.13-bioc/R/library/BH/include/boost/mpl/apply.hpp:24,
from C:/Users/biocbuild/bbs-3.13-bioc/R/library/BH/include/boost/mpl/aux_/fold_impl.hpp:19,
from C:/Users/biocbuild/bbs-3.13-bioc/R/library/BH/include/boost/mpl/fold.hpp:20,
from C:/Users/biocbuild/bbs-3.13-bioc/R/library/BH/include/boost/mpl/remove_if.hpp:18,
from C:/Users/biocbuild/bbs-3.13-bioc/R/library/BH/include/boost/mpl/remove.hpp:18,
from C:/Users/biocbuild/bbs-3.13-bioc/R/library/BH/include/boost/function_types/components.hpp:44,
from C:/Users/biocbuild/bbs-3.13-bioc/R/library/BH/include/boost/function_types/is_member_function_pointer.hpp:14,
from C:/Users/biocbuild/bbs-3.13-bioc/R/library/BH/include/boost/tti/detail/dmem_fun.hpp:10,
from C:/Users/biocbuild/bbs-3.13-bioc/R/library/BH/include/boost/tti/has_member_function.hpp:15,
from C:/Users/biocbuild/bbs-3.13-bioc/R/library/BH/include/boost/uuid/random_generator.hpp:20,
from C:/Users/biocbuild/bbs-3.13-bioc/R/library/BH/include/boost/uuid/uuid_generators.hpp:17,
from ipcmutex.cpp:3:
C:/Users/biocbuild/bbs-3.13-bioc/R/library/BH/include/boost/mpl/assert.hpp:194:21: warning: unnecessary parentheses in declaration of 'assert_arg' [-Wparentheses]
failed ************ (Pred::************
^
C:/Users/biocbuild/bbs-3.13-bioc/R/library/BH/include/boost/mpl/assert.hpp:199:21: warning: unnecessary parentheses in declaration of 'assert_not_arg' [-Wparentheses]
failed ************ (boost::mpl::not_<Pred>::************
^
In file included from C:/Users/biocbuild/bbs-3.13-bioc/R/library/BH/include/boost/interprocess/detail/windows_intermodule_singleton.hpp:24,
from C:/Users/biocbuild/bbs-3.13-bioc/R/library/BH/include/boost/interprocess/detail/shared_dir_helpers.hpp:30,
from C:/Users/biocbuild/bbs-3.13-bioc/R/library/BH/include/boost/interprocess/shared_memory_object.hpp:30,
from C:/Users/biocbuild/bbs-3.13-bioc/R/library/BH/include/boost/interprocess/managed_shared_memory.hpp:27,
from ipcmutex.cpp:13:
C:/Users/biocbuild/bbs-3.13-bioc/R/library/BH/include/boost/container/string.hpp: In member function 'bool boost::interprocess::ipcdetail::intermodule_singleton_helpers::windows_semaphore_based_map::erase(const char*)':
C:/Users/biocbuild/bbs-3.13-bioc/R/library/BH/include/boost/container/string.hpp:405:43: warning: '<anonymous>.boost::container::dtl::basic_string_base<boost::container::new_allocator<char> >::long_t::start' may be used uninitialized in this function [-Wmaybe-uninitialized]
{ return this->members_.plong_repr()->start; }
^~~~~
C:/Users/biocbuild/bbs-3.13-bioc/R/library/BH/include/boost/container/string.hpp: In member function 'boost::interprocess::ipcdetail::ref_count_ptr* boost::interprocess::ipcdetail::intermodule_singleton_helpers::windows_semaphore_based_map::find(const char*)':
C:/Users/biocbuild/bbs-3.13-bioc/R/library/BH/include/boost/container/string.hpp:405:43: warning: '<anonymous>.boost::container::dtl::basic_string_base<boost::container::new_allocator<char> >::long_t::start' may be used uninitialized in this function [-Wmaybe-uninitialized]
{ return this->members_.plong_repr()->start; }
^~~~~
C:/Users/biocbuild/bbs-3.13-bioc/R/library/BH/include/boost/container/string.hpp: In member function 'boost::interprocess::ipcdetail::ref_count_ptr* boost::interprocess::ipcdetail::intermodule_singleton_helpers::windows_semaphore_based_map::insert(const char*, const boost::interprocess::ipcdetail::ref_count_ptr&)':
C:/Users/biocbuild/bbs-3.13-bioc/R/library/BH/include/boost/container/string.hpp:405:43: warning: '<anonymous>.boost::container::dtl::basic_string_base<boost::container::new_allocator<char> >::long_t::start' may be used uninitialized in this function [-Wmaybe-uninitialized]
{ return this->members_.plong_repr()->start; }
^~~~~
C:/rtools40/mingw32/bin/g++ -shared -s -static-libgcc -o BiocParallel.dll tmp.def ipcmutex.o -Lc:/extsoft/lib/i386 -Lc:/extsoft/lib -LC:/Users/BIOCBU~1/BBS-3~1.13-/R/bin/i386 -lR
installing to C:/Users/biocbuild/bbs-3.13-bioc/meat/BiocParallel.buildbin-libdir/00LOCK-BiocParallel/00new/BiocParallel/libs/i386
** R
** inst
** byte-compile and prepare package for lazy loading
** help
*** installing help indices
converting help for package 'BiocParallel'
finding HTML links ... done
BatchJobsParam-class html
BatchtoolsParam-class html
BiocParallel-package html
BiocParallelParam-class html
DeveloperInterface html
DoparParam-class html
MulticoreParam-class html
SerialParam-class html
SnowParam-class html
bpaggregate html
bpiterate html
bplapply html
bploop html
bpmapply html
bpok html
bpschedule html
bptry html
bpvalidate html
bpvec html
bpvectorize html
ipcmutex html
register html
** building package indices
** installing vignettes
** testing if installed package can be loaded from temporary location
** testing if installed package can be loaded from final location
** testing if installed package keeps a record of temporary installation path
install for x64
* installing *source* package 'BiocParallel' ...
**********************************************
WARNING: this package has a configure script
It probably needs manual configuration
**********************************************
** libs
"C:/rtools40/mingw64/bin/"g++ -std=gnu++11 -I"C:/Users/BIOCBU~1/BBS-3~1.13-/R/include" -DNDEBUG -I'C:/Users/biocbuild/bbs-3.13-bioc/R/library/BH/include' -I"C:/extsoft/include" -O2 -Wall -mfpmath=sse -msse2 -mstackrealign -c ipcmutex.cpp -o ipcmutex.o
In file included from C:/Users/biocbuild/bbs-3.13-bioc/R/library/BH/include/boost/mpl/aux_/na_assert.hpp:23,
from C:/Users/biocbuild/bbs-3.13-bioc/R/library/BH/include/boost/mpl/arg.hpp:25,
from C:/Users/biocbuild/bbs-3.13-bioc/R/library/BH/include/boost/mpl/placeholders.hpp:24,
from C:/Users/biocbuild/bbs-3.13-bioc/R/library/BH/include/boost/mpl/apply.hpp:24,
from C:/Users/biocbuild/bbs-3.13-bioc/R/library/BH/include/boost/mpl/aux_/fold_impl.hpp:19,
from C:/Users/biocbuild/bbs-3.13-bioc/R/library/BH/include/boost/mpl/fold.hpp:20,
from C:/Users/biocbuild/bbs-3.13-bioc/R/library/BH/include/boost/mpl/remove_if.hpp:18,
from C:/Users/biocbuild/bbs-3.13-bioc/R/library/BH/include/boost/mpl/remove.hpp:18,
from C:/Users/biocbuild/bbs-3.13-bioc/R/library/BH/include/boost/function_types/components.hpp:44,
from C:/Users/biocbuild/bbs-3.13-bioc/R/library/BH/include/boost/function_types/is_member_function_pointer.hpp:14,
from C:/Users/biocbuild/bbs-3.13-bioc/R/library/BH/include/boost/tti/detail/dmem_fun.hpp:10,
from C:/Users/biocbuild/bbs-3.13-bioc/R/library/BH/include/boost/tti/has_member_function.hpp:15,
from C:/Users/biocbuild/bbs-3.13-bioc/R/library/BH/include/boost/uuid/random_generator.hpp:20,
from C:/Users/biocbuild/bbs-3.13-bioc/R/library/BH/include/boost/uuid/uuid_generators.hpp:17,
from ipcmutex.cpp:3:
C:/Users/biocbuild/bbs-3.13-bioc/R/library/BH/include/boost/mpl/assert.hpp:194:21: warning: unnecessary parentheses in declaration of 'assert_arg' [-Wparentheses]
failed ************ (Pred::************
^
C:/Users/biocbuild/bbs-3.13-bioc/R/library/BH/include/boost/mpl/assert.hpp:199:21: warning: unnecessary parentheses in declaration of 'assert_not_arg' [-Wparentheses]
failed ************ (boost::mpl::not_<Pred>::************
^
In file included from C:/Users/biocbuild/bbs-3.13-bioc/R/library/BH/include/boost/interprocess/detail/windows_intermodule_singleton.hpp:24,
from C:/Users/biocbuild/bbs-3.13-bioc/R/library/BH/include/boost/interprocess/detail/shared_dir_helpers.hpp:30,
from C:/Users/biocbuild/bbs-3.13-bioc/R/library/BH/include/boost/interprocess/shared_memory_object.hpp:30,
from C:/Users/biocbuild/bbs-3.13-bioc/R/library/BH/include/boost/interprocess/managed_shared_memory.hpp:27,
from ipcmutex.cpp:13:
C:/Users/biocbuild/bbs-3.13-bioc/R/library/BH/include/boost/container/string.hpp: In member function 'boost::interprocess::ipcdetail::ref_count_ptr* boost::interprocess::ipcdetail::intermodule_singleton_helpers::windows_semaphore_based_map::find(const char*)':
C:/Users/biocbuild/bbs-3.13-bioc/R/library/BH/include/boost/container/string.hpp:405:43: warning: '<anonymous>.boost::container::dtl::basic_string_base<boost::container::new_allocator<char> >::long_t::start' may be used uninitialized in this function [-Wmaybe-uninitialized]
{ return this->members_.plong_repr()->start; }
^~~~~
C:/Users/biocbuild/bbs-3.13-bioc/R/library/BH/include/boost/container/string.hpp: In member function 'bool boost::interprocess::ipcdetail::intermodule_singleton_helpers::windows_semaphore_based_map::erase(const char*)':
C:/Users/biocbuild/bbs-3.13-bioc/R/library/BH/include/boost/container/string.hpp:405:43: warning: '<anonymous>.boost::container::dtl::basic_string_base<boost::container::new_allocator<char> >::long_t::start' may be used uninitialized in this function [-Wmaybe-uninitialized]
{ return this->members_.plong_repr()->start; }
^~~~~
C:/Users/biocbuild/bbs-3.13-bioc/R/library/BH/include/boost/container/string.hpp: In member function 'boost::interprocess::ipcdetail::ref_count_ptr* boost::interprocess::ipcdetail::intermodule_singleton_helpers::windows_semaphore_based_map::insert(const char*, const boost::interprocess::ipcdetail::ref_count_ptr&)':
C:/Users/biocbuild/bbs-3.13-bioc/R/library/BH/include/boost/container/string.hpp:405:43: warning: '<anonymous>.boost::container::dtl::basic_string_base<boost::container::new_allocator<char> >::long_t::start' may be used uninitialized in this function [-Wmaybe-uninitialized]
{ return this->members_.plong_repr()->start; }
^~~~~
C:/rtools40/mingw64/bin/g++ -shared -s -static-libgcc -o BiocParallel.dll tmp.def ipcmutex.o -LC:/extsoft/lib/x64 -LC:/extsoft/lib -LC:/Users/BIOCBU~1/BBS-3~1.13-/R/bin/x64 -lR
installing to C:/Users/biocbuild/bbs-3.13-bioc/meat/BiocParallel.buildbin-libdir/BiocParallel/libs/x64
** testing if installed package can be loaded
* MD5 sums
packaged installation of 'BiocParallel' as BiocParallel_1.26.2.zip
* DONE (BiocParallel)
* installing to library 'C:/Users/biocbuild/bbs-3.13-bioc/R/library'
package 'BiocParallel' successfully unpacked and MD5 sums checked
|
BiocParallel.Rcheck/tests_i386/test.Rout
R version 4.1.1 (2021-08-10) -- "Kick Things"
Copyright (C) 2021 The R Foundation for Statistical Computing
Platform: i386-w64-mingw32/i386 (32-bit)
R is free software and comes with ABSOLUTELY NO WARRANTY.
You are welcome to redistribute it under certain conditions.
Type 'license()' or 'licence()' for distribution details.
R is a collaborative project with many contributors.
Type 'contributors()' for more information and
'citation()' on how to cite R or R packages in publications.
Type 'demo()' for some demos, 'help()' for on-line help, or
'help.start()' for an HTML browser interface to help.
Type 'q()' to quit R.
> BiocGenerics:::testPackage("BiocParallel")
Submitting 5 jobs in 4 chunks using cluster functions 'Socket' ...
> > > > Submitting 5 jobs in 4 chunks using cluster functions 'Socket' ...
Submitting 5 jobs in 4 chunks using cluster functions 'Socket' ...
> > > > > > > > Submitting 5 jobs in 4 chunks using cluster functions 'Socket' ...
> > > > > > > > > > > > > > > > > > > > > > > > > > > Timing stopped at: 0 0 0
Error in DEACTIVATED("MPI tests not run on Windows") :
MPI tests not run on Windows
Timing stopped at: 0 0 0
Error in DEACTIVATED("MPI tests not run on Windows") :
MPI tests not run on Windows
> >
RUNIT TEST PROTOCOL -- Thu Oct 14 20:19:00 2021
***********************************************
Number of test functions: 76
Number of deactivated test functions: 2
Number of errors: 0
Number of failures: 0
1 Test Suite :
BiocParallel RUnit Tests - 76 test functions, 0 errors, 0 failures
Number of test functions: 76
Number of deactivated test functions: 2
Number of errors: 0
Number of failures: 0
>
> proc.time()
user system elapsed
33.64 1.53 272.01
Error in summary.connection(connection) : invalid connection
Calls: <Anonymous> ... sendData.SOCKnode -> serialize -> summary -> summary.connection
Error in summary.connection(connection) : invalid connection
Calls: <Anonymous> ... sendData.SOCKnode -> serialize -> summary -> summary.connection
Error in summary.connection(connection) : invalid connection
Calls: <Anonymous> ... sendData.SOCKnode -> serialize -> summary -> summary.connection
Error in summary.connection(connection) : invalid connection
Calls: <Anonymous> ... sendData.SOCKnode -> serialize -> summary -> summary.connection
Error in summary.connection(connection) : invalid connection
Calls: <Anonymous> ... sendData.SOCKnode -> serialize -> summary -> summary.connection
Error in summary.connection(connection) : invalid connection
Calls: <Anonymous> ... sendData.SOCKnode -> serialize -> summary -> summary.connection
|
BiocParallel.Rcheck/tests_x64/test.Rout
R version 4.1.1 (2021-08-10) -- "Kick Things"
Copyright (C) 2021 The R Foundation for Statistical Computing
Platform: x86_64-w64-mingw32/x64 (64-bit)
R is free software and comes with ABSOLUTELY NO WARRANTY.
You are welcome to redistribute it under certain conditions.
Type 'license()' or 'licence()' for distribution details.
R is a collaborative project with many contributors.
Type 'contributors()' for more information and
'citation()' on how to cite R or R packages in publications.
Type 'demo()' for some demos, 'help()' for on-line help, or
'help.start()' for an HTML browser interface to help.
Type 'q()' to quit R.
> BiocGenerics:::testPackage("BiocParallel")
Submitting 5 jobs in 4 chunks using cluster functions 'Socket' ...
> > > > Submitting 5 jobs in 4 chunks using cluster functions 'Socket' ...
Submitting 5 jobs in 4 chunks using cluster functions 'Socket' ...
> > > > > > > > Submitting 5 jobs in 4 chunks using cluster functions 'Socket' ...
> > > > > > > > > > > > > > > > > > > > > > > > > > > Timing stopped at: 0 0 0
Error in DEACTIVATED("MPI tests not run on Windows") :
MPI tests not run on Windows
Timing stopped at: 0 0 0
Error in DEACTIVATED("MPI tests not run on Windows") :
MPI tests not run on Windows
> >
RUNIT TEST PROTOCOL -- Thu Oct 14 20:24:08 2021
***********************************************
Number of test functions: 76
Number of deactivated test functions: 2
Number of errors: 0
Number of failures: 0
1 Test Suite :
BiocParallel RUnit Tests - 76 test functions, 0 errors, 0 failures
Number of test functions: 76
Number of deactivated test functions: 2
Number of errors: 0
Number of failures: 0
>
> proc.time()
user system elapsed
36.93 1.64 307.93
Error in summary.connection(connection) : invalid connection
Calls: <Anonymous> ... sendData.SOCKnode -> serialize -> summary -> summary.connection
Error in summary.connection(connection) : invalid connection
Calls: <Anonymous> ... sendData.SOCKnode -> serialize -> summary -> summary.connection
Error in summary.connection(connection) : invalid connection
Calls: <Anonymous> ... sendData.SOCKnode -> serialize -> summary -> summary.connection
Error in summary.connection(connection) : invalid connection
Calls: <Anonymous> ... sendData.SOCKnode -> serialize -> summary -> summary.connection
Error in summary.connection(connection) : invalid connection
Calls: <Anonymous> ... sendData.SOCKnode -> serialize -> summary -> summary.connection
Error in summary.connection(connection) : invalid connection
Calls: <Anonymous> ... sendData.SOCKnode -> serialize -> summary -> summary.connection
|
|
BiocParallel.Rcheck/examples_i386/BiocParallel-Ex.timings
|
BiocParallel.Rcheck/examples_x64/BiocParallel-Ex.timings
|