| Back to Multiple platform build/check report for BioC 3.13 |
|
This page was generated on 2021-10-15 15:05:58 -0400 (Fri, 15 Oct 2021).
|
To the developers/maintainers of the BiocCaseStudies package: - Please allow up to 24 hours (and sometimes 48 hours) for your latest push to git@git.bioconductor.org:packages/BiocCaseStudies.git to reflect on this report. See How and When does the builder pull? When will my changes propagate? here for more information. - Make sure to use the following settings in order to reproduce any error or warning you see on this page. |
| Package 158/2041 | Hostname | OS / Arch | INSTALL | BUILD | CHECK | BUILD BIN | ||||||||
Bioconductor Package Maintainer
| nebbiolo1 | Linux (Ubuntu 20.04.2 LTS) / x86_64 | OK | OK | ERROR | |||||||||
| tokay2 | Windows Server 2012 R2 Standard / x64 | OK | OK | ERROR | OK | |||||||||
| machv2 | macOS 10.14.6 Mojave / x86_64 | OK | OK | ERROR | OK | |||||||||
| Package: BiocCaseStudies |
| Version: 1.54.0 |
| Command: rm -rf BiocCaseStudies.buildbin-libdir && mkdir BiocCaseStudies.buildbin-libdir && C:\Users\biocbuild\bbs-3.13-bioc\R\bin\R.exe CMD INSTALL --merge-multiarch --build --library=BiocCaseStudies.buildbin-libdir BiocCaseStudies_1.54.0.tar.gz |
| StartedAt: 2021-10-15 08:12:58 -0400 (Fri, 15 Oct 2021) |
| EndedAt: 2021-10-15 08:14:35 -0400 (Fri, 15 Oct 2021) |
| EllapsedTime: 96.5 seconds |
| RetCode: 0 |
| Status: OK |
| PackageFile: BiocCaseStudies_1.54.0.zip |
| PackageFileSize: 53.77 KiB |
##############################################################################
##############################################################################
###
### Running command:
###
### rm -rf BiocCaseStudies.buildbin-libdir && mkdir BiocCaseStudies.buildbin-libdir && C:\Users\biocbuild\bbs-3.13-bioc\R\bin\R.exe CMD INSTALL --merge-multiarch --build --library=BiocCaseStudies.buildbin-libdir BiocCaseStudies_1.54.0.tar.gz
###
##############################################################################
##############################################################################
install for i386
* installing *source* package 'BiocCaseStudies' ...
** using staged installation
** R
** byte-compile and prepare package for lazy loading
** help
*** installing help indices
converting help for package 'BiocCaseStudies'
finding HTML links ... done
fixedWidthCat html
markup html
mySessionInfo html
parseLibVers html
requiredPackages html
resample html
** building package indices
** testing if installed package can be loaded from temporary location
Warning: Package 'BiocCaseStudies' is deprecated and will be removed from
Bioconductor version 3.14
** testing if installed package can be loaded from final location
Warning: Package 'BiocCaseStudies' is deprecated and will be removed from
Bioconductor version 3.14
** testing if installed package keeps a record of temporary installation path
install for x64
* installing *source* package 'BiocCaseStudies' ...
** testing if installed package can be loaded
Warning: Package 'BiocCaseStudies' is deprecated and will be removed from
Bioconductor version 3.14
* MD5 sums
packaged installation of 'BiocCaseStudies' as BiocCaseStudies_1.54.0.zip
* DONE (BiocCaseStudies)