| Back to Multiple platform build/check report for BioC 3.13 |
|
This page was generated on 2021-10-15 15:05:59 -0400 (Fri, 15 Oct 2021).
|
To the developers/maintainers of the BioTIP package: - Please allow up to 24 hours (and sometimes 48 hours) for your latest push to git@git.bioconductor.org:packages/BioTIP.git to reflect on this report. See How and When does the builder pull? When will my changes propagate? here for more information. - Make sure to use the following settings in order to reproduce any error or warning you see on this page. |
| Package 191/2041 | Hostname | OS / Arch | INSTALL | BUILD | CHECK | BUILD BIN | ||||||||
| BioTIP 1.6.0 (landing page) Yuxi (Jennifer) Sun
| nebbiolo1 | Linux (Ubuntu 20.04.2 LTS) / x86_64 | OK | OK | WARNINGS | |||||||||
| tokay2 | Windows Server 2012 R2 Standard / x64 | OK | OK | WARNINGS | OK | |||||||||
| machv2 | macOS 10.14.6 Mojave / x86_64 | OK | OK | WARNINGS | OK | |||||||||
| Package: BioTIP |
| Version: 1.6.0 |
| Command: C:\cygwin\bin\curl.exe -O http://155.52.207.165/BBS/3.13/bioc/src/contrib/BioTIP_1.6.0.tar.gz && rm -rf BioTIP.buildbin-libdir && mkdir BioTIP.buildbin-libdir && C:\Users\biocbuild\bbs-3.13-bioc\R\bin\R.exe CMD INSTALL --merge-multiarch --build --library=BioTIP.buildbin-libdir BioTIP_1.6.0.tar.gz && C:\Users\biocbuild\bbs-3.13-bioc\R\bin\R.exe CMD INSTALL BioTIP_1.6.0.zip && rm BioTIP_1.6.0.tar.gz BioTIP_1.6.0.zip |
| StartedAt: 2021-10-14 09:07:55 -0400 (Thu, 14 Oct 2021) |
| EndedAt: 2021-10-14 09:09:06 -0400 (Thu, 14 Oct 2021) |
| EllapsedTime: 71.1 seconds |
| RetCode: 0 |
| Status: OK |
##############################################################################
##############################################################################
###
### Running command:
###
### C:\cygwin\bin\curl.exe -O http://155.52.207.165/BBS/3.13/bioc/src/contrib/BioTIP_1.6.0.tar.gz && rm -rf BioTIP.buildbin-libdir && mkdir BioTIP.buildbin-libdir && C:\Users\biocbuild\bbs-3.13-bioc\R\bin\R.exe CMD INSTALL --merge-multiarch --build --library=BioTIP.buildbin-libdir BioTIP_1.6.0.tar.gz && C:\Users\biocbuild\bbs-3.13-bioc\R\bin\R.exe CMD INSTALL BioTIP_1.6.0.zip && rm BioTIP_1.6.0.tar.gz BioTIP_1.6.0.zip
###
##############################################################################
##############################################################################
% Total % Received % Xferd Average Speed Time Time Time Current
Dload Upload Total Spent Left Speed
0 0 0 0 0 0 0 0 --:--:-- --:--:-- --:--:-- 0
20 6110k 20 1243k 0 0 1655k 0 0:00:03 --:--:-- 0:00:03 1655k
68 6110k 68 4167k 0 0 2379k 0 0:00:02 0:00:01 0:00:01 2379k
100 6110k 100 6110k 0 0 2687k 0 0:00:02 0:00:02 --:--:-- 2688k
install for i386
* installing *source* package 'BioTIP' ...
** using staged installation
** R
** data
*** moving datasets to lazyload DB
** byte-compile and prepare package for lazy loading
** help
*** installing help indices
converting help for package 'BioTIP'
finding HTML links ... done
BioTIP-package html
GSE6136_cli html
GSE6136_matrix html
ILEF html
avg.cor.shrink html
cod html
cor.shrink html
gencode html
getBiotypes html
getCTS html
getCluster_methods html
getIc html
getIc.new html
getMCI html
finding level-2 HTML links ... done
getMCI_inner html
getMaxMCImember html
getMaxStats html
getNetwork html
getReadthrough html
intron html
optimize.sd_selection html
plotBar_MCI html
plotIc html
plotMaxMCI html
plot_Ic_Simulation html
plot_MCI_Simulation html
plot_SS_Simulation html
sd_selection html
simulationMCI html
simulation_Ic html
simulation_Ic_sample html
** building package indices
** installing vignettes
** testing if installed package can be loaded from temporary location
** testing if installed package can be loaded from final location
** testing if installed package keeps a record of temporary installation path
install for x64
* installing *source* package 'BioTIP' ...
** testing if installed package can be loaded
* MD5 sums
packaged installation of 'BioTIP' as BioTIP_1.6.0.zip
* DONE (BioTIP)
* installing to library 'C:/Users/biocbuild/bbs-3.13-bioc/R/library'
package 'BioTIP' successfully unpacked and MD5 sums checked