| Back to Multiple platform build/check report for BioC 3.13 |
|
This page was generated on 2021-10-15 15:05:58 -0400 (Fri, 15 Oct 2021).
|
To the developers/maintainers of the BioNERO package: - Please allow up to 24 hours (and sometimes 48 hours) for your latest push to git@git.bioconductor.org:packages/BioNERO.git to reflect on this report. See How and When does the builder pull? When will my changes propagate? here for more information. - Make sure to use the following settings in order to reproduce any error or warning you see on this page. |
| Package 185/2041 | Hostname | OS / Arch | INSTALL | BUILD | CHECK | BUILD BIN | ||||||||
| BioNERO 1.0.4 (landing page) Fabricio Almeida-Silva
| nebbiolo1 | Linux (Ubuntu 20.04.2 LTS) / x86_64 | OK | OK | OK | |||||||||
| tokay2 | Windows Server 2012 R2 Standard / x64 | OK | OK | OK | OK | |||||||||
| machv2 | macOS 10.14.6 Mojave / x86_64 | OK | OK | OK | OK | |||||||||
| Package: BioNERO |
| Version: 1.0.4 |
| Command: rm -rf BioNERO.buildbin-libdir && mkdir BioNERO.buildbin-libdir && C:\Users\biocbuild\bbs-3.13-bioc\R\bin\R.exe CMD INSTALL --merge-multiarch --build --library=BioNERO.buildbin-libdir BioNERO_1.0.4.tar.gz |
| StartedAt: 2021-10-15 08:17:00 -0400 (Fri, 15 Oct 2021) |
| EndedAt: 2021-10-15 08:18:25 -0400 (Fri, 15 Oct 2021) |
| EllapsedTime: 85.2 seconds |
| RetCode: 0 |
| Status: OK |
| PackageFile: BioNERO_1.0.4.zip |
| PackageFileSize: 3.861 MiB |
##############################################################################
##############################################################################
###
### Running command:
###
### rm -rf BioNERO.buildbin-libdir && mkdir BioNERO.buildbin-libdir && C:\Users\biocbuild\bbs-3.13-bioc\R\bin\R.exe CMD INSTALL --merge-multiarch --build --library=BioNERO.buildbin-libdir BioNERO_1.0.4.tar.gz
###
##############################################################################
##############################################################################
install for i386
* installing *source* package 'BioNERO' ...
** using staged installation
** R
** data
** inst
** byte-compile and prepare package for lazy loading
** help
*** installing help indices
converting help for package 'BioNERO'
finding HTML links ... done
PC_correction html
SFT_fit html
ZKfiltering html
check_SFT html
consensus_SFT_fit html
consensus_modules html
consensus_trait_cor html
cormat_to_edgelist html
detect_communities html
dfs2one html
enrichment_analysis html
exp2gcn html
exp2grn html
exp_genes2orthogroups html
exp_preprocess html
filt.se html
filter_by_variance html
gene_significance html
get_HK html
get_edge_list html
get_hubs_gcn html
get_hubs_grn html
get_neighbors html
grn_average_rank html
grn_combined html
grn_filter html
grn_infer html
is_singleton html
modPres_WGCNA html
modPres_netrep html
module_enrichment html
module_preservation html
module_stability html
module_trait_cor html
net_stats html
og.zma.osa html
osa.se html
parse_orthofinder html
plot_PCA html
plot_dendro_and_colors html
plot_dendro_and_cons_colors html
plot_eigengene_network html
plot_expression_profile html
plot_gcn html
plot_grn html
plot_heatmap html
plot_ngenes_per_module html
plot_ppi html
q_normalize html
remove_nonexp html
replace_na html
zma.interpro html
zma.se html
zma.tfs html
*** copying figures
** building package indices
** installing vignettes
** testing if installed package can be loaded from temporary location
** testing if installed package can be loaded from final location
** testing if installed package keeps a record of temporary installation path
install for x64
* installing *source* package 'BioNERO' ...
** testing if installed package can be loaded
* MD5 sums
packaged installation of 'BioNERO' as BioNERO_1.0.4.zip
* DONE (BioNERO)