| Back to Multiple platform build/check report for BioC 3.13 |
|
This page was generated on 2021-10-15 15:05:58 -0400 (Fri, 15 Oct 2021).
|
To the developers/maintainers of the BioMM package: - Please allow up to 24 hours (and sometimes 48 hours) for your latest push to git@git.bioconductor.org:packages/BioMM.git to reflect on this report. See How and When does the builder pull? When will my changes propagate? here for more information. - Make sure to use the following settings in order to reproduce any error or warning you see on this page. |
| Package 182/2041 | Hostname | OS / Arch | INSTALL | BUILD | CHECK | BUILD BIN | ||||||||
| BioMM 1.8.0 (landing page) Junfang Chen
| nebbiolo1 | Linux (Ubuntu 20.04.2 LTS) / x86_64 | OK | OK | OK | |||||||||
| tokay2 | Windows Server 2012 R2 Standard / x64 | OK | OK | OK | OK | |||||||||
| machv2 | macOS 10.14.6 Mojave / x86_64 | OK | OK | OK | OK | |||||||||
| Package: BioMM |
| Version: 1.8.0 |
| Command: C:\cygwin\bin\curl.exe -O http://155.52.207.165/BBS/3.13/bioc/src/contrib/BioMM_1.8.0.tar.gz && rm -rf BioMM.buildbin-libdir && mkdir BioMM.buildbin-libdir && C:\Users\biocbuild\bbs-3.13-bioc\R\bin\R.exe CMD INSTALL --merge-multiarch --build --library=BioMM.buildbin-libdir BioMM_1.8.0.tar.gz && C:\Users\biocbuild\bbs-3.13-bioc\R\bin\R.exe CMD INSTALL BioMM_1.8.0.zip && rm BioMM_1.8.0.tar.gz BioMM_1.8.0.zip |
| StartedAt: 2021-10-14 08:38:18 -0400 (Thu, 14 Oct 2021) |
| EndedAt: 2021-10-14 08:39:13 -0400 (Thu, 14 Oct 2021) |
| EllapsedTime: 55.0 seconds |
| RetCode: 0 |
| Status: OK |
##############################################################################
##############################################################################
###
### Running command:
###
### C:\cygwin\bin\curl.exe -O http://155.52.207.165/BBS/3.13/bioc/src/contrib/BioMM_1.8.0.tar.gz && rm -rf BioMM.buildbin-libdir && mkdir BioMM.buildbin-libdir && C:\Users\biocbuild\bbs-3.13-bioc\R\bin\R.exe CMD INSTALL --merge-multiarch --build --library=BioMM.buildbin-libdir BioMM_1.8.0.tar.gz && C:\Users\biocbuild\bbs-3.13-bioc\R\bin\R.exe CMD INSTALL BioMM_1.8.0.zip && rm BioMM_1.8.0.tar.gz BioMM_1.8.0.zip
###
##############################################################################
##############################################################################
% Total % Received % Xferd Average Speed Time Time Time Current
Dload Upload Total Spent Left Speed
0 0 0 0 0 0 0 0 --:--:-- --:--:-- --:--:-- 0
12 2551k 12 307k 0 0 1008k 0 0:00:02 --:--:-- 0:00:02 1007k
100 2551k 100 2551k 0 0 2149k 0 0:00:01 0:00:01 --:--:-- 2151k
install for i386
* installing *source* package 'BioMM' ...
** using staged installation
** R
** inst
** byte-compile and prepare package for lazy loading
** help
*** installing help indices
converting help for package 'BioMM'
finding HTML links ... done
BioMM html
BioMMstage2pred html
baseGLMnet html
baseModel html
baseRandForest html
baseSVM html
cirPlot4pathway html
classifiACC html
getDataByFilter html
getMetrics html
omics2pathlist html
plotRankedFeature html
plotVarExplained html
predByBS html
predByCV html
predByFS html
reconBySupervised html
reconByUnsupervised html
** building package indices
** installing vignettes
** testing if installed package can be loaded from temporary location
** testing if installed package can be loaded from final location
** testing if installed package keeps a record of temporary installation path
install for x64
* installing *source* package 'BioMM' ...
** testing if installed package can be loaded
* MD5 sums
packaged installation of 'BioMM' as BioMM_1.8.0.zip
* DONE (BioMM)
* installing to library 'C:/Users/biocbuild/bbs-3.13-bioc/R/library'
package 'BioMM' successfully unpacked and MD5 sums checked