| Back to Multiple platform build/check report for BioC 3.13 |
|
This page was generated on 2021-10-15 15:05:59 -0400 (Fri, 15 Oct 2021).
|
To the developers/maintainers of the BiSeq package: - Please allow up to 24 hours (and sometimes 48 hours) for your latest push to git@git.bioconductor.org:packages/BiSeq.git to reflect on this report. See How and When does the builder pull? When will my changes propagate? here for more information. - Make sure to use the following settings in order to reproduce any error or warning you see on this page. |
| Package 196/2041 | Hostname | OS / Arch | INSTALL | BUILD | CHECK | BUILD BIN | ||||||||
| BiSeq 1.32.0 (landing page) Katja Hebestreit
| nebbiolo1 | Linux (Ubuntu 20.04.2 LTS) / x86_64 | OK | OK | OK | |||||||||
| tokay2 | Windows Server 2012 R2 Standard / x64 | OK | OK | OK | OK | |||||||||
| machv2 | macOS 10.14.6 Mojave / x86_64 | OK | OK | OK | OK | |||||||||
| Package: BiSeq |
| Version: 1.32.0 |
| Command: rm -rf BiSeq.buildbin-libdir && mkdir BiSeq.buildbin-libdir && C:\Users\biocbuild\bbs-3.13-bioc\R\bin\R.exe --arch x64 CMD INSTALL --no-multiarch --build --library=BiSeq.buildbin-libdir BiSeq_1.32.0.tar.gz |
| StartedAt: 2021-10-15 08:18:33 -0400 (Fri, 15 Oct 2021) |
| EndedAt: 2021-10-15 08:19:59 -0400 (Fri, 15 Oct 2021) |
| EllapsedTime: 85.7 seconds |
| RetCode: 0 |
| Status: OK |
| PackageFile: BiSeq_1.32.0.zip |
| PackageFileSize: 1.283 MiB |
##############################################################################
##############################################################################
###
### Running command:
###
### rm -rf BiSeq.buildbin-libdir && mkdir BiSeq.buildbin-libdir && C:\Users\biocbuild\bbs-3.13-bioc\R\bin\R.exe --arch x64 CMD INSTALL --no-multiarch --build --library=BiSeq.buildbin-libdir BiSeq_1.32.0.tar.gz
###
##############################################################################
##############################################################################
* installing *source* package 'BiSeq' ...
** using staged installation
** R
** data
** inst
** byte-compile and prepare package for lazy loading
** help
*** installing help indices
converting help for package 'BiSeq'
finding HTML links ... done
BSraw-class html
finding level-2 HTML links ... done
BSrel-class html
DMRs html
annotateGRanges html
betaRegression html
betaResults html
betaResultsNull html
binomLikelihoodSmooth html
clusterSites html
clusterSitesToGR html
compareTwoSamples html
covBoxplots html
covStatistics html
estLocCor html
filterByCov html
filterBySharedRegions html
findDMRs html
globalTest html
limitCov html
logisticRegression html
makeVariogram html
plotBindingSites html
plotMeth html
plotMethMap html
plotSmoothMeth html
predictMeth html
predictedMeth html
promoters html
rawToRel html
readBismark html
rrbs html
smoothVariogram html
summarizeRegions html
testClusters html
trimClusters html
vario html
writeBED html
** building package indices
** installing vignettes
** testing if installed package can be loaded from temporary location
** testing if installed package can be loaded from final location
** testing if installed package keeps a record of temporary installation path
* MD5 sums
packaged installation of 'BiSeq' as BiSeq_1.32.0.zip
* DONE (BiSeq)