| Back to Multiple platform build/check report for BioC 3.13 |
|
This page was generated on 2021-10-15 15:05:58 -0400 (Fri, 15 Oct 2021).
|
To the developers/maintainers of the BgeeCall package: - Please allow up to 24 hours (and sometimes 48 hours) for your latest push to git@git.bioconductor.org:packages/BgeeCall.git to reflect on this report. See How and When does the builder pull? When will my changes propagate? here for more information. - Make sure to use the following settings in order to reproduce any error or warning you see on this page. |
| Package 142/2041 | Hostname | OS / Arch | INSTALL | BUILD | CHECK | BUILD BIN | ||||||||
| BgeeCall 1.8.0 (landing page) Julien Wollbrett
| nebbiolo1 | Linux (Ubuntu 20.04.2 LTS) / x86_64 | OK | OK | OK | |||||||||
| tokay2 | Windows Server 2012 R2 Standard / x64 | OK | OK | OK | OK | |||||||||
| machv2 | macOS 10.14.6 Mojave / x86_64 | OK | OK | OK | OK | |||||||||
| Package: BgeeCall |
| Version: 1.8.0 |
| Command: C:\cygwin\bin\curl.exe -O http://155.52.207.165/BBS/3.13/bioc/src/contrib/BgeeCall_1.8.0.tar.gz && rm -rf BgeeCall.buildbin-libdir && mkdir BgeeCall.buildbin-libdir && C:\Users\biocbuild\bbs-3.13-bioc\R\bin\R.exe CMD INSTALL --merge-multiarch --build --library=BgeeCall.buildbin-libdir BgeeCall_1.8.0.tar.gz && C:\Users\biocbuild\bbs-3.13-bioc\R\bin\R.exe CMD INSTALL BgeeCall_1.8.0.zip && rm BgeeCall_1.8.0.tar.gz BgeeCall_1.8.0.zip |
| StartedAt: 2021-10-14 10:31:13 -0400 (Thu, 14 Oct 2021) |
| EndedAt: 2021-10-14 10:33:06 -0400 (Thu, 14 Oct 2021) |
| EllapsedTime: 113.5 seconds |
| RetCode: 0 |
| Status: OK |
##############################################################################
##############################################################################
###
### Running command:
###
### C:\cygwin\bin\curl.exe -O http://155.52.207.165/BBS/3.13/bioc/src/contrib/BgeeCall_1.8.0.tar.gz && rm -rf BgeeCall.buildbin-libdir && mkdir BgeeCall.buildbin-libdir && C:\Users\biocbuild\bbs-3.13-bioc\R\bin\R.exe CMD INSTALL --merge-multiarch --build --library=BgeeCall.buildbin-libdir BgeeCall_1.8.0.tar.gz && C:\Users\biocbuild\bbs-3.13-bioc\R\bin\R.exe CMD INSTALL BgeeCall_1.8.0.zip && rm BgeeCall_1.8.0.tar.gz BgeeCall_1.8.0.zip
###
##############################################################################
##############################################################################
% Total % Received % Xferd Average Speed Time Time Time Current
Dload Upload Total Spent Left Speed
0 0 0 0 0 0 0 0 --:--:-- --:--:-- --:--:-- 0
14 5798k 14 816k 0 0 2070k 0 0:00:02 --:--:-- 0:00:02 2071k
92 5798k 92 5380k 0 0 3817k 0 0:00:01 0:00:01 --:--:-- 3818k
100 5798k 100 5798k 0 0 3904k 0 0:00:01 0:00:01 --:--:-- 3904k
install for i386
* installing *source* package 'BgeeCall' ...
** using staged installation
** R
** inst
** byte-compile and prepare package for lazy loading
** help
*** installing help indices
converting help for package 'BgeeCall'
finding HTML links ... done
AbundanceMetadata-class html
BgeeCall html
BgeeMetadata-class html
KallistoMetadata-class html
UserMetadata-class html
create_kallisto_index html
download_fasta_intergenic html
download_kallisto html
generate_calls_workflow html
generate_presence_absence html
generate_slurm_calls html
generate_slurm_indexes html
getIntergenicPrefix html
getIntergenicRelease html
getRunIds html
getSimpleArborescence html
getWorkingPath html
get_summary_stats html
list_bgee_ref_intergenic_species html
list_community_ref_intergenic_species html
list_intergenic_release html
merge_transcriptome_and_intergenic html
merging_libraries html
run_kallisto html
run_tximport html
setAnnotationFromFile html
setAnnotationFromObject html
setIntergenicRelease html
setOutputDir html
setRNASeqLibPath html
setRunIds html
setSimpleArborescence html
setTranscriptomeFromFile html
setTranscriptomeFromObject html
setWorkingPath html
** building package indices
** installing vignettes
** testing if installed package can be loaded from temporary location
** testing if installed package can be loaded from final location
** testing if installed package keeps a record of temporary installation path
install for x64
* installing *source* package 'BgeeCall' ...
** testing if installed package can be loaded
* MD5 sums
packaged installation of 'BgeeCall' as BgeeCall_1.8.0.zip
* DONE (BgeeCall)
* installing to library 'C:/Users/biocbuild/bbs-3.13-bioc/R/library'
package 'BgeeCall' successfully unpacked and MD5 sums checked