| Back to Multiple platform build/check report for BioC 3.13 |
|
This page was generated on 2021-10-15 15:05:58 -0400 (Fri, 15 Oct 2021).
|
To the developers/maintainers of the BeadDataPackR package: - Please allow up to 24 hours (and sometimes 48 hours) for your latest push to git@git.bioconductor.org:packages/BeadDataPackR.git to reflect on this report. See How and When does the builder pull? When will my changes propagate? here for more information. - Make sure to use the following settings in order to reproduce any error or warning you see on this page. |
| Package 138/2041 | Hostname | OS / Arch | INSTALL | BUILD | CHECK | BUILD BIN | ||||||||
| BeadDataPackR 1.44.0 (landing page) Mike Smith
| nebbiolo1 | Linux (Ubuntu 20.04.2 LTS) / x86_64 | OK | OK | OK | |||||||||
| tokay2 | Windows Server 2012 R2 Standard / x64 | OK | OK | OK | OK | |||||||||
| machv2 | macOS 10.14.6 Mojave / x86_64 | OK | OK | OK | OK | |||||||||
| Package: BeadDataPackR |
| Version: 1.44.0 |
| Command: rm -rf BeadDataPackR.buildbin-libdir && mkdir BeadDataPackR.buildbin-libdir && C:\Users\biocbuild\bbs-3.13-bioc\R\bin\R.exe CMD INSTALL --merge-multiarch --build --library=BeadDataPackR.buildbin-libdir BeadDataPackR_1.44.0.tar.gz |
| StartedAt: 2021-10-15 08:10:29 -0400 (Fri, 15 Oct 2021) |
| EndedAt: 2021-10-15 08:11:35 -0400 (Fri, 15 Oct 2021) |
| EllapsedTime: 66.0 seconds |
| RetCode: 0 |
| Status: OK |
| PackageFile: BeadDataPackR_1.44.0.zip |
| PackageFileSize: 307.3 KiB |
##############################################################################
##############################################################################
###
### Running command:
###
### rm -rf BeadDataPackR.buildbin-libdir && mkdir BeadDataPackR.buildbin-libdir && C:\Users\biocbuild\bbs-3.13-bioc\R\bin\R.exe CMD INSTALL --merge-multiarch --build --library=BeadDataPackR.buildbin-libdir BeadDataPackR_1.44.0.tar.gz
###
##############################################################################
##############################################################################
install for i386
* installing *source* package 'BeadDataPackR' ...
** using staged installation
** libs
"C:/rtools40/mingw32/bin/"gcc -I"C:/Users/BIOCBU~1/BBS-3~1.13-/R/include" -DNDEBUG -I"c:/extsoft/include" -O2 -Wall -std=gnu99 -mfpmath=sse -msse2 -mstackrealign -c BeadDataPackR.c -o BeadDataPackR.o
"C:/rtools40/mingw32/bin/"gcc -I"C:/Users/BIOCBU~1/BBS-3~1.13-/R/include" -DNDEBUG -I"c:/extsoft/include" -O2 -Wall -std=gnu99 -mfpmath=sse -msse2 -mstackrealign -c R_init_BeadDataPackR.c -o R_init_BeadDataPackR.o
C:/rtools40/mingw32/bin/gcc -shared -s -static-libgcc -o BeadDataPackR.dll tmp.def BeadDataPackR.o R_init_BeadDataPackR.o -Lc:/extsoft/lib/i386 -Lc:/extsoft/lib -LC:/Users/BIOCBU~1/BBS-3~1.13-/R/bin/i386 -lR
installing to C:/Users/biocbuild/bbs-3.13-bioc/meat/BeadDataPackR.buildbin-libdir/00LOCK-BeadDataPackR/00new/BeadDataPackR/libs/i386
** R
** inst
** byte-compile and prepare package for lazy loading
** help
*** installing help indices
converting help for package 'BeadDataPackR'
finding HTML links ... done
compressBeadData html
decompressBeadData html
example html
extractLocsFile html
readCompressedData html
** building package indices
** installing vignettes
** testing if installed package can be loaded from temporary location
** testing if installed package can be loaded from final location
** testing if installed package keeps a record of temporary installation path
install for x64
* installing *source* package 'BeadDataPackR' ...
** libs
"C:/rtools40/mingw64/bin/"gcc -I"C:/Users/BIOCBU~1/BBS-3~1.13-/R/include" -DNDEBUG -I"C:/extsoft/include" -O2 -Wall -std=gnu99 -mfpmath=sse -msse2 -mstackrealign -c BeadDataPackR.c -o BeadDataPackR.o
"C:/rtools40/mingw64/bin/"gcc -I"C:/Users/BIOCBU~1/BBS-3~1.13-/R/include" -DNDEBUG -I"C:/extsoft/include" -O2 -Wall -std=gnu99 -mfpmath=sse -msse2 -mstackrealign -c R_init_BeadDataPackR.c -o R_init_BeadDataPackR.o
C:/rtools40/mingw64/bin/gcc -shared -s -static-libgcc -o BeadDataPackR.dll tmp.def BeadDataPackR.o R_init_BeadDataPackR.o -LC:/extsoft/lib/x64 -LC:/extsoft/lib -LC:/Users/BIOCBU~1/BBS-3~1.13-/R/bin/x64 -lR
installing to C:/Users/biocbuild/bbs-3.13-bioc/meat/BeadDataPackR.buildbin-libdir/BeadDataPackR/libs/x64
** testing if installed package can be loaded
* MD5 sums
packaged installation of 'BeadDataPackR' as BeadDataPackR_1.44.0.zip
* DONE (BeadDataPackR)