| Back to Multiple platform build/check report for BioC 3.13 |
|
This page was generated on 2021-10-15 15:05:36 -0400 (Fri, 15 Oct 2021).
|
To the developers/maintainers of the BUSpaRse package: - Please allow up to 24 hours (and sometimes 48 hours) for your latest push to git@git.bioconductor.org:packages/BUSpaRse.git to reflect on this report. See How and When does the builder pull? When will my changes propagate? here for more information. - Make sure to use the following settings in order to reproduce any error or warning you see on this page. |
| Package 227/2041 | Hostname | OS / Arch | INSTALL | BUILD | CHECK | BUILD BIN | ||||||||
| BUSpaRse 1.6.1 (landing page) Lambda Moses
| nebbiolo1 | Linux (Ubuntu 20.04.2 LTS) / x86_64 | OK | OK | OK | |||||||||
| tokay2 | Windows Server 2012 R2 Standard / x64 | OK | OK | OK | OK | |||||||||
| machv2 | macOS 10.14.6 Mojave / x86_64 | OK | OK | OK | OK | |||||||||
| Package: BUSpaRse |
| Version: 1.6.1 |
| Command: /home/biocbuild/bbs-3.13-bioc/R/bin/R CMD INSTALL BUSpaRse |
| StartedAt: 2021-10-14 06:27:27 -0400 (Thu, 14 Oct 2021) |
| EndedAt: 2021-10-14 06:28:24 -0400 (Thu, 14 Oct 2021) |
| EllapsedTime: 57.4 seconds |
| RetCode: 0 |
| Status: OK |
##############################################################################
##############################################################################
###
### Running command:
###
### /home/biocbuild/bbs-3.13-bioc/R/bin/R CMD INSTALL BUSpaRse
###
##############################################################################
##############################################################################
* installing to library ‘/home/biocbuild/bbs-3.13-bioc/R/library’
* installing *source* package ‘BUSpaRse’ ...
** using staged installation
** libs
g++ -std=gnu++11 -I"/home/biocbuild/bbs-3.13-bioc/R/include" -DNDEBUG -I'/home/biocbuild/bbs-3.13-bioc/R/library/Rcpp/include' -I'/home/biocbuild/bbs-3.13-bioc/R/library/RcppArmadillo/include' -I'/home/biocbuild/bbs-3.13-bioc/R/library/RcppProgress/include' -I'/home/biocbuild/bbs-3.13-bioc/R/library/BH/include' -I/usr/local/include -fpic -g -O2 -Wall -c RcppExports.cpp -o RcppExports.o
g++ -std=gnu++11 -I"/home/biocbuild/bbs-3.13-bioc/R/include" -DNDEBUG -I'/home/biocbuild/bbs-3.13-bioc/R/library/Rcpp/include' -I'/home/biocbuild/bbs-3.13-bioc/R/library/RcppArmadillo/include' -I'/home/biocbuild/bbs-3.13-bioc/R/library/RcppProgress/include' -I'/home/biocbuild/bbs-3.13-bioc/R/library/BH/include' -I/usr/local/include -fpic -g -O2 -Wall -c fill_cell_gene.cpp -o fill_cell_gene.o
In file included from /home/biocbuild/bbs-3.13-bioc/R/library/BH/include/boost/mpl/aux_/na_assert.hpp:23,
from /home/biocbuild/bbs-3.13-bioc/R/library/BH/include/boost/mpl/arg.hpp:25,
from /home/biocbuild/bbs-3.13-bioc/R/library/BH/include/boost/mpl/placeholders.hpp:24,
from /home/biocbuild/bbs-3.13-bioc/R/library/BH/include/boost/iterator/iterator_categories.hpp:16,
from /home/biocbuild/bbs-3.13-bioc/R/library/BH/include/boost/iterator/iterator_adaptor.hpp:14,
from /home/biocbuild/bbs-3.13-bioc/R/library/BH/include/boost/token_iterator.hpp:22,
from /home/biocbuild/bbs-3.13-bioc/R/library/BH/include/boost/tokenizer.hpp:20,
from fill_cell_gene.cpp:16:
/home/biocbuild/bbs-3.13-bioc/R/library/BH/include/boost/mpl/assert.hpp:194:21: warning: unnecessary parentheses in declaration of ‘assert_arg’ [-Wparentheses]
194 | failed ************ (Pred::************
| ^
/home/biocbuild/bbs-3.13-bioc/R/library/BH/include/boost/mpl/assert.hpp:199:21: warning: unnecessary parentheses in declaration of ‘assert_not_arg’ [-Wparentheses]
199 | failed ************ (boost::mpl::not_<Pred>::************
| ^
g++ -std=gnu++11 -shared -L/home/biocbuild/bbs-3.13-bioc/R/lib -L/usr/local/lib -o BUSpaRse.so RcppExports.o fill_cell_gene.o -L/home/biocbuild/bbs-3.13-bioc/R/lib -lRlapack -L/home/biocbuild/bbs-3.13-bioc/R/lib -lRblas -lgfortran -lm -lquadmath -L/home/biocbuild/bbs-3.13-bioc/R/lib -lR
installing to /home/biocbuild/bbs-3.13-bioc/R/library/00LOCK-BUSpaRse/00new/BUSpaRse/libs
** R
** data
*** moving datasets to lazyload DB
** inst
** byte-compile and prepare package for lazy loading
** help
*** installing help indices
** building package indices
** installing vignettes
** testing if installed package can be loaded from temporary location
** checking absolute paths in shared objects and dynamic libraries
** testing if installed package can be loaded from final location
** testing if installed package keeps a record of temporary installation path
* DONE (BUSpaRse)