| Back to Multiple platform build/check report for BioC 3.13 |
|
This page was generated on 2021-10-15 15:06:28 -0400 (Fri, 15 Oct 2021).
|
To the developers/maintainers of the BAC package: - Please allow up to 24 hours (and sometimes 48 hours) for your latest push to git@git.bioconductor.org:packages/BAC.git to reflect on this report. See How and When does the builder pull? When will my changes propagate? here for more information. - Make sure to use the following settings in order to reproduce any error or warning you see on this page. |
| Package 107/2041 | Hostname | OS / Arch | INSTALL | BUILD | CHECK | BUILD BIN | ||||||||
| BAC 1.52.0 (landing page) Raphael Gottardo
| nebbiolo1 | Linux (Ubuntu 20.04.2 LTS) / x86_64 | OK | OK | OK | |||||||||
| tokay2 | Windows Server 2012 R2 Standard / x64 | OK | OK | OK | OK | |||||||||
| machv2 | macOS 10.14.6 Mojave / x86_64 | OK | OK | OK | OK | |||||||||
| Package: BAC |
| Version: 1.52.0 |
| Command: rm -rf BAC.buildbin-libdir && mkdir BAC.buildbin-libdir && /Users/biocbuild/BBS/utils/build-universal.sh BAC_1.52.0.tar.gz /Library/Frameworks/R.framework/Versions/Current/Resources/bin/R BAC.buildbin-libdir |
| StartedAt: 2021-10-15 01:38:26 -0400 (Fri, 15 Oct 2021) |
| EndedAt: 2021-10-15 01:39:31 -0400 (Fri, 15 Oct 2021) |
| EllapsedTime: 64.9 seconds |
| RetCode: 0 |
| Status: OK |
| PackageFile: BAC_1.52.0.tgz |
| PackageFileSize: 981 KiB |
##############################################################################
##############################################################################
###
### Running command:
###
### rm -rf BAC.buildbin-libdir && mkdir BAC.buildbin-libdir && /Users/biocbuild/BBS/utils/build-universal.sh BAC_1.52.0.tar.gz /Library/Frameworks/R.framework/Versions/Current/Resources/bin/R BAC.buildbin-libdir
###
##############################################################################
##############################################################################
>>>>>>>
>>>>>>> INSTALLATION WITH 'R CMD INSTALL --preclean --no-multiarch --library=BAC.buildbin-libdir BAC_1.52.0.tar.gz'
>>>>>>>
* installing *source* package ‘BAC’ ...
** using staged installation
** libs
clang -mmacosx-version-min=10.13 -I"/Library/Frameworks/R.framework/Resources/include" -DNDEBUG -I/usr/local/include -fPIC -Wall -g -O2 -c BAC.c -o BAC.o
BAC.c:65:15: warning: implicit conversion from 'double' to 'int' changes value from 0.01 to 0 [-Wliteral-conversion]
w=dvector(*G,0.01);
~~~~~~~ ^~~~
1 warning generated.
clang -mmacosx-version-min=10.13 -I"/Library/Frameworks/R.framework/Resources/include" -DNDEBUG -I/usr/local/include -fPIC -Wall -g -O2 -c util.c -o util.o
clang -mmacosx-version-min=10.13 -dynamiclib -Wl,-headerpad_max_install_names -undefined dynamic_lookup -single_module -multiply_defined suppress -L/Library/Frameworks/R.framework/Resources/lib -L/usr/local/lib -o BAC.so BAC.o util.o -F/Library/Frameworks/R.framework/.. -framework R -Wl,-framework -Wl,CoreFoundation
installing to /Users/biocbuild/bbs-3.13-bioc/meat/BAC.buildbin-libdir/00LOCK-BAC/00new/BAC/libs
** R
** data
** inst
** byte-compile and prepare package for lazy loading
** help
*** installing help indices
** building package indices
** installing vignettes
** testing if installed package can be loaded from temporary location
** checking absolute paths in shared objects and dynamic libraries
** testing if installed package can be loaded from final location
** testing if installed package keeps a record of temporary installation path
* DONE (BAC)
>>>>>>>
>>>>>>> FIXING LINKS FOR BAC.buildbin-libdir/BAC/libs/BAC.so
>>>>>>>
install_name_tool -change "/usr/local/lib/libgcc_s.1.dylib" "/Library/Frameworks/R.framework/Versions/4.1/Resources/lib/libgcc_s.1.dylib" "BAC.buildbin-libdir/BAC/libs/BAC.so"
install_name_tool -change "/usr/local/lib/libgfortran.5.dylib" "/Library/Frameworks/R.framework/Versions/4.1/Resources/lib/libgfortran.5.dylib" "BAC.buildbin-libdir/BAC/libs/BAC.so"
install_name_tool -change "/usr/local/lib/libquadmath.0.dylib" "/Library/Frameworks/R.framework/Versions/4.1/Resources/lib/libquadmath.0.dylib" "BAC.buildbin-libdir/BAC/libs/BAC.so"