| Back to Multiple platform build/check report for BioC 3.13 |
|
This page was generated on 2021-10-15 15:05:57 -0400 (Fri, 15 Oct 2021).
|
To the developers/maintainers of the ArrayExpress package: - Please allow up to 24 hours (and sometimes 48 hours) for your latest push to git@git.bioconductor.org:packages/ArrayExpress.git to reflect on this report. See How and When does the builder pull? When will my changes propagate? here for more information. - Make sure to use the following settings in order to reproduce any error or warning you see on this page. |
| Package 81/2041 | Hostname | OS / Arch | INSTALL | BUILD | CHECK | BUILD BIN | ||||||||
| ArrayExpress 1.52.0 (landing page) Suhaib Mohammed
| nebbiolo1 | Linux (Ubuntu 20.04.2 LTS) / x86_64 | OK | OK | OK | |||||||||
| tokay2 | Windows Server 2012 R2 Standard / x64 | OK | OK | OK | OK | |||||||||
| machv2 | macOS 10.14.6 Mojave / x86_64 | OK | OK | OK | OK | |||||||||
| Package: ArrayExpress |
| Version: 1.52.0 |
| Command: C:\Users\biocbuild\bbs-3.13-bioc\R\bin\R.exe CMD check --force-multiarch --install=check:ArrayExpress.install-out.txt --library=C:\Users\biocbuild\bbs-3.13-bioc\R\library --no-vignettes --timings ArrayExpress_1.52.0.tar.gz |
| StartedAt: 2021-10-14 19:37:06 -0400 (Thu, 14 Oct 2021) |
| EndedAt: 2021-10-14 19:42:44 -0400 (Thu, 14 Oct 2021) |
| EllapsedTime: 338.2 seconds |
| RetCode: 0 |
| Status: OK |
| CheckDir: ArrayExpress.Rcheck |
| Warnings: 0 |
##############################################################################
##############################################################################
###
### Running command:
###
### C:\Users\biocbuild\bbs-3.13-bioc\R\bin\R.exe CMD check --force-multiarch --install=check:ArrayExpress.install-out.txt --library=C:\Users\biocbuild\bbs-3.13-bioc\R\library --no-vignettes --timings ArrayExpress_1.52.0.tar.gz
###
##############################################################################
##############################################################################
* using log directory 'C:/Users/biocbuild/bbs-3.13-bioc/meat/ArrayExpress.Rcheck'
* using R version 4.1.1 (2021-08-10)
* using platform: x86_64-w64-mingw32 (64-bit)
* using session charset: ISO8859-1
* using option '--no-vignettes'
* checking for file 'ArrayExpress/DESCRIPTION' ... OK
* this is package 'ArrayExpress' version '1.52.0'
* checking package namespace information ... OK
* checking package dependencies ... OK
* checking if this is a source package ... OK
* checking if there is a namespace ... OK
* checking for hidden files and directories ... OK
* checking for portable file names ... OK
* checking whether package 'ArrayExpress' can be installed ... OK
* checking installed package size ... OK
* checking package directory ... OK
* checking 'build' directory ... OK
* checking DESCRIPTION meta-information ... NOTE
Malformed Description field: should contain one or more complete sentences.
* checking top-level files ... OK
* checking for left-over files ... OK
* checking index information ... OK
* checking package subdirectories ... OK
* checking R files for non-ASCII characters ... OK
* checking R files for syntax errors ... OK
* loading checks for arch 'i386'
** checking whether the package can be loaded ... OK
** checking whether the package can be loaded with stated dependencies ... OK
** checking whether the package can be unloaded cleanly ... OK
** checking whether the namespace can be loaded with stated dependencies ... OK
** checking whether the namespace can be unloaded cleanly ... OK
* loading checks for arch 'x64'
** checking whether the package can be loaded ... OK
** checking whether the package can be loaded with stated dependencies ... OK
** checking whether the package can be unloaded cleanly ... OK
** checking whether the namespace can be loaded with stated dependencies ... OK
** checking whether the namespace can be unloaded cleanly ... OK
* checking dependencies in R code ... OK
* checking S3 generic/method consistency ... OK
* checking replacement functions ... OK
* checking foreign function calls ... OK
* checking R code for possible problems ... NOTE
ae2bioc: no visible global function definition for 'new'
extract.zip : <anonymous>: no visible global function definition for
'unzip'
getAE : <anonymous>: no visible global function definition for
'download.file'
getAE: no visible global function definition for 'download.file'
getDataColsForAE1: no visible global function definition for
'read.table'
preparePhenoDataFor2channel: no visible global function definition for
'new'
queryAE: no visible global function definition for 'download.file'
readDerivedDataFiles: no visible global function definition for
'read.table'
readDerivedDataFiles: no visible global function definition for 'new'
readDerivedDataMatrixFile: no visible global function definition for
'read.table'
readDerivedDataMatrixFile: no visible global function definition for
'new'
readExperimentData: no visible global function definition for 'new'
readFeatures: no visible global function definition for 'read.table'
readFeatures: no visible global function definition for 'new'
readPhenoData: no visible global function definition for 'new'
Undefined global functions or variables:
download.file new read.table unzip
Consider adding
importFrom("methods", "new")
importFrom("utils", "download.file", "read.table", "unzip")
to your NAMESPACE file (and ensure that your DESCRIPTION Imports field
contains 'methods').
* checking Rd files ... OK
* checking Rd metadata ... OK
* checking Rd cross-references ... OK
* checking for missing documentation entries ... OK
* checking for code/documentation mismatches ... OK
* checking Rd \usage sections ... OK
* checking Rd contents ... OK
* checking for unstated dependencies in examples ... OK
* checking files in 'vignettes' ... OK
* checking examples ...
** running examples for arch 'i386' ... OK
Examples with CPU (user + system) or elapsed time > 5s
user system elapsed
ArrayExpress 10.08 1.04 22.17
queryAE 4.24 0.68 11.99
getAE 3.47 0.39 10.91
** running examples for arch 'x64' ... OK
Examples with CPU (user + system) or elapsed time > 5s
user system elapsed
ArrayExpress 8.49 0.90 31.05
queryAE 4.12 0.16 8.80
getAE 3.35 0.47 31.05
* checking for unstated dependencies in vignettes ... OK
* checking package vignettes in 'inst/doc' ... OK
* checking running R code from vignettes ... SKIPPED
* checking re-building of vignette outputs ... SKIPPED
* checking PDF version of manual ... OK
* DONE
Status: 2 NOTEs
See
'C:/Users/biocbuild/bbs-3.13-bioc/meat/ArrayExpress.Rcheck/00check.log'
for details.
ArrayExpress.Rcheck/00install.out
##############################################################################
##############################################################################
###
### Running command:
###
### C:\cygwin\bin\curl.exe -O http://155.52.207.165/BBS/3.13/bioc/src/contrib/ArrayExpress_1.52.0.tar.gz && rm -rf ArrayExpress.buildbin-libdir && mkdir ArrayExpress.buildbin-libdir && C:\Users\biocbuild\bbs-3.13-bioc\R\bin\R.exe CMD INSTALL --merge-multiarch --build --library=ArrayExpress.buildbin-libdir ArrayExpress_1.52.0.tar.gz && C:\Users\biocbuild\bbs-3.13-bioc\R\bin\R.exe CMD INSTALL ArrayExpress_1.52.0.zip && rm ArrayExpress_1.52.0.tar.gz ArrayExpress_1.52.0.zip
###
##############################################################################
##############################################################################
% Total % Received % Xferd Average Speed Time Time Time Current
Dload Upload Total Spent Left Speed
0 0 0 0 0 0 0 0 --:--:-- --:--:-- --:--:-- 0
100 40958 100 40958 0 0 257k 0 --:--:-- --:--:-- --:--:-- 259k
install for i386
* installing *source* package 'ArrayExpress' ...
** using staged installation
** R
** inst
** byte-compile and prepare package for lazy loading
** help
*** installing help indices
converting help for package 'ArrayExpress'
finding HTML links ... done
ArrayExpress html
ae2bioc html
extract.zip html
getAE html
getcolproc html
getcolraw html
procset html
queryAE html
** building package indices
** installing vignettes
** testing if installed package can be loaded from temporary location
** testing if installed package can be loaded from final location
** testing if installed package keeps a record of temporary installation path
install for x64
* installing *source* package 'ArrayExpress' ...
** testing if installed package can be loaded
* MD5 sums
packaged installation of 'ArrayExpress' as ArrayExpress_1.52.0.zip
* DONE (ArrayExpress)
* installing to library 'C:/Users/biocbuild/bbs-3.13-bioc/R/library'
package 'ArrayExpress' successfully unpacked and MD5 sums checked
|
ArrayExpress.Rcheck/examples_i386/ArrayExpress-Ex.timings
|
ArrayExpress.Rcheck/examples_x64/ArrayExpress-Ex.timings
|