| Back to Multiple platform build/check report for BioC 3.13 |
|
This page was generated on 2021-10-15 15:05:57 -0400 (Fri, 15 Oct 2021).
|
To the developers/maintainers of the Anaquin package: - Please allow up to 24 hours (and sometimes 48 hours) for your latest push to git@git.bioconductor.org:packages/Anaquin.git to reflect on this report. See How and When does the builder pull? When will my changes propagate? here for more information. - Make sure to use the following settings in order to reproduce any error or warning you see on this page. |
| Package 54/2041 | Hostname | OS / Arch | INSTALL | BUILD | CHECK | BUILD BIN | ||||||||
| Anaquin 2.16.0 (landing page) Ted Wong
| nebbiolo1 | Linux (Ubuntu 20.04.2 LTS) / x86_64 | OK | OK | OK | |||||||||
| tokay2 | Windows Server 2012 R2 Standard / x64 | OK | OK | OK | OK | |||||||||
| machv2 | macOS 10.14.6 Mojave / x86_64 | OK | OK | OK | OK | |||||||||
| Package: Anaquin |
| Version: 2.16.0 |
| Command: C:\cygwin\bin\curl.exe -O http://155.52.207.165/BBS/3.13/bioc/src/contrib/Anaquin_2.16.0.tar.gz && rm -rf Anaquin.buildbin-libdir && mkdir Anaquin.buildbin-libdir && C:\Users\biocbuild\bbs-3.13-bioc\R\bin\R.exe CMD INSTALL --merge-multiarch --build --library=Anaquin.buildbin-libdir Anaquin_2.16.0.tar.gz && C:\Users\biocbuild\bbs-3.13-bioc\R\bin\R.exe CMD INSTALL Anaquin_2.16.0.zip && rm Anaquin_2.16.0.tar.gz Anaquin_2.16.0.zip |
| StartedAt: 2021-10-14 09:24:50 -0400 (Thu, 14 Oct 2021) |
| EndedAt: 2021-10-14 09:25:15 -0400 (Thu, 14 Oct 2021) |
| EllapsedTime: 24.8 seconds |
| RetCode: 0 |
| Status: OK |
##############################################################################
##############################################################################
###
### Running command:
###
### C:\cygwin\bin\curl.exe -O http://155.52.207.165/BBS/3.13/bioc/src/contrib/Anaquin_2.16.0.tar.gz && rm -rf Anaquin.buildbin-libdir && mkdir Anaquin.buildbin-libdir && C:\Users\biocbuild\bbs-3.13-bioc\R\bin\R.exe CMD INSTALL --merge-multiarch --build --library=Anaquin.buildbin-libdir Anaquin_2.16.0.tar.gz && C:\Users\biocbuild\bbs-3.13-bioc\R\bin\R.exe CMD INSTALL Anaquin_2.16.0.zip && rm Anaquin_2.16.0.tar.gz Anaquin_2.16.0.zip
###
##############################################################################
##############################################################################
% Total % Received % Xferd Average Speed Time Time Time Current
Dload Upload Total Spent Left Speed
0 0 0 0 0 0 0 0 --:--:-- --:--:-- --:--:-- 0
100 89605 100 89605 0 0 563k 0 --:--:-- --:--:-- --:--:-- 564k
install for i386
* installing *source* package 'Anaquin' ...
** using staged installation
** R
** data
*** moving datasets to lazyload DB
** inst
** byte-compile and prepare package for lazy loading
** help
*** installing help indices
converting help for package 'Anaquin'
finding HTML links ... done
RnaQuinGeneMixture html
RnaQuinIsoformMixture html
UserGuideData_5.4.5.1 html
UserGuideData_5.4.6.3 html
UserGuideData_5.6.3 html
plotConjoint html
plotLOD html
plotLinear html
plotLogistic html
plotROC html
** building package indices
** installing vignettes
** testing if installed package can be loaded from temporary location
** testing if installed package can be loaded from final location
** testing if installed package keeps a record of temporary installation path
install for x64
* installing *source* package 'Anaquin' ...
** testing if installed package can be loaded
* MD5 sums
packaged installation of 'Anaquin' as Anaquin_2.16.0.zip
* DONE (Anaquin)
* installing to library 'C:/Users/biocbuild/bbs-3.13-bioc/R/library'
package 'Anaquin' successfully unpacked and MD5 sums checked