| Back to Multiple platform build/check report for BioC 3.13 |
|
This page was generated on 2021-10-15 15:05:57 -0400 (Fri, 15 Oct 2021).
|
To the developers/maintainers of the AnVILBilling package: - Please allow up to 24 hours (and sometimes 48 hours) for your latest push to git@git.bioconductor.org:packages/AnVILBilling.git to reflect on this report. See How and When does the builder pull? When will my changes propagate? here for more information. - Make sure to use the following settings in order to reproduce any error or warning you see on this page. |
| Package 74/2041 | Hostname | OS / Arch | INSTALL | BUILD | CHECK | BUILD BIN | ||||||||
| AnVILBilling 1.2.0 (landing page) Vince Carey
| nebbiolo1 | Linux (Ubuntu 20.04.2 LTS) / x86_64 | OK | OK | OK | |||||||||
| tokay2 | Windows Server 2012 R2 Standard / x64 | OK | OK | OK | OK | |||||||||
| machv2 | macOS 10.14.6 Mojave / x86_64 | OK | OK | OK | OK | |||||||||
| Package: AnVILBilling |
| Version: 1.2.0 |
| Command: C:\cygwin\bin\curl.exe -O http://155.52.207.165/BBS/3.13/bioc/src/contrib/AnVILBilling_1.2.0.tar.gz && rm -rf AnVILBilling.buildbin-libdir && mkdir AnVILBilling.buildbin-libdir && C:\Users\biocbuild\bbs-3.13-bioc\R\bin\R.exe CMD INSTALL --merge-multiarch --build --library=AnVILBilling.buildbin-libdir AnVILBilling_1.2.0.tar.gz && C:\Users\biocbuild\bbs-3.13-bioc\R\bin\R.exe CMD INSTALL AnVILBilling_1.2.0.zip && rm AnVILBilling_1.2.0.tar.gz AnVILBilling_1.2.0.zip |
| StartedAt: 2021-10-14 09:58:00 -0400 (Thu, 14 Oct 2021) |
| EndedAt: 2021-10-14 09:58:23 -0400 (Thu, 14 Oct 2021) |
| EllapsedTime: 22.8 seconds |
| RetCode: 0 |
| Status: OK |
##############################################################################
##############################################################################
###
### Running command:
###
### C:\cygwin\bin\curl.exe -O http://155.52.207.165/BBS/3.13/bioc/src/contrib/AnVILBilling_1.2.0.tar.gz && rm -rf AnVILBilling.buildbin-libdir && mkdir AnVILBilling.buildbin-libdir && C:\Users\biocbuild\bbs-3.13-bioc\R\bin\R.exe CMD INSTALL --merge-multiarch --build --library=AnVILBilling.buildbin-libdir AnVILBilling_1.2.0.tar.gz && C:\Users\biocbuild\bbs-3.13-bioc\R\bin\R.exe CMD INSTALL AnVILBilling_1.2.0.zip && rm AnVILBilling_1.2.0.tar.gz AnVILBilling_1.2.0.zip
###
##############################################################################
##############################################################################
% Total % Received % Xferd Average Speed Time Time Time Current
Dload Upload Total Spent Left Speed
0 0 0 0 0 0 0 0 --:--:-- --:--:-- --:--:-- 0
100 528k 100 528k 0 0 953k 0 --:--:-- --:--:-- --:--:-- 954k
install for i386
Warning in untar2(tarfile, files, list, exdir, restore_times) :
restoring symbolic link as a file copy
* installing *source* package 'AnVILBilling' ...
** using staged installation
** R
** data
*** moving datasets to lazyload DB
** byte-compile and prepare package for lazy loading
** help
*** installing help indices
converting help for package 'AnVILBilling'
finding HTML links ... done
ab_reckoning html
browse_reck html
demo_rec html
getBilling html
getKeys html
getSkus html
getValues html
reckon html
reckoning-avReckoning-method html
reckoning html
setup_billing_request html
subsetByKeyValue html
subsetBySku html
** building package indices
** installing vignettes
** testing if installed package can be loaded from temporary location
** testing if installed package can be loaded from final location
** testing if installed package keeps a record of temporary installation path
install for x64
Warning in untar2(tarfile, files, list, exdir, restore_times) :
restoring symbolic link as a file copy
* installing *source* package 'AnVILBilling' ...
** testing if installed package can be loaded
* MD5 sums
packaged installation of 'AnVILBilling' as AnVILBilling_1.2.0.zip
* DONE (AnVILBilling)
* installing to library 'C:/Users/biocbuild/bbs-3.13-bioc/R/library'
package 'AnVILBilling' successfully unpacked and MD5 sums checked