| Back to Multiple platform build/check report for BioC 3.13 |
|
This page was generated on 2021-10-15 15:05:58 -0400 (Fri, 15 Oct 2021).
|
To the developers/maintainers of the AWFisher package: - Please allow up to 24 hours (and sometimes 48 hours) for your latest push to git@git.bioconductor.org:packages/AWFisher.git to reflect on this report. See How and When does the builder pull? When will my changes propagate? here for more information. - Make sure to use the following settings in order to reproduce any error or warning you see on this page. |
| Package 104/2041 | Hostname | OS / Arch | INSTALL | BUILD | CHECK | BUILD BIN | ||||||||
| AWFisher 1.6.0 (landing page) Zhiguang Huo
| nebbiolo1 | Linux (Ubuntu 20.04.2 LTS) / x86_64 | OK | OK | OK | |||||||||
| tokay2 | Windows Server 2012 R2 Standard / x64 | OK | OK | OK | OK | |||||||||
| machv2 | macOS 10.14.6 Mojave / x86_64 | OK | OK | OK | OK | |||||||||
| Package: AWFisher |
| Version: 1.6.0 |
| Command: C:\cygwin\bin\curl.exe -O http://155.52.207.165/BBS/3.13/bioc/src/contrib/AWFisher_1.6.0.tar.gz && rm -rf AWFisher.buildbin-libdir && mkdir AWFisher.buildbin-libdir && C:\Users\biocbuild\bbs-3.13-bioc\R\bin\R.exe CMD INSTALL --merge-multiarch --build --library=AWFisher.buildbin-libdir AWFisher_1.6.0.tar.gz && C:\Users\biocbuild\bbs-3.13-bioc\R\bin\R.exe CMD INSTALL AWFisher_1.6.0.zip && rm AWFisher_1.6.0.tar.gz AWFisher_1.6.0.zip |
| StartedAt: 2021-10-14 07:11:05 -0400 (Thu, 14 Oct 2021) |
| EndedAt: 2021-10-14 07:12:30 -0400 (Thu, 14 Oct 2021) |
| EllapsedTime: 85.2 seconds |
| RetCode: 0 |
| Status: OK |
##############################################################################
##############################################################################
###
### Running command:
###
### C:\cygwin\bin\curl.exe -O http://155.52.207.165/BBS/3.13/bioc/src/contrib/AWFisher_1.6.0.tar.gz && rm -rf AWFisher.buildbin-libdir && mkdir AWFisher.buildbin-libdir && C:\Users\biocbuild\bbs-3.13-bioc\R\bin\R.exe CMD INSTALL --merge-multiarch --build --library=AWFisher.buildbin-libdir AWFisher_1.6.0.tar.gz && C:\Users\biocbuild\bbs-3.13-bioc\R\bin\R.exe CMD INSTALL AWFisher_1.6.0.zip && rm AWFisher_1.6.0.tar.gz AWFisher_1.6.0.zip
###
##############################################################################
##############################################################################
% Total % Received % Xferd Average Speed Time Time Time Current
Dload Upload Total Spent Left Speed
0 0 0 0 0 0 0 0 --:--:-- --:--:-- --:--:-- 0
100 1795k 100 1795k 0 0 4232k 0 --:--:-- --:--:-- --:--:-- 4244k
install for i386
* installing *source* package 'AWFisher' ...
** using staged installation
** libs
"C:/rtools40/mingw32/bin/"g++ -std=gnu++11 -I"C:/Users/BIOCBU~1/BBS-3~1.13-/R/include" -DNDEBUG -I"c:/extsoft/include" -O2 -Wall -mfpmath=sse -msse2 -mstackrealign -c AWFisher.cpp -o AWFisher.o
C:/rtools40/mingw32/bin/g++ -std=gnu++11 -shared -s -static-libgcc -o AWFisher.dll tmp.def AWFisher.o -Lc:/extsoft/lib/i386 -Lc:/extsoft/lib -LC:/Users/BIOCBU~1/BBS-3~1.13-/R/bin/i386 -lR
installing to C:/Users/biocbuild/bbs-3.13-bioc/meat/AWFisher.buildbin-libdir/00LOCK-AWFisher/00new/AWFisher/libs/i386
** R
** data
** inst
** byte-compile and prepare package for lazy loading
** help
*** installing help indices
converting help for package 'AWFisher'
finding HTML links ... done
AWFisher_pvalue html
biomarkerCategorization html
data_mouseMetabolism html
function_edgeR html
function_limma html
variabilityIndex html
** building package indices
** installing vignettes
** testing if installed package can be loaded from temporary location
** testing if installed package can be loaded from final location
** testing if installed package keeps a record of temporary installation path
install for x64
* installing *source* package 'AWFisher' ...
** libs
"C:/rtools40/mingw64/bin/"g++ -std=gnu++11 -I"C:/Users/BIOCBU~1/BBS-3~1.13-/R/include" -DNDEBUG -I"C:/extsoft/include" -O2 -Wall -mfpmath=sse -msse2 -mstackrealign -c AWFisher.cpp -o AWFisher.o
C:/rtools40/mingw64/bin/g++ -std=gnu++11 -shared -s -static-libgcc -o AWFisher.dll tmp.def AWFisher.o -LC:/extsoft/lib/x64 -LC:/extsoft/lib -LC:/Users/BIOCBU~1/BBS-3~1.13-/R/bin/x64 -lR
installing to C:/Users/biocbuild/bbs-3.13-bioc/meat/AWFisher.buildbin-libdir/AWFisher/libs/x64
** testing if installed package can be loaded
* MD5 sums
packaged installation of 'AWFisher' as AWFisher_1.6.0.zip
* DONE (AWFisher)
* installing to library 'C:/Users/biocbuild/bbs-3.13-bioc/R/library'
package 'AWFisher' successfully unpacked and MD5 sums checked