| Back to Multiple platform build/check report for BioC 3.13 |
|
This page was generated on 2021-10-15 15:05:57 -0400 (Fri, 15 Oct 2021).
|
To the developers/maintainers of the ALDEx2 package: - Please allow up to 24 hours (and sometimes 48 hours) for your latest push to git@git.bioconductor.org:packages/ALDEx2.git to reflect on this report. See How and When does the builder pull? When will my changes propagate? here for more information. - Make sure to use the following settings in order to reproduce any error or warning you see on this page. |
| Package 42/2041 | Hostname | OS / Arch | INSTALL | BUILD | CHECK | BUILD BIN | ||||||||
| ALDEx2 1.24.0 (landing page) Greg Gloor
| nebbiolo1 | Linux (Ubuntu 20.04.2 LTS) / x86_64 | OK | OK | OK | |||||||||
| tokay2 | Windows Server 2012 R2 Standard / x64 | OK | OK | OK | OK | |||||||||
| machv2 | macOS 10.14.6 Mojave / x86_64 | OK | OK | OK | OK | |||||||||
| Package: ALDEx2 |
| Version: 1.24.0 |
| Command: rm -rf ALDEx2.buildbin-libdir && mkdir ALDEx2.buildbin-libdir && C:\Users\biocbuild\bbs-3.13-bioc\R\bin\R.exe CMD INSTALL --merge-multiarch --build --library=ALDEx2.buildbin-libdir ALDEx2_1.24.0.tar.gz |
| StartedAt: 2021-10-15 07:57:34 -0400 (Fri, 15 Oct 2021) |
| EndedAt: 2021-10-15 07:58:39 -0400 (Fri, 15 Oct 2021) |
| EllapsedTime: 64.9 seconds |
| RetCode: 0 |
| Status: OK |
| PackageFile: ALDEx2_1.24.0.zip |
| PackageFileSize: 735 KiB |
##############################################################################
##############################################################################
###
### Running command:
###
### rm -rf ALDEx2.buildbin-libdir && mkdir ALDEx2.buildbin-libdir && C:\Users\biocbuild\bbs-3.13-bioc\R\bin\R.exe CMD INSTALL --merge-multiarch --build --library=ALDEx2.buildbin-libdir ALDEx2_1.24.0.tar.gz
###
##############################################################################
##############################################################################
install for i386
* installing *source* package 'ALDEx2' ...
** using staged installation
** R
** data
** inst
** byte-compile and prepare package for lazy loading
** help
*** installing help indices
converting help for package 'ALDEx2'
finding HTML links ... done
ALDEx2m-package html
aldex html
aldex.clr-class html
aldex.clr.function-methods html
aldex.corr html
aldex.effect html
aldex.glm html
aldex.glm.effect html
aldex.kw html
aldex.plotFeature html
aldex.set.mode html
aldex.ttest html
expectedDistance html
getDenom-method html
getDirichletInstances-method html
getDirichletReplicate-method html
getDirichletSample-method html
getFeatureNames-method html
getFeatures-method html
getMonteCarloInstances-method html
getMonteCarloReplicate-method html
getMonteCarloSample-method html
getReads-method html
getSampleIDs-method html
numConditions-method html
numFeatures-method html
numMCInstances-method html
plot.aldex html
selex html
synth2 html
** building package indices
** installing vignettes
** testing if installed package can be loaded from temporary location
** testing if installed package can be loaded from final location
** testing if installed package keeps a record of temporary installation path
install for x64
* installing *source* package 'ALDEx2' ...
** testing if installed package can be loaded
* MD5 sums
packaged installation of 'ALDEx2' as ALDEx2_1.24.0.zip
* DONE (ALDEx2)