| Back to Multiple platform build/check report for BioC 3.13 |
|
This page was generated on 2021-10-15 15:05:56 -0400 (Fri, 15 Oct 2021).
|
To the developers/maintainers of the ACE package: - Please allow up to 24 hours (and sometimes 48 hours) for your latest push to git@git.bioconductor.org:packages/ACE.git to reflect on this report. See How and When does the builder pull? When will my changes propagate? here for more information. - Make sure to use the following settings in order to reproduce any error or warning you see on this page. |
| Package 12/2041 | Hostname | OS / Arch | INSTALL | BUILD | CHECK | BUILD BIN | ||||||||
| ACE 1.10.0 (landing page) Jos B Poell
| nebbiolo1 | Linux (Ubuntu 20.04.2 LTS) / x86_64 | OK | OK | OK | |||||||||
| tokay2 | Windows Server 2012 R2 Standard / x64 | OK | OK | OK | OK | |||||||||
| machv2 | macOS 10.14.6 Mojave / x86_64 | OK | OK | OK | OK | |||||||||
| Package: ACE |
| Version: 1.10.0 |
| Command: C:\cygwin\bin\curl.exe -O http://155.52.207.165/BBS/3.13/bioc/src/contrib/ACE_1.10.0.tar.gz && rm -rf ACE.buildbin-libdir && mkdir ACE.buildbin-libdir && C:\Users\biocbuild\bbs-3.13-bioc\R\bin\R.exe CMD INSTALL --merge-multiarch --build --library=ACE.buildbin-libdir ACE_1.10.0.tar.gz && C:\Users\biocbuild\bbs-3.13-bioc\R\bin\R.exe CMD INSTALL ACE_1.10.0.zip && rm ACE_1.10.0.tar.gz ACE_1.10.0.zip |
| StartedAt: 2021-10-14 09:00:01 -0400 (Thu, 14 Oct 2021) |
| EndedAt: 2021-10-14 09:00:51 -0400 (Thu, 14 Oct 2021) |
| EllapsedTime: 49.5 seconds |
| RetCode: 0 |
| Status: OK |
##############################################################################
##############################################################################
###
### Running command:
###
### C:\cygwin\bin\curl.exe -O http://155.52.207.165/BBS/3.13/bioc/src/contrib/ACE_1.10.0.tar.gz && rm -rf ACE.buildbin-libdir && mkdir ACE.buildbin-libdir && C:\Users\biocbuild\bbs-3.13-bioc\R\bin\R.exe CMD INSTALL --merge-multiarch --build --library=ACE.buildbin-libdir ACE_1.10.0.tar.gz && C:\Users\biocbuild\bbs-3.13-bioc\R\bin\R.exe CMD INSTALL ACE_1.10.0.zip && rm ACE_1.10.0.tar.gz ACE_1.10.0.zip
###
##############################################################################
##############################################################################
% Total % Received % Xferd Average Speed Time Time Time Current
Dload Upload Total Spent Left Speed
0 0 0 0 0 0 0 0 --:--:-- --:--:-- --:--:-- 0
100 168k 100 168k 0 0 598k 0 --:--:-- --:--:-- --:--:-- 601k
install for i386
* installing *source* package 'ACE' ...
** using staged installation
** R
** data
*** moving datasets to lazyload DB
** inst
** byte-compile and prepare package for lazy loading
** help
*** installing help indices
converting help for package 'ACE'
finding HTML links ... done
ACE-package html
ACEcall html
analyzegenomiclocations html
compresstemplate html
copyNumbersSegmented html
correlationmatrix html
forcesegmentsontemplate html
getadjustedsegments html
linkvariants html
loopsquaremodel html
objectsampletotemplate html
postanalysisloop html
runACE html
segmentstotemplate html
singlemodel html
singleplot html
squaremodel html
squaremodelsummary html
templatefromequalsegments html
twosamplecompare html
** building package indices
** installing vignettes
** testing if installed package can be loaded from temporary location
** testing if installed package can be loaded from final location
** testing if installed package keeps a record of temporary installation path
install for x64
* installing *source* package 'ACE' ...
** testing if installed package can be loaded
* MD5 sums
packaged installation of 'ACE' as ACE_1.10.0.zip
* DONE (ACE)
* installing to library 'C:/Users/biocbuild/bbs-3.13-bioc/R/library'
package 'ACE' successfully unpacked and MD5 sums checked