| Back to Build/check report for BioC 3.12 experimental data |
|
This page was generated on 2021-05-06 14:10:06 -0400 (Thu, 06 May 2021).
|
To the developers/maintainers of the chipenrich.data package: Please make sure to use the following settings in order to reproduce any error or warning you see on this page. |
| Package 59/398 | Hostname | OS / Arch | INSTALL | BUILD | CHECK | ||||||||
| chipenrich.data 2.14.0 (landing page) Raymond G. Cavalcante
| malbec1 | Linux (Ubuntu 18.04.5 LTS) / x86_64 | OK | OK | OK | ||||||||
| Package: chipenrich.data |
| Version: 2.14.0 |
| Command: /home/biocbuild/bbs-3.12-bioc/R/bin/R CMD build --keep-empty-dirs --no-resave-data chipenrich.data |
| StartedAt: 2021-05-06 10:28:20 -0400 (Thu, 06 May 2021) |
| EndedAt: 2021-05-06 10:30:00 -0400 (Thu, 06 May 2021) |
| EllapsedTime: 100.6 seconds |
| RetCode: 0 |
| Status: OK |
| PackageFile: chipenrich.data_2.14.0.tar.gz |
| PackageFileSize: 73.41 MiB |
##############################################################################
##############################################################################
###
### Running command:
###
### /home/biocbuild/bbs-3.12-bioc/R/bin/R CMD build --keep-empty-dirs --no-resave-data chipenrich.data
###
##############################################################################
##############################################################################
* checking for file ‘chipenrich.data/DESCRIPTION’ ... OK
* preparing ‘chipenrich.data’:
* checking DESCRIPTION meta-information ... OK
* installing the package to build vignettes
* creating vignettes ... OK
Warning: ‘inst/doc’ files
‘chipenrich.data-vignette.Rmd’, ‘chipenrich.data-vignette.html’, ‘chipenrich.data-vignette.R’
ignored as vignettes have been rebuilt.
Run R CMD build with --no-build-vignettes to prevent rebuilding.
* checking for LF line-endings in source and make files and shell scripts
* checking for empty or unneeded directories
* building ‘chipenrich.data_2.14.0.tar.gz’