| Back to Build/check report for BioC 3.12 experimental data | 
  | 
This page was generated on 2021-05-06 14:10:06 -0400 (Thu, 06 May 2021).
| 
To the developers/maintainers of the cMap2data package: Please make sure to use the following settings in order to reproduce any error or warning you see on this page.  | 
| Package 68/398 | Hostname | OS / Arch | INSTALL | BUILD | CHECK | ||||||||
| cMap2data 1.26.0  (landing page) J. Saez-Rodriguez 
  | malbec1 | Linux (Ubuntu 18.04.5 LTS) / x86_64 | OK | OK | OK | ||||||||
| Package: cMap2data | 
| Version: 1.26.0 | 
| Command: /home/biocbuild/bbs-3.12-bioc/R/bin/R CMD build --keep-empty-dirs --no-resave-data cMap2data | 
| StartedAt: 2021-05-06 10:31:23 -0400 (Thu, 06 May 2021) | 
| EndedAt: 2021-05-06 10:31:49 -0400 (Thu, 06 May 2021) | 
| EllapsedTime: 25.7 seconds | 
| RetCode: 0 | 
| Status: OK | 
| PackageFile: cMap2data_1.26.0.tar.gz | 
| PackageFileSize: 27.89 MiB | 
############################################################################## ############################################################################## ### ### Running command: ### ### /home/biocbuild/bbs-3.12-bioc/R/bin/R CMD build --keep-empty-dirs --no-resave-data cMap2data ### ############################################################################## ############################################################################## * checking for file ‘cMap2data/DESCRIPTION’ ... OK * preparing ‘cMap2data’: * checking DESCRIPTION meta-information ... OK * installing the package to build vignettes * creating vignettes ... OK * checking for LF line-endings in source and make files and shell scripts * checking for empty or unneeded directories * building ‘cMap2data_1.26.0.tar.gz’