| Back to Build/check report for BioC 3.12 experimental data |
|
This page was generated on 2021-05-06 14:10:16 -0400 (Thu, 06 May 2021).
|
To the developers/maintainers of the yeastNagalakshmi package: Please make sure to use the following settings in order to reproduce any error or warning you see on this page. |
| Package 394/398 | Hostname | OS / Arch | INSTALL | BUILD | CHECK | ||||||||
| yeastNagalakshmi 1.26.0 (landing page) Bioconductor Package Maintainer
| malbec1 | Linux (Ubuntu 18.04.5 LTS) / x86_64 | OK | OK | OK | ||||||||
| Package: yeastNagalakshmi |
| Version: 1.26.0 |
| Command: /home/biocbuild/bbs-3.12-bioc/R/bin/R CMD build --keep-empty-dirs --no-resave-data yeastNagalakshmi |
| StartedAt: 2021-05-06 11:33:55 -0400 (Thu, 06 May 2021) |
| EndedAt: 2021-05-06 11:33:56 -0400 (Thu, 06 May 2021) |
| EllapsedTime: 1.9 seconds |
| RetCode: 0 |
| Status: OK |
| PackageFile: yeastNagalakshmi_1.26.0.tar.gz |
| PackageFileSize: 14.33 MiB |
############################################################################## ############################################################################## ### ### Running command: ### ### /home/biocbuild/bbs-3.12-bioc/R/bin/R CMD build --keep-empty-dirs --no-resave-data yeastNagalakshmi ### ############################################################################## ############################################################################## * checking for file ‘yeastNagalakshmi/DESCRIPTION’ ... OK * preparing ‘yeastNagalakshmi’: * checking DESCRIPTION meta-information ... OK * checking for LF line-endings in source and make files and shell scripts * checking for empty or unneeded directories * building ‘yeastNagalakshmi_1.26.0.tar.gz’