| Back to Build/check report for BioC 3.12 experimental data |
|
This page was generated on 2021-05-06 14:10:16 -0400 (Thu, 06 May 2021).
|
To the developers/maintainers of the tweeDEseqCountData package: Please make sure to use the following settings in order to reproduce any error or warning you see on this page. |
| Package 383/398 | Hostname | OS / Arch | INSTALL | BUILD | CHECK | ||||||||
| tweeDEseqCountData 1.28.0 (landing page) Juan R Gonzalez
| malbec1 | Linux (Ubuntu 18.04.5 LTS) / x86_64 | OK | OK | OK | ||||||||
| Package: tweeDEseqCountData |
| Version: 1.28.0 |
| Command: /home/biocbuild/bbs-3.12-bioc/R/bin/R CMD check --install=check:tweeDEseqCountData.install-out.txt --library=/home/biocbuild/bbs-3.12-bioc/R/library --no-vignettes --timings tweeDEseqCountData_1.28.0.tar.gz |
| StartedAt: 2021-05-06 12:55:26 -0400 (Thu, 06 May 2021) |
| EndedAt: 2021-05-06 12:55:56 -0400 (Thu, 06 May 2021) |
| EllapsedTime: 29.8 seconds |
| RetCode: 0 |
| Status: OK |
| CheckDir: tweeDEseqCountData.Rcheck |
| Warnings: 0 |
##############################################################################
##############################################################################
###
### Running command:
###
### /home/biocbuild/bbs-3.12-bioc/R/bin/R CMD check --install=check:tweeDEseqCountData.install-out.txt --library=/home/biocbuild/bbs-3.12-bioc/R/library --no-vignettes --timings tweeDEseqCountData_1.28.0.tar.gz
###
##############################################################################
##############################################################################
* using log directory ‘/home/biocbuild/bbs-3.12-data-experiment/meat/tweeDEseqCountData.Rcheck’
* using R version 4.0.5 (2021-03-31)
* using platform: x86_64-pc-linux-gnu (64-bit)
* using session charset: UTF-8
* using option ‘--no-vignettes’
* checking for file ‘tweeDEseqCountData/DESCRIPTION’ ... OK
* this is package ‘tweeDEseqCountData’ version ‘1.28.0’
* checking package namespace information ... OK
* checking package dependencies ... OK
* checking if this is a source package ... OK
* checking if there is a namespace ... OK
* checking for hidden files and directories ... OK
* checking for portable file names ... OK
* checking for sufficient/correct file permissions ... OK
* checking whether package ‘tweeDEseqCountData’ can be installed ... OK
* checking installed package size ... NOTE
installed size is 41.3Mb
sub-directories of 1Mb or more:
data 41.2Mb
* checking package directory ... OK
* checking DESCRIPTION meta-information ... OK
* checking top-level files ... OK
* checking for left-over files ... OK
* checking index information ... OK
* checking package subdirectories ... OK
* checking R files for non-ASCII characters ... OK
* checking R files for syntax errors ... OK
* checking whether the package can be loaded ... OK
* checking whether the package can be loaded with stated dependencies ... OK
* checking whether the package can be unloaded cleanly ... OK
* checking whether the namespace can be loaded with stated dependencies ... OK
* checking whether the namespace can be unloaded cleanly ... OK
* checking dependencies in R code ... NOTE
Package in Depends field not imported from: ‘Biobase’
These packages need to be imported from (in the NAMESPACE file)
for when this namespace is loaded but not attached.
* checking S3 generic/method consistency ... OK
* checking replacement functions ... OK
* checking foreign function calls ... OK
* checking R code for possible problems ... NOTE
NB: .First.lib is obsolete and will not be used in R >= 3.0.0
.First.lib: no visible global function definition for ‘.path.package’
Undefined global functions or variables:
.path.package
* checking Rd files ... OK
* checking Rd metadata ... OK
* checking Rd cross-references ... OK
* checking for missing documentation entries ... OK
* checking for code/documentation mismatches ... OK
* checking Rd \usage sections ... OK
* checking Rd contents ... OK
* checking for unstated dependencies in examples ... OK
* checking contents of ‘data’ directory ... OK
* checking data for non-ASCII characters ... OK
* checking data for ASCII and uncompressed saves ... OK
* checking examples ... OK
* checking PDF version of manual ... OK
* DONE
Status: 3 NOTEs
See
‘/home/biocbuild/bbs-3.12-data-experiment/meat/tweeDEseqCountData.Rcheck/00check.log’
for details.
tweeDEseqCountData.Rcheck/00install.out
############################################################################## ############################################################################## ### ### Running command: ### ### /home/biocbuild/bbs-3.12-bioc/R/bin/R CMD INSTALL tweeDEseqCountData ### ############################################################################## ############################################################################## * installing to library ‘/home/biocbuild/bbs-3.12-bioc/R/library’ * installing *source* package ‘tweeDEseqCountData’ ... ** using staged installation ** R ** data ** byte-compile and prepare package for lazy loading ** help *** installing help indices ** building package indices ** testing if installed package can be loaded from temporary location ** testing if installed package can be loaded from final location ** testing if installed package keeps a record of temporary installation path * DONE (tweeDEseqCountData)
tweeDEseqCountData.Rcheck/tweeDEseqCountData-Ex.timings
| name | user | system | elapsed | |
| annotEnsembl63 | 0.256 | 0.004 | 0.263 | |
| cheung | 0.208 | 0.012 | 0.222 | |
| commonPickrell1Huang | 0.712 | 0.024 | 0.735 | |
| genderGenes | 0.000 | 0.000 | 0.001 | |
| hkGenes | 0.000 | 0.004 | 0.003 | |
| montgomery | 0.216 | 0.008 | 0.226 | |
| pickrell | 0.364 | 0.024 | 0.390 | |