| Back to Build/check report for BioC 3.12 experimental data |
|
This page was generated on 2021-05-06 14:10:16 -0400 (Thu, 06 May 2021).
|
To the developers/maintainers of the tofsimsData package: Please make sure to use the following settings in order to reproduce any error or warning you see on this page. |
| Package 381/398 | Hostname | OS / Arch | INSTALL | BUILD | CHECK | ||||||||
| tofsimsData 1.18.0 (landing page) Lorenz Gerber
| malbec1 | Linux (Ubuntu 18.04.5 LTS) / x86_64 | OK | OK | OK | ||||||||
| Package: tofsimsData |
| Version: 1.18.0 |
| Command: /home/biocbuild/bbs-3.12-bioc/R/bin/R CMD build --keep-empty-dirs --no-resave-data tofsimsData |
| StartedAt: 2021-05-06 11:31:31 -0400 (Thu, 06 May 2021) |
| EndedAt: 2021-05-06 11:31:42 -0400 (Thu, 06 May 2021) |
| EllapsedTime: 10.7 seconds |
| RetCode: 0 |
| Status: OK |
| PackageFile: tofsimsData_1.18.0.tar.gz |
| PackageFileSize: 10.5 MiB |
############################################################################## ############################################################################## ### ### Running command: ### ### /home/biocbuild/bbs-3.12-bioc/R/bin/R CMD build --keep-empty-dirs --no-resave-data tofsimsData ### ############################################################################## ############################################################################## * checking for file ‘tofsimsData/DESCRIPTION’ ... OK * preparing ‘tofsimsData’: * checking DESCRIPTION meta-information ... OK * checking for LF line-endings in source and make files and shell scripts * checking for empty or unneeded directories * looking to see if a ‘data/datalist’ file should be added * building ‘tofsimsData_1.18.0.tar.gz’