| Back to Build/check report for BioC 3.12 experimental data |
|
This page was generated on 2021-05-06 14:10:14 -0400 (Thu, 06 May 2021).
|
To the developers/maintainers of the signatureSearchData package: Please make sure to use the following settings in order to reproduce any error or warning you see on this page. |
| Package 343/398 | Hostname | OS / Arch | INSTALL | BUILD | CHECK | ||||||||
| signatureSearchData 1.4.0 (landing page) Yuzhu Duan
| malbec1 | Linux (Ubuntu 18.04.5 LTS) / x86_64 | OK | OK | OK | ||||||||
| Package: signatureSearchData |
| Version: 1.4.0 |
| Command: /home/biocbuild/bbs-3.12-bioc/R/bin/R CMD check --install=check:signatureSearchData.install-out.txt --library=/home/biocbuild/bbs-3.12-bioc/R/library --no-vignettes --timings signatureSearchData_1.4.0.tar.gz |
| StartedAt: 2021-05-06 12:45:55 -0400 (Thu, 06 May 2021) |
| EndedAt: 2021-05-06 12:49:34 -0400 (Thu, 06 May 2021) |
| EllapsedTime: 219.2 seconds |
| RetCode: 0 |
| Status: OK |
| CheckDir: signatureSearchData.Rcheck |
| Warnings: 0 |
##############################################################################
##############################################################################
###
### Running command:
###
### /home/biocbuild/bbs-3.12-bioc/R/bin/R CMD check --install=check:signatureSearchData.install-out.txt --library=/home/biocbuild/bbs-3.12-bioc/R/library --no-vignettes --timings signatureSearchData_1.4.0.tar.gz
###
##############################################################################
##############################################################################
* using log directory ‘/home/biocbuild/bbs-3.12-data-experiment/meat/signatureSearchData.Rcheck’
* using R version 4.0.5 (2021-03-31)
* using platform: x86_64-pc-linux-gnu (64-bit)
* using session charset: UTF-8
* using option ‘--no-vignettes’
* checking for file ‘signatureSearchData/DESCRIPTION’ ... OK
* this is package ‘signatureSearchData’ version ‘1.4.0’
* package encoding: UTF-8
* checking package namespace information ... OK
* checking package dependencies ... OK
* checking if this is a source package ... OK
* checking if there is a namespace ... OK
* checking for hidden files and directories ... OK
* checking for portable file names ... OK
* checking for sufficient/correct file permissions ... OK
* checking whether package ‘signatureSearchData’ can be installed ... OK
* checking installed package size ... OK
* checking package directory ... OK
* checking ‘build’ directory ... OK
* checking DESCRIPTION meta-information ... OK
* checking top-level files ... OK
* checking for left-over files ... OK
* checking index information ... OK
* checking package subdirectories ... OK
* checking R files for non-ASCII characters ... OK
* checking R files for syntax errors ... OK
* checking whether the package can be loaded ... OK
* checking whether the package can be loaded with stated dependencies ... OK
* checking whether the package can be unloaded cleanly ... OK
* checking whether the namespace can be loaded with stated dependencies ... OK
* checking whether the namespace can be unloaded cleanly ... OK
* checking dependencies in R code ... OK
* checking S3 generic/method consistency ... OK
* checking replacement functions ... OK
* checking foreign function calls ... OK
* checking R code for possible problems ... OK
* checking Rd files ... OK
* checking Rd metadata ... OK
* checking Rd cross-references ... OK
* checking for missing documentation entries ... OK
* checking for code/documentation mismatches ... OK
* checking Rd \usage sections ... OK
* checking Rd contents ... OK
* checking for unstated dependencies in examples ... OK
* checking files in ‘vignettes’ ... OK
* checking examples ... OK
Examples with CPU (user + system) or elapsed time > 5s
user system elapsed
ES_NULL 5.352 0.176 6.499
* checking for unstated dependencies in vignettes ... OK
* checking package vignettes in ‘inst/doc’ ... OK
* checking running R code from vignettes ... SKIPPED
* checking re-building of vignette outputs ... SKIPPED
* checking PDF version of manual ... OK
* DONE
Status: OK
signatureSearchData.Rcheck/00install.out
############################################################################## ############################################################################## ### ### Running command: ### ### /home/biocbuild/bbs-3.12-bioc/R/bin/R CMD INSTALL signatureSearchData ### ############################################################################## ############################################################################## * installing to library ‘/home/biocbuild/bbs-3.12-bioc/R/library’ * installing *source* package ‘signatureSearchData’ ... ** using staged installation ** R ** inst ** byte-compile and prepare package for lazy loading ** help *** installing help indices ** building package indices ** installing vignettes ** testing if installed package can be loaded from temporary location ** testing if installed package can be loaded from final location ** testing if installed package keeps a record of temporary installation path * DONE (signatureSearchData)
signatureSearchData.Rcheck/signatureSearchData-Ex.timings
| name | user | system | elapsed | |
| ES_NULL | 5.352 | 0.176 | 6.499 | |
| GO_DATA | 1.656 | 0.040 | 1.985 | |
| GO_DATA_drug | 1.632 | 0.036 | 1.939 | |
| cmap | 0.064 | 0.000 | 0.062 | |
| cmap_expr | 0.076 | 0.000 | 0.075 | |
| cmap_rank | 0.060 | 0.000 | 0.058 | |
| combineNormRes | 0.004 | 0.000 | 0.001 | |
| combineResults | 0 | 0 | 0 | |
| dtlink_db_clue_sti | 1.848 | 0.036 | 2.159 | |
| getCmapCEL | 0 | 0 | 0 | |
| goAnno | 1.404 | 0.032 | 1.707 | |
| goAnno_drug | 1.536 | 0.016 | 1.834 | |
| inst_filter | 0.004 | 0.000 | 0.007 | |
| lincs | 0.060 | 0.000 | 0.062 | |
| lincs_expr | 0.076 | 0.000 | 0.079 | |
| meanExpr | 0.048 | 0.004 | 0.148 | |
| meanExpr2h5 | 0.416 | 0.056 | 0.550 | |
| normalizeCel | 0.000 | 0.000 | 0.001 | |
| probe2gene | 0.000 | 0.000 | 0.002 | |
| runLimma | 2.128 | 0.000 | 3.032 | |
| sampleList | 1.788 | 0.000 | 1.789 | |
| sig_filter | 0.008 | 0.000 | 0.008 | |
| signatureSearchData | 1.760 | 0.024 | 2.237 | |
| taurefList | 1.384 | 0.028 | 1.725 | |