| Back to Build/check report for BioC 3.12 experimental data |
|
This page was generated on 2021-05-06 14:10:14 -0400 (Thu, 06 May 2021).
|
To the developers/maintainers of the scRNAseq package: Please make sure to use the following settings in order to reproduce any error or warning you see on this page. |
| Package 334/398 | Hostname | OS / Arch | INSTALL | BUILD | CHECK | ||||||||
| scRNAseq 2.4.0 (landing page) Aaron Lun
| malbec1 | Linux (Ubuntu 18.04.5 LTS) / x86_64 | OK | OK | OK | ||||||||
| Package: scRNAseq |
| Version: 2.4.0 |
| Command: /home/biocbuild/bbs-3.12-bioc/R/bin/R CMD check --install=check:scRNAseq.install-out.txt --library=/home/biocbuild/bbs-3.12-bioc/R/library --no-vignettes --timings scRNAseq_2.4.0.tar.gz |
| StartedAt: 2021-05-06 12:44:04 -0400 (Thu, 06 May 2021) |
| EndedAt: 2021-05-06 13:09:17 -0400 (Thu, 06 May 2021) |
| EllapsedTime: 1512.7 seconds |
| RetCode: 0 |
| Status: OK |
| CheckDir: scRNAseq.Rcheck |
| Warnings: 0 |
##############################################################################
##############################################################################
###
### Running command:
###
### /home/biocbuild/bbs-3.12-bioc/R/bin/R CMD check --install=check:scRNAseq.install-out.txt --library=/home/biocbuild/bbs-3.12-bioc/R/library --no-vignettes --timings scRNAseq_2.4.0.tar.gz
###
##############################################################################
##############################################################################
* using log directory ‘/home/biocbuild/bbs-3.12-data-experiment/meat/scRNAseq.Rcheck’
* using R version 4.0.5 (2021-03-31)
* using platform: x86_64-pc-linux-gnu (64-bit)
* using session charset: UTF-8
* using option ‘--no-vignettes’
* checking for file ‘scRNAseq/DESCRIPTION’ ... OK
* this is package ‘scRNAseq’ version ‘2.4.0’
* package encoding: UTF-8
* checking package namespace information ... OK
* checking package dependencies ... OK
* checking if this is a source package ... OK
* checking if there is a namespace ... OK
* checking for hidden files and directories ... OK
* checking for portable file names ... OK
* checking for sufficient/correct file permissions ... OK
* checking whether package ‘scRNAseq’ can be installed ... OK
* checking installed package size ... OK
* checking package directory ... OK
* checking ‘build’ directory ... OK
* checking DESCRIPTION meta-information ... OK
* checking top-level files ... OK
* checking for left-over files ... OK
* checking index information ... OK
* checking package subdirectories ... OK
* checking R files for non-ASCII characters ... OK
* checking R files for syntax errors ... OK
* checking whether the package can be loaded ... OK
* checking whether the package can be loaded with stated dependencies ... OK
* checking whether the package can be unloaded cleanly ... OK
* checking whether the namespace can be loaded with stated dependencies ... OK
* checking whether the namespace can be unloaded cleanly ... OK
* checking dependencies in R code ... OK
* checking S3 generic/method consistency ... OK
* checking replacement functions ... OK
* checking foreign function calls ... OK
* checking R code for possible problems ... OK
* checking Rd files ... OK
* checking Rd metadata ... OK
* checking Rd cross-references ... OK
* checking for missing documentation entries ... OK
* checking for code/documentation mismatches ... OK
* checking Rd \usage sections ... OK
* checking Rd contents ... OK
* checking for unstated dependencies in examples ... OK
* checking files in ‘vignettes’ ... OK
* checking examples ... OK
Examples with CPU (user + system) or elapsed time > 5s
user system elapsed
LunSpikeInData 31.216 0.532 38.031
LaMannoBrainData 29.280 0.452 33.196
StoeckiusHashingData 22.304 0.740 26.162
MessmerESCData 18.492 0.472 20.824
ZilionisLungData 17.080 0.532 24.070
BuettnerESCData 16.704 0.308 19.079
ReprocessedData 15.592 0.260 17.504
SegerstolpePancreasData 15.000 0.352 16.675
BachMammaryData 14.756 0.332 21.625
NestorowaHSCData 14.196 0.732 16.276
ZeiselBrainData 13.960 0.280 15.859
RichardTCellData 13.248 0.320 15.039
BaronPancreasData 12.980 0.208 14.630
KolodziejczykESCData 12.788 0.376 15.819
TasicBrainData 12.420 0.348 14.476
KotliarovPBMCData 12.132 0.232 14.068
MairPBMCData 11.836 0.100 13.308
AztekinTailData 11.368 0.344 13.262
CampbellBrainData 8.928 0.300 10.184
MacoskoRetinaData 8.904 0.236 9.843
UsoskinBrainData 8.864 0.164 9.895
ShekharRetinaData 8.440 0.268 9.420
XinPancreasData 8.516 0.100 9.519
HermannSpermatogenesisData 8.400 0.104 10.922
HuCortexData 8.176 0.276 10.847
ChenBrainData 7.444 0.184 8.570
GrunPancreasData 6.940 0.100 8.448
MuraroPancreasData 6.732 0.204 8.057
PaulHSCData 6.300 0.220 7.345
RomanovBrainData 6.080 0.148 7.168
LawlorPancreasData 6.056 0.088 6.744
MarquesBrainData 6.020 0.084 6.668
LengESCData 5.852 0.088 6.524
* checking for unstated dependencies in ‘tests’ ... OK
* checking tests ...
Running ‘testthat.R’
OK
* checking for unstated dependencies in vignettes ... OK
* checking package vignettes in ‘inst/doc’ ... OK
* checking running R code from vignettes ... SKIPPED
* checking re-building of vignette outputs ... SKIPPED
* checking PDF version of manual ... OK
* DONE
Status: OK
scRNAseq.Rcheck/00install.out
############################################################################## ############################################################################## ### ### Running command: ### ### /home/biocbuild/bbs-3.12-bioc/R/bin/R CMD INSTALL scRNAseq ### ############################################################################## ############################################################################## * installing to library ‘/home/biocbuild/bbs-3.12-bioc/R/library’ * installing *source* package ‘scRNAseq’ ... ** using staged installation ** R ** inst ** byte-compile and prepare package for lazy loading ** help *** installing help indices ** building package indices ** installing vignettes ** testing if installed package can be loaded from temporary location ** testing if installed package can be loaded from final location ** testing if installed package keeps a record of temporary installation path * DONE (scRNAseq)
scRNAseq.Rcheck/tests/testthat.Rout
R version 4.0.5 (2021-03-31) -- "Shake and Throw"
Copyright (C) 2021 The R Foundation for Statistical Computing
Platform: x86_64-pc-linux-gnu (64-bit)
R is free software and comes with ABSOLUTELY NO WARRANTY.
You are welcome to redistribute it under certain conditions.
Type 'license()' or 'licence()' for distribution details.
R is a collaborative project with many contributors.
Type 'contributors()' for more information and
'citation()' on how to cite R or R packages in publications.
Type 'demo()' for some demos, 'help()' for on-line help, or
'help.start()' for an HTML browser interface to help.
Type 'q()' to quit R.
> library(testthat)
> library(scRNAseq)
Loading required package: SingleCellExperiment
Loading required package: SummarizedExperiment
Loading required package: MatrixGenerics
Loading required package: matrixStats
Attaching package: 'MatrixGenerics'
The following objects are masked from 'package:matrixStats':
colAlls, colAnyNAs, colAnys, colAvgsPerRowSet, colCollapse,
colCounts, colCummaxs, colCummins, colCumprods, colCumsums,
colDiffs, colIQRDiffs, colIQRs, colLogSumExps, colMadDiffs,
colMads, colMaxs, colMeans2, colMedians, colMins, colOrderStats,
colProds, colQuantiles, colRanges, colRanks, colSdDiffs, colSds,
colSums2, colTabulates, colVarDiffs, colVars, colWeightedMads,
colWeightedMeans, colWeightedMedians, colWeightedSds,
colWeightedVars, rowAlls, rowAnyNAs, rowAnys, rowAvgsPerColSet,
rowCollapse, rowCounts, rowCummaxs, rowCummins, rowCumprods,
rowCumsums, rowDiffs, rowIQRDiffs, rowIQRs, rowLogSumExps,
rowMadDiffs, rowMads, rowMaxs, rowMeans2, rowMedians, rowMins,
rowOrderStats, rowProds, rowQuantiles, rowRanges, rowRanks,
rowSdDiffs, rowSds, rowSums2, rowTabulates, rowVarDiffs, rowVars,
rowWeightedMads, rowWeightedMeans, rowWeightedMedians,
rowWeightedSds, rowWeightedVars
Loading required package: GenomicRanges
Loading required package: stats4
Loading required package: BiocGenerics
Loading required package: parallel
Attaching package: 'BiocGenerics'
The following objects are masked from 'package:parallel':
clusterApply, clusterApplyLB, clusterCall, clusterEvalQ,
clusterExport, clusterMap, parApply, parCapply, parLapply,
parLapplyLB, parRapply, parSapply, parSapplyLB
The following objects are masked from 'package:stats':
IQR, mad, sd, var, xtabs
The following objects are masked from 'package:base':
Filter, Find, Map, Position, Reduce, anyDuplicated, append,
as.data.frame, basename, cbind, colnames, dirname, do.call,
duplicated, eval, evalq, get, grep, grepl, intersect, is.unsorted,
lapply, mapply, match, mget, order, paste, pmax, pmax.int, pmin,
pmin.int, rank, rbind, rownames, sapply, setdiff, sort, table,
tapply, union, unique, unsplit, which.max, which.min
Loading required package: S4Vectors
Attaching package: 'S4Vectors'
The following object is masked from 'package:base':
expand.grid
Loading required package: IRanges
Loading required package: GenomeInfoDb
Loading required package: Biobase
Welcome to Bioconductor
Vignettes contain introductory material; view with
'browseVignettes()'. To cite Bioconductor, see
'citation("Biobase")', and for packages 'citation("pkgname")'.
Attaching package: 'Biobase'
The following object is masked from 'package:MatrixGenerics':
rowMedians
The following objects are masked from 'package:matrixStats':
anyMissing, rowMedians
> test_check("scRNAseq")
[ FAIL 0 | WARN 37 | SKIP 0 | PASS 118 ]
Warning message:
call dbDisconnect() when finished working with a connection
>
> proc.time()
user system elapsed
673.180 23.288 783.593
scRNAseq.Rcheck/scRNAseq-Ex.timings
| name | user | system | elapsed | |
| AztekinTailData | 11.368 | 0.344 | 13.262 | |
| BachMammaryData | 14.756 | 0.332 | 21.625 | |
| BaronPancreasData | 12.980 | 0.208 | 14.630 | |
| BuettnerESCData | 16.704 | 0.308 | 19.079 | |
| CampbellBrainData | 8.928 | 0.300 | 10.184 | |
| ChenBrainData | 7.444 | 0.184 | 8.570 | |
| ERCCSpikeInConcentrations | 2.964 | 0.036 | 3.489 | |
| GrunHSCData | 3.448 | 0.044 | 4.149 | |
| GrunPancreasData | 6.940 | 0.100 | 8.448 | |
| HermannSpermatogenesisData | 8.400 | 0.104 | 10.922 | |
| HuCortexData | 8.176 | 0.276 | 10.847 | |
| KolodziejczykESCData | 12.788 | 0.376 | 15.819 | |
| KotliarovPBMCData | 12.132 | 0.232 | 14.068 | |
| LaMannoBrainData | 29.280 | 0.452 | 33.196 | |
| LawlorPancreasData | 6.056 | 0.088 | 6.744 | |
| LengESCData | 5.852 | 0.088 | 6.524 | |
| LunSpikeInData | 31.216 | 0.532 | 38.031 | |
| MacoskoRetinaData | 8.904 | 0.236 | 9.843 | |
| MairPBMCData | 11.836 | 0.100 | 13.308 | |
| MarquesBrainData | 6.020 | 0.084 | 6.668 | |
| MessmerESCData | 18.492 | 0.472 | 20.824 | |
| MuraroPancreasData | 6.732 | 0.204 | 8.057 | |
| NestorowaHSCData | 14.196 | 0.732 | 16.276 | |
| PaulHSCData | 6.300 | 0.220 | 7.345 | |
| ReprocessedData | 15.592 | 0.260 | 17.504 | |
| RichardTCellData | 13.248 | 0.320 | 15.039 | |
| RomanovBrainData | 6.080 | 0.148 | 7.168 | |
| SegerstolpePancreasData | 15.000 | 0.352 | 16.675 | |
| ShekharRetinaData | 8.440 | 0.268 | 9.420 | |
| StoeckiusHashingData | 22.304 | 0.740 | 26.162 | |
| TasicBrainData | 12.420 | 0.348 | 14.476 | |
| UsoskinBrainData | 8.864 | 0.164 | 9.895 | |
| WuKidneyData | 3.624 | 0.068 | 4.280 | |
| XinPancreasData | 8.516 | 0.100 | 9.519 | |
| ZeiselBrainData | 13.960 | 0.280 | 15.859 | |
| ZilionisLungData | 17.080 | 0.532 | 24.070 | |
| listDatasets | 0.016 | 0.000 | 0.026 | |