| Back to Build/check report for BioC 3.12 experimental data | 
 | 
This page was generated on 2021-05-06 14:10:14 -0400 (Thu, 06 May 2021).
| To the developers/maintainers of the sampleClassifierData package: Please make sure to use the following settings in order to reproduce any error or warning you see on this page. | 
| Package 330/398 | Hostname | OS / Arch | INSTALL | BUILD | CHECK | ||||||||
| sampleClassifierData 1.14.1  (landing page) Khadija El Amrani 
 | malbec1 | Linux (Ubuntu 18.04.5 LTS) / x86_64 | OK | OK | OK |  | |||||||
| Package: sampleClassifierData | 
| Version: 1.14.1 | 
| Command: /home/biocbuild/bbs-3.12-bioc/R/bin/R CMD build --keep-empty-dirs --no-resave-data sampleClassifierData | 
| StartedAt: 2021-05-06 11:21:41 -0400 (Thu, 06 May 2021) | 
| EndedAt: 2021-05-06 11:22:08 -0400 (Thu, 06 May 2021) | 
| EllapsedTime: 27.7 seconds | 
| RetCode: 0 | 
| Status: OK | 
| PackageFile: sampleClassifierData_1.14.1.tar.gz | 
| PackageFileSize: 15.54 MiB | 
############################################################################## ############################################################################## ### ### Running command: ### ### /home/biocbuild/bbs-3.12-bioc/R/bin/R CMD build --keep-empty-dirs --no-resave-data sampleClassifierData ### ############################################################################## ############################################################################## * checking for file ‘sampleClassifierData/DESCRIPTION’ ... OK * preparing ‘sampleClassifierData’: * checking DESCRIPTION meta-information ... OK * installing the package to process help pages * saving partial Rd database * creating vignettes ... OK * checking for LF line-endings in source and make files and shell scripts * checking for empty or unneeded directories * looking to see if a ‘data/datalist’ file should be added * building ‘sampleClassifierData_1.14.1.tar.gz’