| Back to Build/check report for BioC 3.12 experimental data |
|
This page was generated on 2021-05-06 14:10:13 -0400 (Thu, 06 May 2021).
|
To the developers/maintainers of the rcellminerData package: Please make sure to use the following settings in order to reproduce any error or warning you see on this page. |
| Package 298/398 | Hostname | OS / Arch | INSTALL | BUILD | CHECK | ||||||||
| rcellminerData 2.12.0 (landing page) Augustin Luna
| malbec1 | Linux (Ubuntu 18.04.5 LTS) / x86_64 | OK | OK | WARNINGS | ||||||||
| Package: rcellminerData |
| Version: 2.12.0 |
| Command: /home/biocbuild/bbs-3.12-bioc/R/bin/R CMD build --keep-empty-dirs --no-resave-data rcellminerData |
| StartedAt: 2021-05-06 11:14:15 -0400 (Thu, 06 May 2021) |
| EndedAt: 2021-05-06 11:17:10 -0400 (Thu, 06 May 2021) |
| EllapsedTime: 175.8 seconds |
| RetCode: 0 |
| Status: OK |
| PackageFile: rcellminerData_2.12.0.tar.gz |
| PackageFileSize: 183.6 MiB |
############################################################################## ############################################################################## ### ### Running command: ### ### /home/biocbuild/bbs-3.12-bioc/R/bin/R CMD build --keep-empty-dirs --no-resave-data rcellminerData ### ############################################################################## ############################################################################## * checking for file ‘rcellminerData/DESCRIPTION’ ... OK * preparing ‘rcellminerData’: * checking DESCRIPTION meta-information ... OK * installing the package to build vignettes * creating vignettes ... OK * checking for LF line-endings in source and make files and shell scripts * checking for empty or unneeded directories * building ‘rcellminerData_2.12.0.tar.gz’